BEGIN:VCALENDAR
VERSION:2.0
PRODID:-//COSDT - ECPv6.15.17.1//NONSGML v1.0//EN
CALSCALE:GREGORIAN
METHOD:PUBLISH
X-WR-CALNAME:COSDT
X-ORIGINAL-URL:https://cosdt.me
X-WR-CALDESC:Events for COSDT
REFRESH-INTERVAL;VALUE=DURATION:PT1H
X-Robots-Tag:noindex
X-PUBLISHED-TTL:PT1H
BEGIN:VTIMEZONE
TZID:Europe/Podgorica
BEGIN:DAYLIGHT
TZOFFSETFROM:+0100
TZOFFSETTO:+0200
TZNAME:CEST
DTSTART:20190331T010000
END:DAYLIGHT
BEGIN:STANDARD
TZOFFSETFROM:+0200
TZOFFSETTO:+0100
TZNAME:CET
DTSTART:20191027T010000
END:STANDARD
BEGIN:DAYLIGHT
TZOFFSETFROM:+0100
TZOFFSETTO:+0200
TZNAME:CEST
DTSTART:20200329T010000
END:DAYLIGHT
BEGIN:STANDARD
TZOFFSETFROM:+0200
TZOFFSETTO:+0100
TZNAME:CET
DTSTART:20201025T010000
END:STANDARD
BEGIN:DAYLIGHT
TZOFFSETFROM:+0100
TZOFFSETTO:+0200
TZNAME:CEST
DTSTART:20210328T010000
END:DAYLIGHT
BEGIN:STANDARD
TZOFFSETFROM:+0200
TZOFFSETTO:+0100
TZNAME:CET
DTSTART:20211031T010000
END:STANDARD
BEGIN:DAYLIGHT
TZOFFSETFROM:+0100
TZOFFSETTO:+0200
TZNAME:CEST
DTSTART:20220327T010000
END:DAYLIGHT
BEGIN:STANDARD
TZOFFSETFROM:+0200
TZOFFSETTO:+0100
TZNAME:CET
DTSTART:20221030T010000
END:STANDARD
BEGIN:DAYLIGHT
TZOFFSETFROM:+0100
TZOFFSETTO:+0200
TZNAME:CEST
DTSTART:20230326T010000
END:DAYLIGHT
BEGIN:STANDARD
TZOFFSETFROM:+0200
TZOFFSETTO:+0100
TZNAME:CET
DTSTART:20231029T010000
END:STANDARD
BEGIN:DAYLIGHT
TZOFFSETFROM:+0100
TZOFFSETTO:+0200
TZNAME:CEST
DTSTART:20240331T010000
END:DAYLIGHT
BEGIN:STANDARD
TZOFFSETFROM:+0200
TZOFFSETTO:+0100
TZNAME:CET
DTSTART:20241027T010000
END:STANDARD
BEGIN:DAYLIGHT
TZOFFSETFROM:+0100
TZOFFSETTO:+0200
TZNAME:CEST
DTSTART:20250330T010000
END:DAYLIGHT
BEGIN:STANDARD
TZOFFSETFROM:+0200
TZOFFSETTO:+0100
TZNAME:CET
DTSTART:20251026T010000
END:STANDARD
END:VTIMEZONE
BEGIN:VEVENT
DTSTART;TZID=Europe/Podgorica:20240610T080000
DTEND;TZID=Europe/Podgorica:20240611T170000
DTSTAMP:20260424T204835
CREATED:20240305T114144Z
LAST-MODIFIED:20240305T114144Z
UID:10367-1718006400-1718125200@cosdt.me
SUMMARY:Član 1 Protokola 1 - pravo na imovinu
DESCRIPTION:
URL:https://cosdt.me/seminar/clan-1-protokola-1-pravo-na-imovinu/
LOCATION:Podgorica\, Podgorica\, Montenegro
END:VEVENT
BEGIN:VEVENT
DTSTART;TZID=Europe/Podgorica:20240425T080000
DTEND;TZID=Europe/Podgorica:20240426T170000
DTSTAMP:20260424T204835
CREATED:20240305T114031Z
LAST-MODIFIED:20240305T114031Z
UID:10360-1714032000-1714150800@cosdt.me
SUMMARY:Član 10 - Sloboda izražavanja
DESCRIPTION:
URL:https://cosdt.me/seminar/clan-10-sloboda-izrazavanja-5/
LOCATION:Podgorica\, Podgorica\, Montenegro
END:VEVENT
BEGIN:VEVENT
DTSTART;VALUE=DATE:20200207
DTEND;VALUE=DATE:20200208
DTSTAMP:20260424T204835
CREATED:20200120T092214Z
LAST-MODIFIED:20200120T092214Z
UID:5256-1581033600-1581119999@cosdt.me
SUMMARY:Član 5 Evropske konvencije o ljudskim pravima
DESCRIPTION:Član 5 Evropske konvencije o ljudskim pravima – Podgorica
URL:https://cosdt.me/seminar/clan-5-evropske-konvencije-o-ljudskim-pravima/
LOCATION:Podgorica\, Podgorica\, Montenegro
CATEGORIES:Seminari
END:VEVENT
END:VCALENDAR