BEGIN:VCALENDAR
VERSION:2.0
PRODID:-//COSDT - ECPv6.15.17.1//NONSGML v1.0//EN
CALSCALE:GREGORIAN
METHOD:PUBLISH
X-ORIGINAL-URL:https://cosdt.me
X-WR-CALDESC:Events for COSDT
REFRESH-INTERVAL;VALUE=DURATION:PT1H
X-Robots-Tag:noindex
X-PUBLISHED-TTL:PT1H
BEGIN:VTIMEZONE
TZID:Europe/Podgorica
BEGIN:DAYLIGHT
TZOFFSETFROM:+0100
TZOFFSETTO:+0200
TZNAME:CEST
DTSTART:20180325T010000
END:DAYLIGHT
BEGIN:STANDARD
TZOFFSETFROM:+0200
TZOFFSETTO:+0100
TZNAME:CET
DTSTART:20181028T010000
END:STANDARD
BEGIN:DAYLIGHT
TZOFFSETFROM:+0100
TZOFFSETTO:+0200
TZNAME:CEST
DTSTART:20190331T010000
END:DAYLIGHT
BEGIN:STANDARD
TZOFFSETFROM:+0200
TZOFFSETTO:+0100
TZNAME:CET
DTSTART:20191027T010000
END:STANDARD
BEGIN:DAYLIGHT
TZOFFSETFROM:+0100
TZOFFSETTO:+0200
TZNAME:CEST
DTSTART:20200329T010000
END:DAYLIGHT
BEGIN:STANDARD
TZOFFSETFROM:+0200
TZOFFSETTO:+0100
TZNAME:CET
DTSTART:20201025T010000
END:STANDARD
END:VTIMEZONE
BEGIN:VEVENT
DTSTART;VALUE=DATE:20190610
DTEND;VALUE=DATE:20190615
DTSTAMP:20260424T204958
CREATED:20190531T072330Z
LAST-MODIFIED:20190531T072330Z
UID:4352-1560124800-1560556799@cosdt.me
SUMMARY:Finansijske istrage – EUROL 2
DESCRIPTION:Finansijske istrage – EUROL 2
URL:https://cosdt.me/seminar/finansijske-istrage-eurol-2/
LOCATION:Danilovgrad\, Danilovgrad\, Montenegro
CATEGORIES:Seminari
END:VEVENT
BEGIN:VEVENT
DTSTART;VALUE=DATE:20190408
DTEND;VALUE=DATE:20190413
DTSTAMP:20260424T204958
CREATED:20190304T125851Z
LAST-MODIFIED:20190304T125851Z
UID:3889-1554681600-1555113599@cosdt.me
SUMMARY:EUROL 2\, Finansijske istrage i oduzimanje imovine stečene kriminalnom djelatnošću
DESCRIPTION:– Danilovgrad – Policijska akademija\, 8-12. april – EUROL 2\, Finansijske istrage i oduzimanje imovine stečene kriminalnom djelatnošću
URL:https://cosdt.me/seminar/eurol-2-finansijske-istrage-i-oduzimanje-imovine-stecene-kriminalnom-djelatnoscu-2/
LOCATION:Danilovgrad\, Danilovgrad\, Montenegro
CATEGORIES:Seminari
END:VEVENT
BEGIN:VEVENT
DTSTART;VALUE=DATE:20190325
DTEND;VALUE=DATE:20190330
DTSTAMP:20260424T204958
CREATED:20190304T125417Z
LAST-MODIFIED:20190304T125417Z
UID:3874-1553472000-1553903999@cosdt.me
SUMMARY:EUROL 2\, Finansijske istrage i oduzimanje imovine stečene kriminalnom djelatnošću
DESCRIPTION:– Danilovgrad – Policijska akademija\, 25-29. mart – EUROL 2\, Finansijske istrage i oduzimanje imovine stečene kriminalnom djelatnošću
URL:https://cosdt.me/seminar/eurol-2-finansijske-istrage-i-oduzimanje-imovine-stecene-kriminalnom-djelatnoscu/
LOCATION:Danilovgrad\, Danilovgrad\, Montenegro
CATEGORIES:Seminari
END:VEVENT
END:VCALENDAR