BEGIN:VCALENDAR
VERSION:2.0
PRODID:-//COSDT - ECPv6.15.17.1//NONSGML v1.0//EN
CALSCALE:GREGORIAN
METHOD:PUBLISH
X-ORIGINAL-URL:https://cosdt.me
X-WR-CALDESC:Events for COSDT
REFRESH-INTERVAL;VALUE=DURATION:PT1H
X-Robots-Tag:noindex
X-PUBLISHED-TTL:PT1H
BEGIN:VTIMEZONE
TZID:Europe/Podgorica
BEGIN:DAYLIGHT
TZOFFSETFROM:+0100
TZOFFSETTO:+0200
TZNAME:CEST
DTSTART:20240331T010000
END:DAYLIGHT
BEGIN:STANDARD
TZOFFSETFROM:+0200
TZOFFSETTO:+0100
TZNAME:CET
DTSTART:20241027T010000
END:STANDARD
BEGIN:DAYLIGHT
TZOFFSETFROM:+0100
TZOFFSETTO:+0200
TZNAME:CEST
DTSTART:20250330T010000
END:DAYLIGHT
BEGIN:STANDARD
TZOFFSETFROM:+0200
TZOFFSETTO:+0100
TZNAME:CET
DTSTART:20251026T010000
END:STANDARD
BEGIN:DAYLIGHT
TZOFFSETFROM:+0100
TZOFFSETTO:+0200
TZNAME:CEST
DTSTART:20260329T010000
END:DAYLIGHT
BEGIN:STANDARD
TZOFFSETFROM:+0200
TZOFFSETTO:+0100
TZNAME:CET
DTSTART:20261025T010000
END:STANDARD
END:VTIMEZONE
BEGIN:VEVENT
DTSTART;VALUE=DATE:20250724
DTEND;VALUE=DATE:20250727
DTSTAMP:20260424T110537
CREATED:20250313T112345Z
LAST-MODIFIED:20250313T112345Z
UID:11149-1753315200-1753574399@cosdt.me
SUMMARY:Specijalizovana obuka za sudije za maloljetnike i tužioce za maloljetnike
DESCRIPTION:•	Međunarodni standardi i Zakon o postupanju prema maloljetnicima u krivičnom postupku\n•	Opšte mjere zaštite maloljetnog lica koje je oštećeno krivičnim djelom\, odnosno koje se saslušava kao svjedok u krivičnom postupku\n	forenzički intervju\n	dijete svjedok ili oštećeni \n    Vrijeme potrebno za izvođenje programa:\n        Najmanje jedna  trodnevna  obuka\n        Korisnici: državni tužioci\, sudije\, sudije za prekršaje\n        Predavači:\nDanka Ivanović Đerić\, državna tužiteljka\, Više državno tužilaštvo\nGoran Đuković\, sudija Osnovnog suda u Podgorici\nAna Kalezić\, državna tužiteljka\, Više državno tužilaštvo u Podgorici\nPredrag Tabaš\, sudija Apelacionog suda Crne Gore\nDijana Popović Gavranović\, načelnica Stručne službe za postupanje prema maloljetnicima\, Vrhovo državno tužilaštvo Crne Gore
URL:https://cosdt.me/seminar/specijalizovana-obuka-za-sudije-za-maloljetnike-i-tuzioce-za-maloljetnike/
LOCATION:Podgorica\, Montenegro
GEO:42.4304196;19.2593642
END:VEVENT
END:VCALENDAR