BEGIN:VCALENDAR
VERSION:2.0
PRODID:-//COSDT - ECPv6.15.17.1//NONSGML v1.0//EN
CALSCALE:GREGORIAN
METHOD:PUBLISH
X-WR-CALNAME:COSDT
X-ORIGINAL-URL:https://cosdt.me
X-WR-CALDESC:Events for COSDT
REFRESH-INTERVAL;VALUE=DURATION:PT1H
X-Robots-Tag:noindex
X-PUBLISHED-TTL:PT1H
BEGIN:VTIMEZONE
TZID:Europe/Podgorica
BEGIN:DAYLIGHT
TZOFFSETFROM:+0100
TZOFFSETTO:+0200
TZNAME:CEST
DTSTART:20240331T010000
END:DAYLIGHT
BEGIN:STANDARD
TZOFFSETFROM:+0200
TZOFFSETTO:+0100
TZNAME:CET
DTSTART:20241027T010000
END:STANDARD
BEGIN:DAYLIGHT
TZOFFSETFROM:+0100
TZOFFSETTO:+0200
TZNAME:CEST
DTSTART:20250330T010000
END:DAYLIGHT
BEGIN:STANDARD
TZOFFSETFROM:+0200
TZOFFSETTO:+0100
TZNAME:CET
DTSTART:20251026T010000
END:STANDARD
BEGIN:DAYLIGHT
TZOFFSETFROM:+0100
TZOFFSETTO:+0200
TZNAME:CEST
DTSTART:20260329T010000
END:DAYLIGHT
BEGIN:STANDARD
TZOFFSETFROM:+0200
TZOFFSETTO:+0100
TZNAME:CET
DTSTART:20261025T010000
END:STANDARD
END:VTIMEZONE
BEGIN:VEVENT
DTSTART;VALUE=DATE:20250630
DTEND;VALUE=DATE:20250702
DTSTAMP:20260424T123741
CREATED:20250313T120334Z
LAST-MODIFIED:20250313T120334Z
UID:11201-1751241600-1751414399@cosdt.me
SUMMARY:Prekršajno pravo - teme:
DESCRIPTION:–	Sporna pitanja u primjeni Zakona o prekršajima sa akcentom na prekršajni postupak i obrazloženje odluka;\n–	Nasilje u porodici/porodičnoj zajednici sa fokusom na zaštitu žrtve;\n–	Maloljetnici u prekršajnom postupku sa akcentom na sankcije\n–	Sporna pitanja u primjeni sledećih zakona: Zakona o javnom redu i miru\, Zakona o PDV-u\, Zakona o inspekcijskom nadzoru\, Carinskog zakona\, Zakona o zabrani diskriminacije.\n–	Primjena prakse ESLJP u prekršajnom postupku \nVrijeme potrebno za izvođenje programa:\nDvije obuke (seminar i okrugli sto). Pored toga predviđeno je  učešće sudija za prekršaje na drugim obukama iz Programa za kontinuiranu obuku na teme koje su njima od značaja. \nKorisnici:\nSudije\, predstavnici državnih organa lokalne uprave. \nPredavači: Maja Živaljević\, Larisa Begović\, Alija Beganović\, Marko Đukanović\, Krunislav Obradović\, Slađana Španjević Volkov\, Mirsad Mujević\, Milorad Popović
URL:https://cosdt.me/seminar/prekrsajno-pravo-teme/
LOCATION:Podgorica\, Montenegro
GEO:42.4304196;19.2593642
END:VEVENT
BEGIN:VEVENT
DTSTART;VALUE=DATE:20250703
DTEND;VALUE=DATE:20250705
DTSTAMP:20260424T123741
CREATED:20250313T111206Z
LAST-MODIFIED:20250313T111206Z
UID:11133-1751500800-1751673599@cosdt.me
SUMMARY:Sajber kriminal\, elektronski dokazi i digitalna forenzika
DESCRIPTION:•	Različiti oblici sajber kriminala uključujući krađu identiteta\, sajber napade\, finansijske prevare\, online ucjenjivanje i uznemiravanje\n•	Block chain tehnologije\, kripto valute i online praćenje tokova novca  \nVrijeme potrebno za izvođenje programa:\nJedna dvodnevna obuka\nKorisnici: Sudije\, državni tužioci\nPredavači:\nVesna Pean\, sutkinja Apelacionog suda Crne Gore\nArmin Selmanović\,  državni tužilac u Vrhovnom državnom tužilaštvu;\nBojan Nedović\, Stručna služba za informacione sisteme i digitalne dokaze SDT\nJakša Backović\, viši policijski inspektor prve klase u Upravi policije Crne Gore
URL:https://cosdt.me/seminar/sajber-kriminal-elektronski-dokazi-i-digitalna-forenzika/
LOCATION:Podgorica\, Montenegro
GEO:42.4304196;19.2593642
END:VEVENT
END:VCALENDAR