BEGIN:VCALENDAR
VERSION:2.0
PRODID:-//COSDT - ECPv6.15.17.1//NONSGML v1.0//EN
CALSCALE:GREGORIAN
METHOD:PUBLISH
X-ORIGINAL-URL:https://cosdt.me
X-WR-CALDESC:Events for COSDT
REFRESH-INTERVAL;VALUE=DURATION:PT1H
X-Robots-Tag:noindex
X-PUBLISHED-TTL:PT1H
BEGIN:VTIMEZONE
TZID:Europe/Podgorica
BEGIN:DAYLIGHT
TZOFFSETFROM:+0100
TZOFFSETTO:+0200
TZNAME:CEST
DTSTART:20240331T010000
END:DAYLIGHT
BEGIN:STANDARD
TZOFFSETFROM:+0200
TZOFFSETTO:+0100
TZNAME:CET
DTSTART:20241027T010000
END:STANDARD
BEGIN:DAYLIGHT
TZOFFSETFROM:+0100
TZOFFSETTO:+0200
TZNAME:CEST
DTSTART:20250330T010000
END:DAYLIGHT
BEGIN:STANDARD
TZOFFSETFROM:+0200
TZOFFSETTO:+0100
TZNAME:CET
DTSTART:20251026T010000
END:STANDARD
BEGIN:DAYLIGHT
TZOFFSETFROM:+0100
TZOFFSETTO:+0200
TZNAME:CEST
DTSTART:20260329T010000
END:DAYLIGHT
BEGIN:STANDARD
TZOFFSETFROM:+0200
TZOFFSETTO:+0100
TZNAME:CET
DTSTART:20261025T010000
END:STANDARD
END:VTIMEZONE
BEGIN:VEVENT
DTSTART;VALUE=DATE:20250512
DTEND;VALUE=DATE:20250514
DTSTAMP:20260424T123855
CREATED:20250313T114343Z
LAST-MODIFIED:20250313T114343Z
UID:11177-1747008000-1747180799@cosdt.me
SUMMARY:Radno pravo
DESCRIPTION:•	Mobing i diskriminacija\n•	Zakonitost odluke o izboru\, zasnivanju i prestanku radnog odnosa i   obrazloženje takvih odluka  \nVrijeme potrebno za izvođenje programa:\nJedna dvodnevna obuka\nKorisnici: sudije\nPredavači:\nRanka Vuković\, sutkinja Vrhovnog suda CG u penziji\nSnežana Aleksić\, sutkinja Vrhovnog suda CG u penziji\nTamara Brnović\, sutkinja Višeg suda u Podgorici\nGordana Nikolić\, načelnica u Ministarstvu zdravlja CG
URL:https://cosdt.me/seminar/radno-pravo/
LOCATION:Podgorica\, Montenegro
GEO:42.4304196;19.2593642
END:VEVENT
BEGIN:VEVENT
DTSTART;VALUE=DATE:20250515
DTEND;VALUE=DATE:20250517
DTSTAMP:20260424T123855
CREATED:20250313T110912Z
LAST-MODIFIED:20250313T110912Z
UID:11129-1747267200-1747439999@cosdt.me
SUMMARY:Nasilje u porodici ili porodičnoj zajednici i rodno zasnovano nasilje
DESCRIPTION:•	Primjena Istanbulske konvencije\n•	Postupanje sa žrtvama\n•	Mjere bezbjednosti\n•	Zaštita djece žrtava nasilja\n•	Protokol o postupanju u slučajevima nasilja u porodici\n•	Uputstvo Vrhovnog državnog tužioca u postupanje u predmetima nasilja u porodici\n•	Femicid \nVrijeme potrebno za izvođenje programa:\nNajmanje jedna dvodnevna  obuka\nKorisnici: sudije\, državni tužioci\nPredavači:\n        Danka Živković\, državna tužiteljka u Vrhovnom državnom tužilaštvu\n        Ana Radović\, državna tužiteljka u Višem državnom tužilaštvu u Podgorici\n        Rade Ćetković\, sudija Osnovnog suda u Podgorici\n        Dijana Popović Gavranović\, načelnica Stručne službe za postupanje prema  maloljetnicima\, Vrhovo državno tužilaštvo Crne Gore
URL:https://cosdt.me/seminar/nasilje-u-porodici-ili-porodicnoj-zajednici-i-rodno-zasnovano-nasilje/
LOCATION:Podgorica\, Montenegro
GEO:42.4304196;19.2593642
END:VEVENT
END:VCALENDAR