BEGIN:VCALENDAR
VERSION:2.0
PRODID:-//COSDT - ECPv6.15.17.1//NONSGML v1.0//EN
CALSCALE:GREGORIAN
METHOD:PUBLISH
X-ORIGINAL-URL:https://cosdt.me
X-WR-CALDESC:Events for COSDT
REFRESH-INTERVAL;VALUE=DURATION:PT1H
X-Robots-Tag:noindex
X-PUBLISHED-TTL:PT1H
BEGIN:VTIMEZONE
TZID:Europe/Podgorica
BEGIN:DAYLIGHT
TZOFFSETFROM:+0100
TZOFFSETTO:+0200
TZNAME:CEST
DTSTART:20240331T010000
END:DAYLIGHT
BEGIN:STANDARD
TZOFFSETFROM:+0200
TZOFFSETTO:+0100
TZNAME:CET
DTSTART:20241027T010000
END:STANDARD
BEGIN:DAYLIGHT
TZOFFSETFROM:+0100
TZOFFSETTO:+0200
TZNAME:CEST
DTSTART:20250330T010000
END:DAYLIGHT
BEGIN:STANDARD
TZOFFSETFROM:+0200
TZOFFSETTO:+0100
TZNAME:CET
DTSTART:20251026T010000
END:STANDARD
BEGIN:DAYLIGHT
TZOFFSETFROM:+0100
TZOFFSETTO:+0200
TZNAME:CEST
DTSTART:20260329T010000
END:DAYLIGHT
BEGIN:STANDARD
TZOFFSETFROM:+0200
TZOFFSETTO:+0100
TZNAME:CET
DTSTART:20261025T010000
END:STANDARD
END:VTIMEZONE
BEGIN:VEVENT
DTSTART;VALUE=DATE:20250506
DTEND;VALUE=DATE:20250508
DTSTAMP:20260424T141307
CREATED:20250313T111651Z
LAST-MODIFIED:20250313T111651Z
UID:11139-1746489600-1746662399@cosdt.me
SUMMARY:Krivični aspekt prava intelektualne svojine
DESCRIPTION:•	Zakonodavni okvir za zaštitu intelektualne svojine\n•	Prekršajne odredbe Zakona o autorskom i srodnim pravima i drugih zakona\n•	Krivična djela protiv intelektualne svojine – pravni izazovi zaštite intelektualne svojine \nVrijeme potrebno za izvođenje programa:\nJedna dvodnevna obuka\nKorisnici: sudije za prekršaje\, sudije redovnih sudova\, državni tužioci i policijski službenici\nPredavači:\nRadovan Đurišić\, rukovodilac Osnovnog državnog tužilaštva u Baru\nMaja Živaljević\, sutkinja Višeg suda za prekršaje
URL:https://cosdt.me/seminar/krivicni-aspekt-prava-intelektualne-svojine/
LOCATION:Podgorica\, Montenegro
GEO:42.4304196;19.2593642
END:VEVENT
BEGIN:VEVENT
DTSTART;VALUE=DATE:20250506
DTEND;VALUE=DATE:20250507
DTSTAMP:20260424T141307
CREATED:20250313T115749Z
LAST-MODIFIED:20250313T115749Z
UID:11193-1746489600-1746575999@cosdt.me
SUMMARY:Intelektualna svojina
DESCRIPTION:•	Autorsko i srodna prava\n•	Patent\n•	Zaštita žiga\nVrijeme potrebno za izvođenje programa:\nJedna obuka\nKorisnici: sudije\nPredavači:\nDijana Raičković\, ranija sutkinja Apelacionog suda CG.\nDanijela Vukčević\, sutkinja Apelacionog suda CG.
URL:https://cosdt.me/seminar/intelektualna-svojina/
LOCATION:Podgorica\, Montenegro
GEO:42.4304196;19.2593642
END:VEVENT
BEGIN:VEVENT
DTSTART;VALUE=DATE:20250509
DTEND;VALUE=DATE:20250510
DTSTAMP:20260424T141307
CREATED:20250313T115214Z
LAST-MODIFIED:20250313T115214Z
UID:11183-1746748800-1746835199@cosdt.me
SUMMARY:Međunarodna pravna pomoć u građanskim i privrednim stvarima
DESCRIPTION:•	Konvencija o priznanju i izvršenju stranih presuda u građanskim ili privrednim stvarima iz 2019. godine i ostale Haške konvencije\n•	Bilateralni ugovori sa zemljama regiona \nVrijeme potrebno za izvođenje programa:\nNajmanje jedna jednodnevna obuka\nKorisnici: sudije\nPredavači:\nMaja Kostić – Mandić\, redovna profesorica Pravnog fakulteta Univerziteta CG\nAleksandar Stojanović\, sudija Višeg suda u Podgorici
URL:https://cosdt.me/seminar/medunarodna-pravna-pomoc-u-gradanskim-i-privrednim-stvarima/
LOCATION:Podgorica\, Montenegro
GEO:42.4304196;19.2593642
END:VEVENT
END:VCALENDAR