BEGIN:VCALENDAR
VERSION:2.0
PRODID:-//COSDT - ECPv6.15.17.1//NONSGML v1.0//EN
CALSCALE:GREGORIAN
METHOD:PUBLISH
X-ORIGINAL-URL:https://cosdt.me
X-WR-CALDESC:Events for COSDT
REFRESH-INTERVAL;VALUE=DURATION:PT1H
X-Robots-Tag:noindex
X-PUBLISHED-TTL:PT1H
BEGIN:VTIMEZONE
TZID:Europe/Podgorica
BEGIN:DAYLIGHT
TZOFFSETFROM:+0100
TZOFFSETTO:+0200
TZNAME:CEST
DTSTART:20240331T010000
END:DAYLIGHT
BEGIN:STANDARD
TZOFFSETFROM:+0200
TZOFFSETTO:+0100
TZNAME:CET
DTSTART:20241027T010000
END:STANDARD
BEGIN:DAYLIGHT
TZOFFSETFROM:+0100
TZOFFSETTO:+0200
TZNAME:CEST
DTSTART:20250330T010000
END:DAYLIGHT
BEGIN:STANDARD
TZOFFSETFROM:+0200
TZOFFSETTO:+0100
TZNAME:CET
DTSTART:20251026T010000
END:STANDARD
BEGIN:DAYLIGHT
TZOFFSETFROM:+0100
TZOFFSETTO:+0200
TZNAME:CEST
DTSTART:20260329T010000
END:DAYLIGHT
BEGIN:STANDARD
TZOFFSETFROM:+0200
TZOFFSETTO:+0100
TZNAME:CET
DTSTART:20261025T010000
END:STANDARD
END:VTIMEZONE
BEGIN:VEVENT
DTSTART;VALUE=DATE:20250402
DTEND;VALUE=DATE:20250404
DTSTAMP:20260424T110540
CREATED:20250313T120602Z
LAST-MODIFIED:20250313T120602Z
UID:11205-1743552000-1743724799@cosdt.me
SUMMARY:Evropska konvencija za zaštitu ljudskih prava i osnovnih sloboda - EKLJP
DESCRIPTION:–	Član 2 – pravo na život;\n–	Član 3 – zabrana mučenja; \nVrijeme potrebno za izvođenje programa:\nJedan dvodnodnevni seminar\nPredavači:\nMiraš Radović\, sudija Vrhovnog suda CG u penziji\nSnežana Armenko\, predsjednica Ustavnog suda CG\nSanja Jovićević\, državna tužiteljka\, Specijalno državno tužilaštvo\nMarija Raspopović\, ranija specijalna tužiteljka\nIgor Đuričković\, sudija Višeg suda u Podgorici
URL:https://cosdt.me/seminar/evropska-konvencija-za-zastitu-ljudskih-prava-i-osnovnih-sloboda-ekljp/
LOCATION:Podgorica\, Montenegro
GEO:42.4304196;19.2593642
END:VEVENT
BEGIN:VEVENT
DTSTART;VALUE=DATE:20250407
DTEND;VALUE=DATE:20250408
DTSTAMP:20260424T110540
CREATED:20250313T113139Z
LAST-MODIFIED:20250313T113139Z
UID:11163-1743984000-1744070399@cosdt.me
SUMMARY:Saradnja i pružanje međunarodne pravne pomoći u krivičnim stvarima
DESCRIPTION:•	Bilateralni ugovori\n•	Neformalna saradnja i uloga mreža za međunarodnu saradnju \nVrijeme potrebno za izvođenje programa:\nNajmanje jedna jednodnevna obuka\nKorisnici: Sudije\, državni tužioci.\nPredavači:\nSuzana Mugoša\, sutkinja Višeg suda u Podgorici\nVeljko Rutović\, državni tužilac u Vrhovnom državnom tužilaštvu\nBranimir Janjević\, Vrhovno državno tužilaštvo
URL:https://cosdt.me/seminar/saradnja-i-pruzanje-medunarodne-pravne-pomoci-u-krivicnim-stvarima-4/
LOCATION:Podgorica\, Montenegro
GEO:42.4304196;19.2593642
END:VEVENT
BEGIN:VEVENT
DTSTART;VALUE=DATE:20250411
DTEND;VALUE=DATE:20250412
DTSTAMP:20260424T110540
CREATED:20250313T112501Z
LAST-MODIFIED:20250313T112501Z
UID:11151-1744329600-1744415999@cosdt.me
SUMMARY:Ekološki kriminal – Krivični aspekt zaštite životne sredine
DESCRIPTION:•	Nacionalni i međunarodni pravni okvir\n•	Oblik vinosti u ekološkom kriminalu\n•	Zaštita javnog zdravlja i preventivne mjere\n•	Nuklearni terorizam \nVrijeme potrebno za izvođenje programa:\nNajmanje jedna obuka\nKorisnici: tužioci\, sudije\, sudije za prekršaje i predstavnici inspekcijkih organa\nPredavači:\nMarija Raspopović\, doskorašnja tužiteljka u Specijalnom državnom tužilaštvu\nGorica Đalović\, predsjednica Osnovnog suda u Bijelom Polju\nMaja Kostić Mandić\, redovna profesorica Pravnog fakulteta Univerziteta Crne Gore
URL:https://cosdt.me/seminar/ekoloski-kriminal-krivicni-aspekt-zastite-zivotne-sredine/
LOCATION:Podgorica\, Montenegro
GEO:42.4304196;19.2593642
END:VEVENT
BEGIN:VEVENT
DTSTART;VALUE=DATE:20250414
DTEND;VALUE=DATE:20250416
DTSTAMP:20260424T110540
CREATED:20250313T121139Z
LAST-MODIFIED:20250313T121139Z
UID:11213-1744588800-1744761599@cosdt.me
SUMMARY:Evropska konvencija za zaštitu ljudskih prava i osnovnih sloboda - EKLJP
DESCRIPTION:– Član 10 – Sloboda izražavanja; \nVrijeme potrebno za izvođenje programa:\nNajmanje jedan seminar koji će se sprovesti u okviru zajedničkog projekta Evropske unije i Saveta Evrope pod nazivom “PROFREX”.\nPredavači: Treneri koji su obučeni kroz JUFREX projekat:\nMirjana Popović\, Snežana Vukčević\, Miloš Šoškić\, Zorica Milanović\, Snežana Šišević\, Armin Selmanović\, Mirjana Vlahović
URL:https://cosdt.me/seminar/evropska-konvencija-za-zastitu-ljudskih-prava-i-osnovnih-sloboda-ekljp-5/
LOCATION:Podgorica\, Montenegro
GEO:42.4304196;19.2593642
END:VEVENT
BEGIN:VEVENT
DTSTART;VALUE=DATE:20250416
DTEND;VALUE=DATE:20250417
DTSTAMP:20260424T110540
CREATED:20250313T115931Z
LAST-MODIFIED:20250313T115931Z
UID:11195-1744761600-1744847999@cosdt.me
SUMMARY:Stečaj
DESCRIPTION:•	Uloga i postupanje stečajnog upravnika u vođenju stečajnog postupka\n•	Zaštita prava na suđenje u razumnom roku i izvršenje presuda u vezi sa stečajom   \nVrijeme potrebno za izvođenje programa:\nJedna obuka\nKorisnici: sudije\, stečajni upravnici\nPredavači:\nMarijana Pavićević\, sutkinja Vrhovnog  suda Crne Gore\nDanijela Vukčević\, sutkinja Apelacionog suda CG.
URL:https://cosdt.me/seminar/stecaj-4/
LOCATION:Podgorica\, Montenegro
GEO:42.4304196;19.2593642
END:VEVENT
BEGIN:VEVENT
DTSTART;VALUE=DATE:20250428
DTEND;VALUE=DATE:20250430
DTSTAMP:20260424T110540
CREATED:20250313T114018Z
LAST-MODIFIED:20250313T114018Z
UID:11171-1745798400-1745971199@cosdt.me
SUMMARY:Svojinsko-pravni odnosi
DESCRIPTION:•	Smetanje posjeda\, uznemiravanje svojine i zaštita državine\n•	Pravo službenosti\, službenost prolaza  \nVrijeme potrebno za izvođenje programa:\nJedna dvodnevna obuka\nKorisnici:sudije\, eventualno notari\nPredavači:\nRadojka Nikolić\, sutkinja Vrhovnog suda Crne Gore\nRadonja Radonjić\, sudija Višeg suda u Podgorici\nOgnjana Boljević\, sutkinja Višeg suda u Podgorici\nNina Radunović\, sutkinja Višeg suda u Podgorici
URL:https://cosdt.me/seminar/svojinsko-pravni-odnosi/
LOCATION:Podgorica\, Montenegro
GEO:42.4304196;19.2593642
END:VEVENT
BEGIN:VEVENT
DTSTART;VALUE=DATE:20250428
DTEND;VALUE=DATE:20250430
DTSTAMP:20260424T110540
CREATED:20250313T114126Z
LAST-MODIFIED:20250313T114126Z
UID:11173-1745798400-1745971199@cosdt.me
SUMMARY:Porodično pravo
DESCRIPTION:•	Najbolji interes djeteta\n	uloga lica za podršku\n•	Imovinski odnosi\n	imovina bračnih supružnika\,\n	imovinski odnosi lica iz vanbračne zajednice\,\n	imovinski odnosi roditelja i djece i\n	imovinski odnosi članova porodične zajednice \nVrijeme potrebno za izvođenje programa:\nJedna dvodnevna obuka\nKorisnici: sudije\, eventualno notari\nPredavači:\nAna Delić\, državna tužiteljka\, Više državno tužilaštvo u Podgorici\nVesna Begović\, sutkinja Vrhovnog suda u penziji\nDijana Dragišić Radojević\, sutkinja Osnovnog suda u Podgorici\nDijana Popović Gavranović\, načelnica Stručne službe za postupanje prema maloljetnicima\, Vrhovo državno tužilaštvo Crne Gore
URL:https://cosdt.me/seminar/porodicno-pravo/
LOCATION:Podgorica\, Montenegro
GEO:42.4304196;19.2593642
END:VEVENT
END:VCALENDAR