BEGIN:VCALENDAR
VERSION:2.0
PRODID:-//COSDT - ECPv6.15.17.1//NONSGML v1.0//EN
CALSCALE:GREGORIAN
METHOD:PUBLISH
X-ORIGINAL-URL:https://cosdt.me
X-WR-CALDESC:Events for COSDT
REFRESH-INTERVAL;VALUE=DURATION:PT1H
X-Robots-Tag:noindex
X-PUBLISHED-TTL:PT1H
BEGIN:VTIMEZONE
TZID:Europe/Podgorica
BEGIN:DAYLIGHT
TZOFFSETFROM:+0100
TZOFFSETTO:+0200
TZNAME:CEST
DTSTART:20220327T010000
END:DAYLIGHT
BEGIN:STANDARD
TZOFFSETFROM:+0200
TZOFFSETTO:+0100
TZNAME:CET
DTSTART:20221030T010000
END:STANDARD
BEGIN:DAYLIGHT
TZOFFSETFROM:+0100
TZOFFSETTO:+0200
TZNAME:CEST
DTSTART:20230326T010000
END:DAYLIGHT
BEGIN:STANDARD
TZOFFSETFROM:+0200
TZOFFSETTO:+0100
TZNAME:CET
DTSTART:20231029T010000
END:STANDARD
BEGIN:DAYLIGHT
TZOFFSETFROM:+0100
TZOFFSETTO:+0200
TZNAME:CEST
DTSTART:20240331T010000
END:DAYLIGHT
BEGIN:STANDARD
TZOFFSETFROM:+0200
TZOFFSETTO:+0100
TZNAME:CET
DTSTART:20241027T010000
END:STANDARD
END:VTIMEZONE
BEGIN:VEVENT
DTSTART;VALUE=DATE:20231009
DTEND;VALUE=DATE:20231010
DTSTAMP:20260425T152701
CREATED:20230115T191756Z
LAST-MODIFIED:20230119T123513Z
UID:9322-1696809600-1696895999@cosdt.me
SUMMARY:Krivična djela iz oblasti zaštite životne sredine
DESCRIPTION:Vrijeme potrebno za izvođenje programa: Jedan seminar\nKorisnici: Sudije\, državni tužioci. \nPredavači: \nDatum održavanja: 9. oktobar 2023.g.
URL:https://cosdt.me/seminar/i-modul-krivicno-pravna-oblast-krivicna-djela-iz-oblasti-zastite-zivotne-sredine/
LOCATION:Podgorica\, Montenegro
CATEGORIES:Obuke
GEO:42.4304196;19.2593642
END:VEVENT
BEGIN:VEVENT
DTSTART;VALUE=DATE:20231012
DTEND;VALUE=DATE:20231014
DTSTAMP:20260425T152701
CREATED:20230115T200720Z
LAST-MODIFIED:20230119T123450Z
UID:9344-1697068800-1697241599@cosdt.me
SUMMARY:Zakon o izvršenju i obezbjeđenju sa akcentom sa probleme primjene u praksi
DESCRIPTION:Vrijeme potrebno za izvođenje programa: Jedan seminar\nKorisnici: Sudije i javni izvržitelji. \nPredavači: \nDatum održavanja: 12-13. oktobar 2023.g.
URL:https://cosdt.me/seminar/ii-modul-gradansko-pravna-oblast-zakon-o-izvrsenju-i-obezbjedenju-sa-akcentom-sa-probleme-primjene-u-praksi/
LOCATION:Podgorica\, Montenegro
CATEGORIES:Obuke
GEO:42.4304196;19.2593642
END:VEVENT
BEGIN:VEVENT
DTSTART;VALUE=DATE:20231016
DTEND;VALUE=DATE:20231019
DTSTAMP:20260425T152701
CREATED:20230115T191254Z
LAST-MODIFIED:20230509T081309Z
UID:9316-1697414400-1697673599@cosdt.me
SUMMARY:Trgovina ljudima
DESCRIPTION:Vrijeme potrebno za izvođenje programa: Najmanje jedan seminar\nKorisnici: Sudije\, državni tužioci\, predstavnici MUP-a \nPredavači: \nDatum održavanja: 10-11-12. jul 2023.g.
URL:https://cosdt.me/seminar/i-modul-krivicno-pravna-oblast-trgovina-ljudima/
LOCATION:Podgorica\, Montenegro
CATEGORIES:Obuke
GEO:42.4304196;19.2593642
END:VEVENT
BEGIN:VEVENT
DTSTART;VALUE=DATE:20231023
DTEND;VALUE=DATE:20231026
DTSTAMP:20260425T152701
CREATED:20230115T211646Z
LAST-MODIFIED:20230119T123335Z
UID:9409-1698019200-1698278399@cosdt.me
SUMMARY:Obuka za predavače - vještine prenošenja znanja
DESCRIPTION:Vrijeme potrebno za izvodjenje programa Najmanje jedan trening za trenere (ToT – tri modula)\nKorisnici: Sudije\, državni tužioci. \nPredavači: \nDatum održavanja: I modul – 18-19-20. septembar 2023.g.\n		          II modul – 23-24-25. oktobar 2023.g.\n		          III modul – 27-28-29. novembar 2023.g.
URL:https://cosdt.me/seminar/ix-modul-zajednicke-teme-za-nosioce-pravosudne-funkcije-obuke-za-predavace-vjestine-prenosenja-znanja-2/
LOCATION:Podgorica\, Montenegro
CATEGORIES:Obuke
GEO:42.4304196;19.2593642
END:VEVENT
BEGIN:VEVENT
DTSTART;VALUE=DATE:20231024
DTEND;VALUE=DATE:20231026
DTSTAMP:20260425T152701
CREATED:20230115T202030Z
LAST-MODIFIED:20231005T110555Z
UID:9358-1698105600-1698278399@cosdt.me
SUMMARY:Međunarodna pravosudna saradnja u porodičnim stvarima
DESCRIPTION:Vrijeme potrebno za izvođenje programa: Jedan seminar\nKorisnici: Sudije\, eventualno advokati\, notari. \nPredavači: \nDatum održavanja: 24. oktobar 2023.g.
URL:https://cosdt.me/seminar/ii-modul-gradansko-pravna-oblast-medunarodno-privatno-pravo-mjerodavno-pravo/
LOCATION:Podgorica\, Montenegro
CATEGORIES:Obuke
GEO:42.4304196;19.2593642
END:VEVENT
BEGIN:VEVENT
DTSTART;VALUE=DATE:20231030
DTEND;VALUE=DATE:20231031
DTSTAMP:20260425T152701
CREATED:20230115T210520Z
LAST-MODIFIED:20230119T123215Z
UID:9398-1698624000-1698710399@cosdt.me
SUMMARY:Zabrana zloupotrebe prava
DESCRIPTION:Vrijeme potrebno za izvođenje programa: Jedan seminar\nKorisnici: Sudije upravnih i građanskih odjeljenja. \nPredavači: \nDatum održavanja: 30. oktobar 2023.g.
URL:https://cosdt.me/seminar/ix-modul-zajednicke-teme-za-nosioce-pravosudne-funkcije-zabrana-zloupotrebe-prava/
LOCATION:Podgorica\, Montenegro
CATEGORIES:Seminari
GEO:42.4304196;19.2593642
END:VEVENT
END:VCALENDAR