BEGIN:VCALENDAR
VERSION:2.0
PRODID:-//COSDT - ECPv6.15.17.1//NONSGML v1.0//EN
CALSCALE:GREGORIAN
METHOD:PUBLISH
X-ORIGINAL-URL:https://cosdt.me
X-WR-CALDESC:Events for COSDT
REFRESH-INTERVAL;VALUE=DURATION:PT1H
X-Robots-Tag:noindex
X-PUBLISHED-TTL:PT1H
BEGIN:VTIMEZONE
TZID:Europe/Podgorica
BEGIN:DAYLIGHT
TZOFFSETFROM:+0100
TZOFFSETTO:+0200
TZNAME:CEST
DTSTART:20220327T010000
END:DAYLIGHT
BEGIN:STANDARD
TZOFFSETFROM:+0200
TZOFFSETTO:+0100
TZNAME:CET
DTSTART:20221030T010000
END:STANDARD
BEGIN:DAYLIGHT
TZOFFSETFROM:+0100
TZOFFSETTO:+0200
TZNAME:CEST
DTSTART:20230326T010000
END:DAYLIGHT
BEGIN:STANDARD
TZOFFSETFROM:+0200
TZOFFSETTO:+0100
TZNAME:CET
DTSTART:20231029T010000
END:STANDARD
BEGIN:DAYLIGHT
TZOFFSETFROM:+0100
TZOFFSETTO:+0200
TZNAME:CEST
DTSTART:20240331T010000
END:DAYLIGHT
BEGIN:STANDARD
TZOFFSETFROM:+0200
TZOFFSETTO:+0100
TZNAME:CET
DTSTART:20241027T010000
END:STANDARD
END:VTIMEZONE
BEGIN:VEVENT
DTSTART;VALUE=DATE:20230504
DTEND;VALUE=DATE:20230506
DTSTAMP:20260425T232622
CREATED:20230115T211253Z
LAST-MODIFIED:20230119T125055Z
UID:9405-1683158400-1683331199@cosdt.me
SUMMARY:Rodna ravnopravnost sa posebnim osvrtom na CEDAW konvenciju
DESCRIPTION:Vrijeme potrebno za izvođenje programa: Jedan dvodnevni seminar\nKorisnici: Sudije\, državni tužioci. \nPredavači: \nDatum održavanja: 4-5. maj 2023.g.
URL:https://cosdt.me/seminar/ix-modul-zajednicke-teme-za-nosioce-pravosudne-funkcije-rodna-ravnopravnost-sa-posebnim-osvrtom-na-cedaw-konvenciju/
LOCATION:Podgorica\, Montenegro
CATEGORIES:Seminari
GEO:42.4304196;19.2593642
END:VEVENT
BEGIN:VEVENT
DTSTART;VALUE=DATE:20230508
DTEND;VALUE=DATE:20230510
DTSTAMP:20260425T232622
CREATED:20230115T190304Z
LAST-MODIFIED:20230119T125027Z
UID:9306-1683504000-1683676799@cosdt.me
SUMMARY:Izrada i obrazloženje krivičnih odluka
DESCRIPTION:Vrijeme potrebno za izvođenje programa: Najmanje jedan seminar\nKorisnici: Sudije\, državni tužioci. \nPredavači: \nDatum održavanja: 8-9. maj 2023.g.
URL:https://cosdt.me/seminar/i-modul-krivicno-pravna-oblast-izrada-i-obrazlozenje-krivicnih-odluka/
LOCATION:Podgorica\, Montenegro
CATEGORIES:Obuke
GEO:42.4304196;19.2593642
END:VEVENT
BEGIN:VEVENT
DTSTART;VALUE=DATE:20230511
DTEND;VALUE=DATE:20230513
DTSTAMP:20260425T232622
CREATED:20230115T201842Z
LAST-MODIFIED:20230119T125000Z
UID:9356-1683763200-1683935999@cosdt.me
SUMMARY:Radnopravni odnosi i sporna pitanja
DESCRIPTION:Vrijeme potrebno za izvođenje programa: Dva jednodnevna seminara\nKorisnici: Sudije\, eventualno advokati. \nPredavači: \nDatumi održavanja: 11 i 12. maj 2023.g.
URL:https://cosdt.me/seminar/ii-modul-gradansko-pravna-oblast-radnopravni-odnosi-i-sporna-pitanja/
LOCATION:Podgorica\, Montenegro
CATEGORIES:Obuke
GEO:42.4304196;19.2593642
END:VEVENT
BEGIN:VEVENT
DTSTART;VALUE=DATE:20230516
DTEND;VALUE=DATE:20230518
DTSTAMP:20260425T232622
CREATED:20230115T210330Z
LAST-MODIFIED:20230119T124931Z
UID:9396-1684195200-1684367999@cosdt.me
SUMMARY:- Obuke o sistemu disciplinske odgovornosti sudija i državnih tužilaca u skladu sa novinama u Zakonu o Sudskom savjetu i sudijama i Zakonu o državnom tužilaštvu;    - Jačanje integriteta i etički kodeksi sudija i tužilaca kao i članova Sudskog i Tužilačkog savjeta;
DESCRIPTION:Vrijeme potrebno za izvođenje programa: Dva jednodnevna seminara\nKorisnici: Sudije i državni tužioci. \nPredavači: \nDatum održavanja: 16-17. maj 2023.g.
URL:https://cosdt.me/seminar/ix-modul-zajednicke-teme-za-nosioce-pravosudne-funkcije-obuke-o-sistemu-disciplinske-odgovornosti-sudija-i-drzavnih-tuzilaca-u-skladu-sa-novinama-u-zakonu-o-sudskom-savjetu-i-sudijama-i-zakonu/
LOCATION:Podgorica\, Montenegro
CATEGORIES:Seminari
GEO:42.4304196;19.2593642
END:VEVENT
BEGIN:VEVENT
DTSTART;VALUE=DATE:20230518
DTEND;VALUE=DATE:20230520
DTSTAMP:20260425T232622
CREATED:20230115T191611Z
LAST-MODIFIED:20230119T124909Z
UID:9320-1684368000-1684540799@cosdt.me
SUMMARY:Zločin iz mržnje i govor mržnje
DESCRIPTION:Vrijeme potrebno za izvođenje programa: Najmanje jedan seminar\nKorisnici: Sudije\, državni tužioci\, predstavnici Ministarstva za ljudska i manjinska prava\, predstavnici NVO sektora. \nPredavači: \nDatum održavanja: 18-19. maj 2023.g.
URL:https://cosdt.me/seminar/i-modul-krivicno-pravna-oblast-zlocin-iz-mrznje-i-govor-mrznje/
LOCATION:Podgorica\, Montenegro
CATEGORIES:Obuke
GEO:42.4304196;19.2593642
END:VEVENT
BEGIN:VEVENT
DTSTART;VALUE=DATE:20230526
DTEND;VALUE=DATE:20230527
DTSTAMP:20260425T232622
CREATED:20230115T184324Z
LAST-MODIFIED:20230119T124826Z
UID:9289-1685059200-1685145599@cosdt.me
SUMMARY:Pritvor i alternative pritvoru u smislu člana 5 EKLJP
DESCRIPTION:Vrijeme potrebno za izvođenje programa: Jedan jednodnevni seminar\nKorisnici: Sudije\, državni tužioci. \nPredavači: \nDatum održavanja: 26. maj 2023.g.
URL:https://cosdt.me/seminar/i-modul-krivicno-pravna-oblast-pritvor-i-alternative-pritvoru-u-smislu-clana-5-ekljp/
LOCATION:Podgorica\, Montenegro
CATEGORIES:Obuke
GEO:42.4304196;19.2593642
END:VEVENT
BEGIN:VEVENT
DTSTART;VALUE=DATE:20230526
DTEND;VALUE=DATE:20230527
DTSTAMP:20260425T232622
CREATED:20230115T204457Z
LAST-MODIFIED:20230119T124747Z
UID:9378-1685059200-1685145599@cosdt.me
SUMMARY:Član 5 – pravo na slobodu i bezbjednost ličnosti
DESCRIPTION:Vrijeme potrebno za izvođenje programa: Jedan dvodnodnevni seminar \nPredavači: \nDatum održavanja: (26. maj -spojen sa seminarom o pritvoru i alternativama pritvoru)
URL:https://cosdt.me/seminar/vi-modul-konvencijsko-pravo-evropska-konvencija-za-zastitu-ljudskih-prava-i-osnovnih-sloboda-ekljp-clan-5-pravo-na-slobodu-i-bezbjednost-licnosti/
LOCATION:Podgorica\, Montenegro
CATEGORIES:Seminari
GEO:42.4304196;19.2593642
END:VEVENT
END:VCALENDAR