BEGIN:VCALENDAR
VERSION:2.0
PRODID:-//COSDT - ECPv6.15.17.1//NONSGML v1.0//EN
CALSCALE:GREGORIAN
METHOD:PUBLISH
X-WR-CALNAME:COSDT
X-ORIGINAL-URL:https://cosdt.me
X-WR-CALDESC:Events for COSDT
REFRESH-INTERVAL;VALUE=DURATION:PT1H
X-Robots-Tag:noindex
X-PUBLISHED-TTL:PT1H
BEGIN:VTIMEZONE
TZID:Europe/Podgorica
BEGIN:DAYLIGHT
TZOFFSETFROM:+0100
TZOFFSETTO:+0200
TZNAME:CEST
DTSTART:20220327T010000
END:DAYLIGHT
BEGIN:STANDARD
TZOFFSETFROM:+0200
TZOFFSETTO:+0100
TZNAME:CET
DTSTART:20221030T010000
END:STANDARD
BEGIN:DAYLIGHT
TZOFFSETFROM:+0100
TZOFFSETTO:+0200
TZNAME:CEST
DTSTART:20230326T010000
END:DAYLIGHT
BEGIN:STANDARD
TZOFFSETFROM:+0200
TZOFFSETTO:+0100
TZNAME:CET
DTSTART:20231029T010000
END:STANDARD
BEGIN:DAYLIGHT
TZOFFSETFROM:+0100
TZOFFSETTO:+0200
TZNAME:CEST
DTSTART:20240331T010000
END:DAYLIGHT
BEGIN:STANDARD
TZOFFSETFROM:+0200
TZOFFSETTO:+0100
TZNAME:CET
DTSTART:20241027T010000
END:STANDARD
END:VTIMEZONE
BEGIN:VEVENT
DTSTART;VALUE=DATE:20230411
DTEND;VALUE=DATE:20230413
DTSTAMP:20260426T010736
CREATED:20230115T202443Z
LAST-MODIFIED:20230119T125320Z
UID:9364-1681171200-1681343999@cosdt.me
SUMMARY:Intelektualna svojina (autorska i srodna prava\, patent)
DESCRIPTION:Vrijeme potrebno za izvođenje programa: Jedan seminar\nKorisnici: Sudije. \nPredavači: \nDatum održavanja: 11-12. april 2023.g.
URL:https://cosdt.me/seminar/iii-modul-privredno-pravna-oblast-intelektualna-svojina-autorska-i-srodna-prava-patent/
LOCATION:Podgorica\, Montenegro
CATEGORIES:Obuke
GEO:42.4304196;19.2593642
END:VEVENT
BEGIN:VEVENT
DTSTART;VALUE=DATE:20230418
DTEND;VALUE=DATE:20230422
DTSTAMP:20260426T010736
CREATED:20230115T192408Z
LAST-MODIFIED:20230119T125233Z
UID:9328-1681776000-1682121599@cosdt.me
SUMMARY:Specijalizovana obuka za sudije za maloljetnike i državne tužioce za maloljetnike
DESCRIPTION:Vrijeme potrebno za izvođenje programa: Višednevna obuka\nKorisnici: Sudije\, državni tužioci. \nPredavači: \nDatum održavanja: 18-19-20-21. april 2023.g.
URL:https://cosdt.me/seminar/i-modul-krivicno-pravna-oblast-specijalizovana-obuka-za-sudije-za-maloljetnike-i-drzavne-tuzioce-za-maloljetnike/
LOCATION:Podgorica\, Montenegro
CATEGORIES:Obuke
GEO:42.4304196;19.2593642
END:VEVENT
BEGIN:VEVENT
DTSTART;VALUE=DATE:20230424
DTEND;VALUE=DATE:20230425
DTSTAMP:20260426T010736
CREATED:20230115T184817Z
LAST-MODIFIED:20230119T125202Z
UID:9293-1682294400-1682380799@cosdt.me
SUMMARY:Pravno nevaljani dokazi (sa posebnim osvrtom na skaj i anom aplikacije – nacionalna praksa i standardi međunarodnog prava)
DESCRIPTION:Vrijeme potrebno za izvođenje programa: Jedan seminar\nKorisnici: Sudije\, državni tužioci\, eventualno advokati. \nPredavači:  \nDatum održavanja: 24. april 2023.g.
URL:https://cosdt.me/seminar/i-modul-krivicno-pravna-oblast-pravno-nevaljani-dokazi-sa-posebnim-osvrtom-na-skaj-i-anom-aplikacije-nacionalna-praksa-i-standardi-medunarodnog-prava/
LOCATION:Podgorica\, Montenegro
CATEGORIES:Obuke
GEO:42.4304196;19.2593642
END:VEVENT
BEGIN:VEVENT
DTSTART;VALUE=DATE:20230427
DTEND;VALUE=DATE:20230429
DTSTAMP:20260426T010736
CREATED:20230115T201243Z
LAST-MODIFIED:20230119T125122Z
UID:9350-1682553600-1682726399@cosdt.me
SUMMARY:Obligacioni odnosi\, sa akcentom na sporna pitanja (Paulijanska tužba)
DESCRIPTION:Vrijeme potrebno za izvođenje programa: Jedan dvodnevni seminar\nKorisnici: Sudije\, eventualno advokati. \nPredavači: \nDatum održavanja: 27-28. april 2023.g.
URL:https://cosdt.me/seminar/ii-modul-gradansko-pravna-oblast-obligacioni-odnosi-sa-akcentom-na-sporna-pitanja-paulijanska-tuzba/
LOCATION:Podgorica\, Montenegro
CATEGORIES:Obuke
GEO:42.4304196;19.2593642
END:VEVENT
END:VCALENDAR