BEGIN:VCALENDAR
VERSION:2.0
PRODID:-//COSDT - ECPv6.15.17.1//NONSGML v1.0//EN
CALSCALE:GREGORIAN
METHOD:PUBLISH
X-WR-CALNAME:COSDT
X-ORIGINAL-URL:https://cosdt.me
X-WR-CALDESC:Events for COSDT
REFRESH-INTERVAL;VALUE=DURATION:PT1H
X-Robots-Tag:noindex
X-PUBLISHED-TTL:PT1H
BEGIN:VTIMEZONE
TZID:Europe/Podgorica
BEGIN:DAYLIGHT
TZOFFSETFROM:+0100
TZOFFSETTO:+0200
TZNAME:CEST
DTSTART:20220327T010000
END:DAYLIGHT
BEGIN:STANDARD
TZOFFSETFROM:+0200
TZOFFSETTO:+0100
TZNAME:CET
DTSTART:20221030T010000
END:STANDARD
BEGIN:DAYLIGHT
TZOFFSETFROM:+0100
TZOFFSETTO:+0200
TZNAME:CEST
DTSTART:20230326T010000
END:DAYLIGHT
BEGIN:STANDARD
TZOFFSETFROM:+0200
TZOFFSETTO:+0100
TZNAME:CET
DTSTART:20231029T010000
END:STANDARD
BEGIN:DAYLIGHT
TZOFFSETFROM:+0100
TZOFFSETTO:+0200
TZNAME:CEST
DTSTART:20240331T010000
END:DAYLIGHT
BEGIN:STANDARD
TZOFFSETFROM:+0200
TZOFFSETTO:+0100
TZNAME:CET
DTSTART:20241027T010000
END:STANDARD
END:VTIMEZONE
BEGIN:VEVENT
DTSTART;VALUE=DATE:20230303
DTEND;VALUE=DATE:20230304
DTSTAMP:20260426T023457
CREATED:20230115T201104Z
LAST-MODIFIED:20230119T125829Z
UID:9348-1677801600-1677887999@cosdt.me
SUMMARY:Stvarno-pravni odnosi sa akcentom na sporna pitanja
DESCRIPTION:Vrijeme potrebno za izvođenje programa: Jedan jednodnevni seminar\nKorisnici: Sudije\, eventualno advokati i notari. \nPredavači: \nDatum održavanja: 3. mart 2023.g.
URL:https://cosdt.me/seminar/ii-modul-gradansko-pravna-oblast-stvarno-pravni-odnosi-sa-akcentom-na-sporna-pitanja/
LOCATION:Podgorica\, Montenegro
CATEGORIES:Obuke
GEO:42.4304196;19.2593642
END:VEVENT
BEGIN:VEVENT
DTSTART;VALUE=DATE:20230310
DTEND;VALUE=DATE:20230311
DTSTAMP:20260426T023457
CREATED:20230115T190101Z
LAST-MODIFIED:20230119T125757Z
UID:9304-1678406400-1678492799@cosdt.me
SUMMARY:Elektronski (digitalni) dokazi
DESCRIPTION:Vrijeme potrebno za izvođenje programa: Jedan seminar\nKorisnici: Sudije\, državni tužioci. \nPredavači: \nDatum održavanja: 10. mart 2023.g.
URL:https://cosdt.me/seminar/i-modul-krivicno-pravna-oblast-elektronski-digitalni-dokazi/
LOCATION:Podgorica\, Montenegro
CATEGORIES:Obuke
GEO:42.4304196;19.2593642
END:VEVENT
BEGIN:VEVENT
DTSTART;VALUE=DATE:20230317
DTEND;VALUE=DATE:20230318
DTSTAMP:20260426T023457
CREATED:20230115T202559Z
LAST-MODIFIED:20230119T125729Z
UID:9366-1679011200-1679097599@cosdt.me
SUMMARY:Stečaj
DESCRIPTION:Vrijeme potrebno za izvođenje programa: Jedan seminar\nKorisnici: Sudije. \nPredavači: \nDatum održavanja: 17. mart 2023.g.
URL:https://cosdt.me/seminar/iii-modul-privredno-pravna-oblast-stecaj/
LOCATION:Podgorica\, Montenegro
CATEGORIES:Obuke
GEO:42.4304196;19.2593642
END:VEVENT
BEGIN:VEVENT
DTSTART;VALUE=DATE:20230320
DTEND;VALUE=DATE:20230322
DTSTAMP:20260426T023457
CREATED:20230115T191102Z
LAST-MODIFIED:20230119T125702Z
UID:9314-1679270400-1679443199@cosdt.me
SUMMARY:Zaštita od nasilja u porodici i rodno zasnovano nasilje sa akcentom na Istanbulsku konvenciju
DESCRIPTION:Vrijeme potrebno za izvođenje programa: Dva seminara\nKorisnici: Sudije\, državni tužioci. \nPredavači: \nDatum održavanja: 20- 21. mart 2023.g.
URL:https://cosdt.me/seminar/i-modul-krivicno-pravna-oblast-zastita-od-nasilja-u-porodici-i-rodno-zasnovano-nasilje-sa-akcentom-na-istanbulsku-konvenciju/
LOCATION:Podgorica\, Montenegro
CATEGORIES:Obuke
GEO:42.4304196;19.2593642
END:VEVENT
BEGIN:VEVENT
DTSTART;VALUE=DATE:20230324
DTEND;VALUE=DATE:20230325
DTSTAMP:20260426T023457
CREATED:20230115T200311Z
LAST-MODIFIED:20230119T125529Z
UID:9340-1679616000-1679702399@cosdt.me
SUMMARY:Rasprava pred drugostepenim sudom
DESCRIPTION:Vrijeme potrebno za izvođenje programa: Jedan jednodnevni seminar;\nKorisnici: Sudije. \nPredavači: \nDatum održavanja: 24. mart 2023.g.
URL:https://cosdt.me/seminar/ii-modul-gradansko-pravna-oblast-rasprava-pred-drugostepenim-sudom/
LOCATION:Podgorica\, Montenegro
CATEGORIES:Obuke
GEO:42.4304196;19.2593642
END:VEVENT
BEGIN:VEVENT
DTSTART;VALUE=DATE:20230329
DTEND;VALUE=DATE:20230331
DTSTAMP:20260426T023457
CREATED:20230115T204717Z
LAST-MODIFIED:20230119T125445Z
UID:9380-1680048000-1680220799@cosdt.me
SUMMARY:Član 6 – pravo na pravično suđenje
DESCRIPTION:Vrijeme potrebno za izvođenje programa: Jedan dvodnodnevni seminar \nPredavači: \nDatum održavanja: 29-30. mart 2023.g.
URL:https://cosdt.me/seminar/vi-modul-konvencijsko-pravo-evropska-konvencija-za-zastitu-ljudskih-prava-i-osnovnih-sloboda-ekljp-clan-6-pravo-na-pravicno-sudenje/
LOCATION:Podgorica\, Montenegro
CATEGORIES:Seminari
GEO:42.4304196;19.2593642
END:VEVENT
END:VCALENDAR