BEGIN:VCALENDAR
VERSION:2.0
PRODID:-//COSDT - ECPv6.15.17.1//NONSGML v1.0//EN
CALSCALE:GREGORIAN
METHOD:PUBLISH
X-WR-CALNAME:COSDT
X-ORIGINAL-URL:https://cosdt.me
X-WR-CALDESC:Events for COSDT
REFRESH-INTERVAL;VALUE=DURATION:PT1H
X-Robots-Tag:noindex
X-PUBLISHED-TTL:PT1H
BEGIN:VTIMEZONE
TZID:Europe/Podgorica
BEGIN:DAYLIGHT
TZOFFSETFROM:+0100
TZOFFSETTO:+0200
TZNAME:CEST
DTSTART:20220327T010000
END:DAYLIGHT
BEGIN:STANDARD
TZOFFSETFROM:+0200
TZOFFSETTO:+0100
TZNAME:CET
DTSTART:20221030T010000
END:STANDARD
BEGIN:DAYLIGHT
TZOFFSETFROM:+0100
TZOFFSETTO:+0200
TZNAME:CEST
DTSTART:20230326T010000
END:DAYLIGHT
BEGIN:STANDARD
TZOFFSETFROM:+0200
TZOFFSETTO:+0100
TZNAME:CET
DTSTART:20231029T010000
END:STANDARD
BEGIN:DAYLIGHT
TZOFFSETFROM:+0100
TZOFFSETTO:+0200
TZNAME:CEST
DTSTART:20240331T010000
END:DAYLIGHT
BEGIN:STANDARD
TZOFFSETFROM:+0200
TZOFFSETTO:+0100
TZNAME:CET
DTSTART:20241027T010000
END:STANDARD
END:VTIMEZONE
BEGIN:VEVENT
DTSTART;VALUE=DATE:20230130
DTEND;VALUE=DATE:20230131
DTSTAMP:20260426T054227
CREATED:20230115T190512Z
LAST-MODIFIED:20230119T130109Z
UID:9308-1675036800-1675123199@cosdt.me
SUMMARY:Alternativne sankcije\, probacija i kazna rada u javnom interesu
DESCRIPTION:Vrijeme potrebno za izvođenje programa: Jedan seminar\nKorisnici: Sudije\, državni tužioci i predstavnici Ministarstva pravde. \nPredavači:  \nDatum održavanja: 30. januar 2023.g.
URL:https://cosdt.me/seminar/i-modul-krivicno-pravna-oblast-alternativne-sankcije-probacija-i-kazna-rada-u-javnom-interesu/
LOCATION:Podgorica\, Montenegro
CATEGORIES:Obuke
GEO:42.4304196;19.2593642
END:VEVENT
END:VCALENDAR