BEGIN:VCALENDAR
VERSION:2.0
PRODID:-//COSDT - ECPv6.15.17.1//NONSGML v1.0//EN
CALSCALE:GREGORIAN
METHOD:PUBLISH
X-WR-CALNAME:COSDT
X-ORIGINAL-URL:https://cosdt.me
X-WR-CALDESC:Events for COSDT
REFRESH-INTERVAL;VALUE=DURATION:PT1H
X-Robots-Tag:noindex
X-PUBLISHED-TTL:PT1H
BEGIN:VTIMEZONE
TZID:Europe/Podgorica
BEGIN:DAYLIGHT
TZOFFSETFROM:+0100
TZOFFSETTO:+0200
TZNAME:CEST
DTSTART:20250330T010000
END:DAYLIGHT
BEGIN:STANDARD
TZOFFSETFROM:+0200
TZOFFSETTO:+0100
TZNAME:CET
DTSTART:20251026T010000
END:STANDARD
BEGIN:DAYLIGHT
TZOFFSETFROM:+0100
TZOFFSETTO:+0200
TZNAME:CEST
DTSTART:20260329T010000
END:DAYLIGHT
BEGIN:STANDARD
TZOFFSETFROM:+0200
TZOFFSETTO:+0100
TZNAME:CET
DTSTART:20261025T010000
END:STANDARD
BEGIN:DAYLIGHT
TZOFFSETFROM:+0100
TZOFFSETTO:+0200
TZNAME:CEST
DTSTART:20270328T010000
END:DAYLIGHT
BEGIN:STANDARD
TZOFFSETFROM:+0200
TZOFFSETTO:+0100
TZNAME:CET
DTSTART:20271031T010000
END:STANDARD
END:VTIMEZONE
BEGIN:VEVENT
DTSTART;TZID=Europe/Podgorica:20260528T090000
DTEND;TZID=Europe/Podgorica:20260528T170000
DTSTAMP:20260424T002252
CREATED:20260317T193036Z
LAST-MODIFIED:20260317T211008Z
UID:12618-1779958800-1779987600@cosdt.me
SUMMARY:Donošenje i izrada prvostepene presude
DESCRIPTION:donošenje presude\nvrste presude\nsastav i pisana izrada prvostepene presude\n\nPredavač:Radojka Nikolić
URL:https://cosdt.me/seminar/iii-modul-gradanska-oblast/
END:VEVENT
BEGIN:VEVENT
DTSTART;TZID=Europe/Podgorica:20260529T090000
DTEND;TZID=Europe/Podgorica:20260529T170000
DTSTAMP:20260424T002252
CREATED:20260317T211008Z
LAST-MODIFIED:20260317T211008Z
UID:12948-1780045200-1780074000@cosdt.me
SUMMARY:Donošenje i izrada prvostepene presude
DESCRIPTION:donošenje presude\nvrste presude\nsastav i pisana izrada prvostepene presude\n\nPredavač:Radojka Nikolić
URL:https://cosdt.me/seminar/donosenje-i-izrada-prvostepene-presude/
END:VEVENT
BEGIN:VEVENT
DTSTART;TZID=Europe/Podgorica:20260601T090000
DTEND;TZID=Europe/Podgorica:20260601T170000
DTSTAMP:20260424T002252
CREATED:20260317T193036Z
LAST-MODIFIED:20260317T211008Z
UID:12620-1780304400-1780333200@cosdt.me
SUMMARY:Porodično pravo
DESCRIPTION:imovinski odnosi bračnih dugova\nodnosi roditelja i djece\npovjeravanje djece i izdržavanje\nizdržavanje roditelja i drugih srodnika.\n\nPredavač:Vesna Begović
URL:https://cosdt.me/seminar/viii-modul-gradanska-oblast/
END:VEVENT
BEGIN:VEVENT
DTSTART;VALUE=DATE:20260602
DTEND;VALUE=DATE:20260604
DTSTAMP:20260424T002252
CREATED:20260315T123008Z
LAST-MODIFIED:20260317T191436Z
UID:12116-1780358400-1780531199@cosdt.me
SUMMARY:Zakon o parničnom postupku (ZPP) i dokazivanje
DESCRIPTION:pravila dokazivanja i teret dokazivanja\nvođenje rasprave pred drugostepenim sudom\naktivna uloga suda u postupku i primjena člana 288a\nsprječavanje zloupotrebe procesnih prava\n\nVrijeme potrebno za izvođenje programa:\nJedna dvodnevna obuka i jedan jednodnevni okrugli sto \nKorisnici:\nSudije \nPredavači:\nSrđan Vujović\, sudija Apelacionog suda Crne Gore\nNataša Božović\, sutkinja Vrhovnog suda CG\nRadojka Nikolić\, sutkinja Vrhovnog suda CG u penziji\nSanja Konatar\, sutkinja Višeg suda u Bijelom Polju
URL:https://cosdt.me/seminar/zakon-o-parnicnom-postupku-zpp-i-dokazivanje/
LOCATION:Podgorica\, Montenegro
GEO:42.4304196;19.2593642
END:VEVENT
BEGIN:VEVENT
DTSTART;TZID=Europe/Podgorica:20260602T090000
DTEND;TZID=Europe/Podgorica:20260602T170000
DTSTAMP:20260424T002252
CREATED:20260317T193220Z
LAST-MODIFIED:20260317T211009Z
UID:12695-1780390800-1780419600@cosdt.me
SUMMARY:Program pripravnika: Upravni postupak - Opšti dio
DESCRIPTION:V UPRAVNOPRAVNA OBLAST \n\n	Organizaciju državne uprave\n	Upravnu stvar\n	Upravne aktivnosti\n	Nadležnost\n	Stranku i njeno zastupanje\n	Zainteresovano lice\n	Podneske i zapisnike\n	Dostavljanje pismena i\n	Rokove i povraćaj u pređašnje stanje\n\nPredavači:Miodrag Pešić\, predsjednik Upravnog suda Crne GoreLjiljana Šoškić\, sutkinja Vrhovnog suda Crne GoreBranka Lakočević\, sutkinja i predsjednica Upravnog suda Crne Gore u penziji
URL:https://cosdt.me/seminar/program-pripravnika-upravni-postupak-opsti-dio/
END:VEVENT
BEGIN:VEVENT
DTSTART;TZID=Europe/Podgorica:20260602T090000
DTEND;TZID=Europe/Podgorica:20260602T170000
DTSTAMP:20260424T002252
CREATED:20260317T211008Z
LAST-MODIFIED:20260317T211008Z
UID:12950-1780390800-1780419600@cosdt.me
SUMMARY:Porodično pravo
DESCRIPTION:imovinski odnosi bračnih dugova\nodnosi roditelja i djece\npovjeravanje djece i izdržavanje\nizdržavanje roditelja i drugih srodnika.\n\nPredavač:Vesna Begović
URL:https://cosdt.me/seminar/porodicno-pravo-2/
END:VEVENT
BEGIN:VEVENT
DTSTART;TZID=Europe/Podgorica:20260603T090000
DTEND;TZID=Europe/Podgorica:20260603T170000
DTSTAMP:20260424T002252
CREATED:20260317T193037Z
LAST-MODIFIED:20260317T211008Z
UID:12622-1780477200-1780506000@cosdt.me
SUMMARY:Obligaciono pravo
DESCRIPTION:ništavi i rušljivi ugovori\nnaknada štete po Zakonu o obligacionim odnosima\nodgovornost za štetu od opasne stvari ili opasne djelatnosti\nisključenje odgovornosti imaoca stvari i oslobođenje od odgovornosti za naknadu štete\noslobođenje od odgovornosti za naknadu štete i podijeljenja odgovornost\nnaknada nematerijalne štete zbog povrede ljudskih prava i osnovnih sloboda sa osvrtom na ključne presude Evropskog suda za ljudska prava i presude Evropskog suda za ljudska prava protiv Crne Gore\nnaknada štete zbog povrede ugovora\nzastarjelost potraživanja.\n\nPredavač:Snežana Vukčević
URL:https://cosdt.me/seminar/vii-modul-gradanska-oblast/
END:VEVENT
BEGIN:VEVENT
DTSTART;TZID=Europe/Podgorica:20260603T090000
DTEND;TZID=Europe/Podgorica:20260603T170000
DTSTAMP:20260424T002252
CREATED:20260317T193220Z
LAST-MODIFIED:20260317T211009Z
UID:12697-1780477200-1780506000@cosdt.me
SUMMARY:Program pripravnika: Tok upravnog postupka
DESCRIPTION:V UPRAVNOPRAVNA OBLAST \n\n	Načela upravnog postupka\n	Izjašnjavanje stranke o rezultatima ispitnog postupka\n	Upravni ugovor\n	Garantni akt\n	Prvostepeni upravni postupak\n	Sadržinu rješenja\n	Drugostepeni upravni postupak\n	Troškove upravnog postupka\n	Ponavljanje postupka\n	Pravne ljekove\n	Poništavanje i ukidanje rješenja i\n	Izvršenje\n\nPredavači:Miodrag Pešić\, predsjednik Upravnog suda Crne GoreLjiljana Šoškić\, sutkinja Vrhovnog suda Crne GoreBranka Lakočević\, sutkinja i predsjednica Upravnog suda Crne Gore u penziji
URL:https://cosdt.me/seminar/program-pripravnika-tok-upravnog-postupka/
END:VEVENT
BEGIN:VEVENT
DTSTART;VALUE=DATE:20260604
DTEND;VALUE=DATE:20260605
DTSTAMP:20260424T002252
CREATED:20260315T123009Z
LAST-MODIFIED:20260317T191500Z
UID:12142-1780531200-1780617599@cosdt.me
SUMMARY:Zaštita prava konkurencije
DESCRIPTION:Vrijeme potrebno za izvođenje programa:\nJedna jednodnevna obuka \nKorisnici:\nSudije Privrednog suda CG\, Upravnog suda CG i sudova za prekršaje\, državni tužioci \nPredavači:\nMaja Živaljević\, sutkinja Višeg suda za prekršaje\nLjiljana Šoškić\, sutkinja Vrhovnog suda CG \n(Agencija za zaštitu konkurencije)
URL:https://cosdt.me/seminar/zastita-prava-konkurencije-2/
LOCATION:Podgorica\, Montenegro
GEO:42.4304196;19.2593642
END:VEVENT
BEGIN:VEVENT
DTSTART;TZID=Europe/Podgorica:20260604T090000
DTEND;TZID=Europe/Podgorica:20260604T170000
DTSTAMP:20260424T002252
CREATED:20260317T193220Z
LAST-MODIFIED:20260317T211009Z
UID:12699-1780563600-1780592400@cosdt.me
SUMMARY:Program pripravnika: Upravni spor
DESCRIPTION:V UPRAVNOPRAVNA OBLAST \n\n	Nadležnost suda i odluke\n	Stranke u upravnom sporu\n	Zaintersovano lice\n	Sadržinu tužbe\n	Prethodno ispitivanje\n	Mjere za otklanjanje nedostataka u tužbi\n	Usmenu raspravu\n	Odlučivanje u sporu pune jurisdikcije\n	Zahtjev za ponavljanje postupka\n	Zahtjev za ispitivanje sudske odluke\n	Obaveznost sudske odluke i\n	Troškove upravnog spora\n\nPredavači:Miodrag Pešić\, predsjednik Upravnog suda Crne GoreLjiljana Šoškić\, sutkinja Vrhovnog suda Crne GoreBranka Lakočević\, sutkinja i predsjednica Upravnog suda Crne Gore u penzijiVI USTAVNI SISTEM I ORGANIZACIJA PRAVOSUĐA
URL:https://cosdt.me/seminar/program-pripravnika-upravni-spor/
END:VEVENT
BEGIN:VEVENT
DTSTART;TZID=Europe/Podgorica:20260604T090000
DTEND;TZID=Europe/Podgorica:20260604T170000
DTSTAMP:20260424T002252
CREATED:20260317T211008Z
LAST-MODIFIED:20260317T211008Z
UID:12952-1780563600-1780592400@cosdt.me
SUMMARY:Obligaciono pravo
DESCRIPTION:ništavi i rušljivi ugovori\nnaknada štete po Zakonu o obligacionim odnosima\nodgovornost za štetu od opasne stvari ili opasne djelatnosti\nisključenje odgovornosti imaoca stvari i oslobođenje od odgovornosti za naknadu štete\noslobođenje od odgovornosti za naknadu štete i podijeljenja odgovornost\nnaknada nematerijalne štete zbog povrede ljudskih prava i osnovnih sloboda sa osvrtom na ključne presude Evropskog suda za ljudska prava i presude Evropskog suda za ljudska prava protiv Crne Gore\nnaknada štete zbog povrede ugovora\nzastarjelost potraživanja.\n\nPredavač:Katarina Đurđić
URL:https://cosdt.me/seminar/obligaciono-pravo/
END:VEVENT
BEGIN:VEVENT
DTSTART;VALUE=DATE:20260605
DTEND;VALUE=DATE:20260606
DTSTAMP:20260424T002252
CREATED:20260315T123009Z
LAST-MODIFIED:20260317T191500Z
UID:12143-1780617600-1780703999@cosdt.me
SUMMARY:Državna pomoć
DESCRIPTION:izazovi u primjeni novog Zakona o kontroli državne pomoći\n\nVrijeme potrebno za izvođenje programa:\nJedna jednodnevna obuka \nKorisnici:\nSudije i državni tužioci \nPredavači:\nMaja Živaljević\, sutkinja Višeg suda za prekršaje\nLjiljana Šoškić\, sutkinja Vrhovnog suda CG
URL:https://cosdt.me/seminar/drzavna-pomoc/
LOCATION:Podgorica\, Montenegro
GEO:42.4304196;19.2593642
END:VEVENT
BEGIN:VEVENT
DTSTART;TZID=Europe/Podgorica:20260605T090000
DTEND;TZID=Europe/Podgorica:20260605T170000
DTSTAMP:20260424T002252
CREATED:20260317T211008Z
LAST-MODIFIED:20260317T211008Z
UID:12953-1780650000-1780678800@cosdt.me
SUMMARY:Obligaciono pravo
DESCRIPTION:ništavi i rušljivi ugovori\nnaknada štete po Zakonu o obligacionim odnosima\nodgovornost za štetu od opasne stvari ili opasne djelatnosti\nisključenje odgovornosti imaoca stvari i oslobođenje od odgovornosti za naknadu štete\noslobođenje od odgovornosti za naknadu štete i podijeljenja odgovornost\nnaknada nematerijalne štete zbog povrede ljudskih prava i osnovnih sloboda sa osvrtom na ključne presude Evropskog suda za ljudska prava i presude Evropskog suda za ljudska prava protiv Crne Gore\nnaknada štete zbog povrede ugovora\nzastarjelost potraživanja.\n\nPredavači:Snežana Vukčević i Katarina Đurđić
URL:https://cosdt.me/seminar/obligaciono-pravo-2/
END:VEVENT
BEGIN:VEVENT
DTSTART;VALUE=DATE:20260608
DTEND;VALUE=DATE:20260610
DTSTAMP:20260424T002252
CREATED:20260315T123009Z
LAST-MODIFIED:20260317T191500Z
UID:12138-1780876800-1781049599@cosdt.me
SUMMARY:UPRAVLJANJE SUDOVIMA I DRŽAVNIM TUŽILAŠTVIMA
DESCRIPTION:Obuke će se sprovoditi po posebnom Programu obuke za predsjednike sudova i\nrukovodioce državnih tužilaštava u Crnoj Gori\, koji sadrži sledeće module obuke:\n– planiranje budžeta i finansijsko upravljanje\n– upravljanje ljudskim resursima\n– sticanje menadžerskih vještina \nVrijeme potrebno za izvođenje programa:\nJedna dvodnevna obuka \nKorisnici:\npredsjednici sudova i rukovodioci državnih tužilaštava \nPredavači:\nValentina Pavličić\, predsjednica Vrhovnog suda CG\nMilorad Marković\, vrhovni državni tužilac\, Vrhovno državno tužilaštvo\nRadovan Đurišić\, rukovodilac Osnovnog državnog tužilaštva u Baru\nŽeljka Jovović\, predsjednica Osnovnog suda u Podgorici
URL:https://cosdt.me/seminar/upravljanje-sudovima-i-drzavnim-tuzilastvima/
LOCATION:Podgorica\, Montenegro
GEO:42.4304196;19.2593642
END:VEVENT
BEGIN:VEVENT
DTSTART;TZID=Europe/Podgorica:20260608T090000
DTEND;TZID=Europe/Podgorica:20260608T170000
DTSTAMP:20260424T002252
CREATED:20260317T193049Z
LAST-MODIFIED:20260317T211008Z
UID:12626-1780909200-1780938000@cosdt.me
SUMMARY:Trgovina ljudima: standardi dokazivanja i zaštita žrtava
DESCRIPTION:Postupanje u predmetima trgovine ljudima – standardi dokazivanja i zaštita žrtava\nTrgovina ljudima\nRazlike između krivičnog djela trgovina ljudima i srodnih krivičnih djela\n\nPredavač:Milenka Seka Žižić
URL:https://cosdt.me/seminar/xi-modul-krivicna-oblast/
END:VEVENT
BEGIN:VEVENT
DTSTART;TZID=Europe/Podgorica:20260608T090000
DTEND;TZID=Europe/Podgorica:20260608T170000
DTSTAMP:20260424T002252
CREATED:20260317T193134Z
LAST-MODIFIED:20260317T211009Z
UID:12664-1780909200-1780938000@cosdt.me
SUMMARY:Program pripravnika: Materijalno krivično pravo
DESCRIPTION:I KRIVIČNOPRAVNA OBLAST \n\n	Važenje krivičnog zakonodavstva Crne Gore\n	Elemente bića krivičnog djela\n	Pokušaj krivičnog djela\, dobrovoljni odustanak i nepodoban pokušaj\n	Saučesništvo\n	Izbor i odmjeravanje krivične sankcije\n	Sticaj krivičnih djela\n	Mjere upozorenja\n	Mjere bezbjednosti\n	Rehabilitaciju\, prestanak pravnih posljedica osude i davanje podataka iz kaznene evidencije\n	Zastarjelost i\n	Amnestiju i pomilovanje\n\nPredavači:Suzana Mugoša\, sutkinja Višeg suda u PodgoriciVeljko Rutović\, državni tužilac u Vrhovnom državnom tužilaštvu Crne Gore
URL:https://cosdt.me/seminar/program-pripravnika-materijalno-krivicno-pravo/
END:VEVENT
BEGIN:VEVENT
DTSTART;TZID=Europe/Podgorica:20260609T090000
DTEND;TZID=Europe/Podgorica:20260609T170000
DTSTAMP:20260424T002252
CREATED:20260317T193049Z
LAST-MODIFIED:20260317T211008Z
UID:12627-1780995600-1781024400@cosdt.me
SUMMARY:Koruptivna krivična djela i pranje novca
DESCRIPTION:Koruptivna krivična djela: Krivična djela protiv platnog prometa i privrednog poslovanja i krivična djela protiv službene dužnosti\nzloupotreba službenog položaja\nzloupotreba položaja u privrednom poslovanju\nzloupotreba ovlašćenja u privredi.\npranje novca\n\nPredavač:Zorica Milanović
URL:https://cosdt.me/seminar/xii-modul-krivicna-oblast/
END:VEVENT
BEGIN:VEVENT
DTSTART;TZID=Europe/Podgorica:20260609T090000
DTEND;TZID=Europe/Podgorica:20260609T170000
DTSTAMP:20260424T002252
CREATED:20260317T211009Z
LAST-MODIFIED:20260317T211009Z
UID:13010-1780995600-1781024400@cosdt.me
SUMMARY:Program pripravnika: Materijalno krivično pravo
DESCRIPTION:I KRIVIČNOPRAVNA OBLAST \n\n	Važenje krivičnog zakonodavstva Crne Gore\n	Elemente bića krivičnog djela\n	Pokušaj krivičnog djela\, dobrovoljni odustanak i nepodoban pokušaj\n	Saučesništvo\n	Izbor i odmjeravanje krivične sankcije\n	Sticaj krivičnih djela\n	Mjere upozorenja\n	Mjere bezbjednosti\n	Rehabilitaciju\, prestanak pravnih posljedica osude i davanje podataka iz kaznene evidencije\n	Zastarjelost i\n	Amnestiju i pomilovanje\n\nPredavači:Suzana Mugoša\, sutkinja Višeg suda u PodgoriciVeljko Rutović\, državni tužilac u Vrhovnom državnom tužilaštvu Crne Gore
URL:https://cosdt.me/seminar/program-pripravnika-materijalno-krivicno-pravo-3/
END:VEVENT
BEGIN:VEVENT
DTSTART;VALUE=DATE:20260610
DTEND;VALUE=DATE:20260611
DTSTAMP:20260424T002252
CREATED:20260315T123009Z
LAST-MODIFIED:20260317T191449Z
UID:12137-1781049600-1781135999@cosdt.me
SUMMARY:PRAVO EVROPSKE UNIJE
DESCRIPTION:– Uvodni Modul\n– institucije\n– organizacija pravnog sistema EU\n– praksa Suda pravde EU\n– tumačenje normi\n– Odnos Povelje o temeljnim pravima EU i Evropske konvencije\n– Proces pridruživanja EU \nVrijeme potrebno za izvođenje programa:\nDvije obuke \nKorisnici:\nSudije i državni tužioci \nPredavači:\nKatarina Đurđić\, sutkinja Vrhovnog suda CG\nLjiljana Šoškić\, sutkinja Vrhovnog suda CG\nMiloš Vukčević\, profesor na Univerzitetu Mediteran
URL:https://cosdt.me/seminar/pravo-evropske-unije/
LOCATION:Podgorica\, Montenegro
GEO:42.4304196;19.2593642
END:VEVENT
BEGIN:VEVENT
DTSTART;TZID=Europe/Podgorica:20260610T090000
DTEND;TZID=Europe/Podgorica:20260610T170000
DTSTAMP:20260424T002252
CREATED:20260317T193049Z
LAST-MODIFIED:20260317T211008Z
UID:12628-1781082000-1781110800@cosdt.me
SUMMARY:Stvarno pravo
DESCRIPTION:svojina i modaliteti prava svojine sa više subjekata\nsticanje prava svojine na nepokretnostima\ndržavina\ntužbe za zaštitu svojine i državine\nZakon o državnom premjeru i katastru nepokretnosti.\n\nPredavač:Miodrag Pešić
URL:https://cosdt.me/seminar/vi-modul-gradanska-oblast/
END:VEVENT
BEGIN:VEVENT
DTSTART;TZID=Europe/Podgorica:20260610T090000
DTEND;TZID=Europe/Podgorica:20260610T170000
DTSTAMP:20260424T002252
CREATED:20260317T211009Z
LAST-MODIFIED:20260317T211009Z
UID:13011-1781082000-1781110800@cosdt.me
SUMMARY:Program pripravnika: Materijalno krivično pravo
DESCRIPTION:I KRIVIČNOPRAVNA OBLAST \n\n	Važenje krivičnog zakonodavstva Crne Gore\n	Elemente bića krivičnog djela\n	Pokušaj krivičnog djela\, dobrovoljni odustanak i nepodoban pokušaj\n	Saučesništvo\n	Izbor i odmjeravanje krivične sankcije\n	Sticaj krivičnih djela\n	Mjere upozorenja\n	Mjere bezbjednosti\n	Rehabilitaciju\, prestanak pravnih posljedica osude i davanje podataka iz kaznene evidencije\n	Zastarjelost i\n	Amnestiju i pomilovanje\n\nPredavači:Suzana Mugoša\, sutkinja Višeg suda u PodgoriciVeljko Rutović\, državni tužilac u Vrhovnom državnom tužilaštvu Crne Gore
URL:https://cosdt.me/seminar/program-pripravnika-materijalno-krivicno-pravo-4/
END:VEVENT
BEGIN:VEVENT
DTSTART;VALUE=DATE:20260611
DTEND;VALUE=DATE:20260613
DTSTAMP:20260424T002252
CREATED:20260315T123007Z
LAST-MODIFIED:20260317T191421Z
UID:12097-1781136000-1781308799@cosdt.me
SUMMARY:Pritvor i alternativne mjere
DESCRIPTION:obrazloženje odluka o pritvoru i pritvorskih osnova u skladu sa standardima iz čl.\n\n5 EKLJP \n\nsporna pitanja u vezi različitih pritvorskih osnova u rješenjima o određivanju i\n\nproduženju pritvora u istrazi \n\nsporna pitanja u primjeni alternativnih mjera\n\nVrijeme potrebno za izvođenje programa:\nJedan jednodnevni okrugli sto \nKorisnici:\nSudije i državni tužioci \nPredavači:\nValentina Pavličić\, predsjednica Vrhovnog suda Crne Gore\nMiraš Radović\, sudija Vrhovnog suda CG u penziji\nVesna Kovačević\, sutkinja Višeg suda u Podgorici\nMilenka Seka Žižić\, sutkinja Vrhovnog suda CG\nMiloš Šoškić\, državni tužilac\, Specijalno državno tužilaštvo
URL:https://cosdt.me/seminar/pritvor-i-alternativne-mjere/
LOCATION:Podgorica\, Montenegro
GEO:42.4304196;19.2593642
END:VEVENT
BEGIN:VEVENT
DTSTART;TZID=Europe/Podgorica:20260611T090000
DTEND;TZID=Europe/Podgorica:20260611T170000
DTSTAMP:20260424T002252
CREATED:20260317T211008Z
LAST-MODIFIED:20260317T211008Z
UID:12957-1781168400-1781197200@cosdt.me
SUMMARY:Stvarno pravo
DESCRIPTION:svojina i modaliteti prava svojine sa više subjekata\nsticanje prava svojine na nepokretnostima\ndržavina\ntužbe za zaštitu svojine i državine\nZakon o državnom premjeru i katastru nepokretnosti.\n\nPredavač:Miodrag Pešić
URL:https://cosdt.me/seminar/stvarno-pravo/
END:VEVENT
BEGIN:VEVENT
DTSTART;TZID=Europe/Podgorica:20260611T090000
DTEND;TZID=Europe/Podgorica:20260611T170000
DTSTAMP:20260424T002252
CREATED:20260317T211009Z
LAST-MODIFIED:20260317T211009Z
UID:13012-1781168400-1781197200@cosdt.me
SUMMARY:Program pripravnika: Materijalno krivično pravo
DESCRIPTION:I KRIVIČNOPRAVNA OBLAST \n\n	Važenje krivičnog zakonodavstva Crne Gore\n	Elemente bića krivičnog djela\n	Pokušaj krivičnog djela\, dobrovoljni odustanak i nepodoban pokušaj\n	Saučesništvo\n	Izbor i odmjeravanje krivične sankcije\n	Sticaj krivičnih djela\n	Mjere upozorenja\n	Mjere bezbjednosti\n	Rehabilitaciju\, prestanak pravnih posljedica osude i davanje podataka iz kaznene evidencije\n	Zastarjelost i\n	Amnestiju i pomilovanje\n\nPredavači:Suzana Mugoša\, sutkinja Višeg suda u PodgoriciVeljko Rutović\, državni tužilac u Vrhovnom državnom tužilaštvu Crne Gore
URL:https://cosdt.me/seminar/program-pripravnika-materijalno-krivicno-pravo-5/
END:VEVENT
BEGIN:VEVENT
DTSTART;TZID=Europe/Podgorica:20260612T090000
DTEND;TZID=Europe/Podgorica:20260612T170000
DTSTAMP:20260424T002252
CREATED:20260317T211008Z
LAST-MODIFIED:20260317T211008Z
UID:12958-1781254800-1781283600@cosdt.me
SUMMARY:Stvarno pravo
DESCRIPTION:svojina i modaliteti prava svojine sa više subjekata\nsticanje prava svojine na nepokretnostima\ndržavina\ntužbe za zaštitu svojine i državine\nZakon o državnom premjeru i katastru nepokretnosti.\n\nPredavač:Miodrag Pešić
URL:https://cosdt.me/seminar/stvarno-pravo-2/
END:VEVENT
BEGIN:VEVENT
DTSTART;TZID=Europe/Podgorica:20260612T090000
DTEND;TZID=Europe/Podgorica:20260612T170000
DTSTAMP:20260424T002252
CREATED:20260317T211009Z
LAST-MODIFIED:20260317T211009Z
UID:13013-1781254800-1781283600@cosdt.me
SUMMARY:Program pripravnika: Materijalno krivično pravo
DESCRIPTION:I KRIVIČNOPRAVNA OBLAST \n\n	Važenje krivičnog zakonodavstva Crne Gore\n	Elemente bića krivičnog djela\n	Pokušaj krivičnog djela\, dobrovoljni odustanak i nepodoban pokušaj\n	Saučesništvo\n	Izbor i odmjeravanje krivične sankcije\n	Sticaj krivičnih djela\n	Mjere upozorenja\n	Mjere bezbjednosti\n	Rehabilitaciju\, prestanak pravnih posljedica osude i davanje podataka iz kaznene evidencije\n	Zastarjelost i\n	Amnestiju i pomilovanje\n\nPredavači:Suzana Mugoša\, sutkinja Višeg suda u PodgoriciVeljko Rutović\, državni tužilac u Vrhovnom državnom tužilaštvu Crne Gore
URL:https://cosdt.me/seminar/program-pripravnika-materijalno-krivicno-pravo-6/
END:VEVENT
BEGIN:VEVENT
DTSTART;VALUE=DATE:20260615
DTEND;VALUE=DATE:20260617
DTSTAMP:20260424T002252
CREATED:20260315T123010Z
LAST-MODIFIED:20260317T191500Z
UID:12147-1781481600-1781654399@cosdt.me
SUMMARY:Komunikacijske vještine\, upravljanje stresom i sprječavanje sindroma sagorijevanja
DESCRIPTION:Vrijeme potrebno za izvođenje programa:\nJedna dvodnevna obuka \nKorisnici:\nSudije i državni tužioci \nPredavači:\nRadoje Cerović\, dipl. psiholog\nBego Begu\, komunikolog\,\nMiodrag Strugar\, komunikolog
URL:https://cosdt.me/seminar/komunikacijske-vjestine-upravljanje-stresom-i-sprjecavanje-sindroma-sagorijevanja-2/
LOCATION:Podgorica\, Montenegro
GEO:42.4304196;19.2593642
END:VEVENT
BEGIN:VEVENT
DTSTART;TZID=Europe/Podgorica:20260615T090000
DTEND;TZID=Europe/Podgorica:20260615T170000
DTSTAMP:20260424T002252
CREATED:20260317T193049Z
LAST-MODIFIED:20260317T211008Z
UID:12631-1781514000-1781542800@cosdt.me
SUMMARY:Zločin iz mržnje\, sa osvrtom na nasilje nad LGBT osobama
DESCRIPTION:Predavač:Milenka Seka Žižić
URL:https://cosdt.me/seminar/xvi-modul-krivicna-oblast/
END:VEVENT
BEGIN:VEVENT
DTSTART;TZID=Europe/Podgorica:20260615T090000
DTEND;TZID=Europe/Podgorica:20260615T170000
DTSTAMP:20260424T002252
CREATED:20260317T193232Z
LAST-MODIFIED:20260317T211009Z
UID:12706-1781514000-1781542800@cosdt.me
SUMMARY:Program pripravnika: Konvencijsko pravo
DESCRIPTION:V UPRAVNOPRAVNA OBLAST \n\n	Ključni instrumenti i tijela UN-a\n	Ključni instrumenti i tijela Savjeta Evrope i\n	Međunarodni krivični sud i međunarodne tribunale\n\nPredavači:Katarina Peković\, bivša zastupnica Crne Gore pred ESLJPProf dr Miloš Vukčević\, advokat
URL:https://cosdt.me/seminar/program-pripravnika-konvencijsko-pravo/
END:VEVENT
BEGIN:VEVENT
DTSTART;TZID=Europe/Podgorica:20260616T090000
DTEND;TZID=Europe/Podgorica:20260616T170000
DTSTAMP:20260424T002252
CREATED:20260317T193100Z
LAST-MODIFIED:20260317T211008Z
UID:12633-1781600400-1781629200@cosdt.me
SUMMARY:Postupanje prema maloljetnicima i posredovanje
DESCRIPTION:Zakon o postupanju prema maloljetnicima u krivičnom postupku\nposredovanje\n\nPredavač:Danka Ivanović Đerić
URL:https://cosdt.me/seminar/xv-modul-krivicna-oblast/
END:VEVENT
END:VCALENDAR