BEGIN:VCALENDAR
VERSION:2.0
PRODID:-//COSDT - ECPv6.15.17.1//NONSGML v1.0//EN
CALSCALE:GREGORIAN
METHOD:PUBLISH
X-WR-CALNAME:COSDT
X-ORIGINAL-URL:https://cosdt.me
X-WR-CALDESC:Events for COSDT
REFRESH-INTERVAL;VALUE=DURATION:PT1H
X-Robots-Tag:noindex
X-PUBLISHED-TTL:PT1H
BEGIN:VTIMEZONE
TZID:Europe/Podgorica
BEGIN:DAYLIGHT
TZOFFSETFROM:+0100
TZOFFSETTO:+0200
TZNAME:CEST
DTSTART:20180325T010000
END:DAYLIGHT
BEGIN:STANDARD
TZOFFSETFROM:+0200
TZOFFSETTO:+0100
TZNAME:CET
DTSTART:20181028T010000
END:STANDARD
BEGIN:DAYLIGHT
TZOFFSETFROM:+0100
TZOFFSETTO:+0200
TZNAME:CEST
DTSTART:20190331T010000
END:DAYLIGHT
BEGIN:STANDARD
TZOFFSETFROM:+0200
TZOFFSETTO:+0100
TZNAME:CET
DTSTART:20191027T010000
END:STANDARD
BEGIN:DAYLIGHT
TZOFFSETFROM:+0100
TZOFFSETTO:+0200
TZNAME:CEST
DTSTART:20200329T010000
END:DAYLIGHT
BEGIN:STANDARD
TZOFFSETFROM:+0200
TZOFFSETTO:+0100
TZNAME:CET
DTSTART:20201025T010000
END:STANDARD
BEGIN:DAYLIGHT
TZOFFSETFROM:+0100
TZOFFSETTO:+0200
TZNAME:CEST
DTSTART:20210328T010000
END:DAYLIGHT
BEGIN:STANDARD
TZOFFSETFROM:+0200
TZOFFSETTO:+0100
TZNAME:CET
DTSTART:20211031T010000
END:STANDARD
END:VTIMEZONE
BEGIN:VEVENT
DTSTART;VALUE=DATE:20200604
DTEND;VALUE=DATE:20200606
DTSTAMP:20260426T061105
CREATED:20200127T075753Z
LAST-MODIFIED:20200127T075753Z
UID:5301-1591228800-1591401599@cosdt.me
SUMMARY:Pranje novca
DESCRIPTION:Pranje novca
URL:https://cosdt.me/seminar/pranje-novca/
LOCATION:Podgorica\, Montenegro
CATEGORIES:Seminari
END:VEVENT
BEGIN:VEVENT
DTSTART;VALUE=DATE:20200526
DTEND;VALUE=DATE:20200527
DTSTAMP:20260426T061105
CREATED:20200127T084232Z
LAST-MODIFIED:20200127T084232Z
UID:5394-1590451200-1590537599@cosdt.me
SUMMARY:Medijsko pravo
DESCRIPTION:Medijsko pravo
URL:https://cosdt.me/seminar/medijsko-pravo/
LOCATION:Podgorica\, Montenegro
CATEGORIES:Seminari
END:VEVENT
BEGIN:VEVENT
DTSTART;VALUE=DATE:20200518
DTEND;VALUE=DATE:20200520
DTSTAMP:20260426T061105
CREATED:20200127T084344Z
LAST-MODIFIED:20200127T084344Z
UID:5400-1589760000-1589932799@cosdt.me
SUMMARY:Medijacija
DESCRIPTION:Medijacija
URL:https://cosdt.me/seminar/medijacija-2/
LOCATION:Podgorica\, Montenegro
CATEGORIES:Seminari
END:VEVENT
BEGIN:VEVENT
DTSTART;VALUE=DATE:20200514
DTEND;VALUE=DATE:20200516
DTSTAMP:20260426T061105
CREATED:20200127T080206Z
LAST-MODIFIED:20200127T080206Z
UID:5307-1589414400-1589587199@cosdt.me
SUMMARY:Kompjuterski kriminal
DESCRIPTION:Kompjuterski kriminal – uvodni modul o elektronskim dokazima i praćenju imovine stečene kriminalom on-line putem (jedan kurs)
URL:https://cosdt.me/seminar/kompjuterski-kriminal/
LOCATION:Podgorica\, Montenegro
CATEGORIES:Seminari
END:VEVENT
BEGIN:VEVENT
DTSTART;VALUE=DATE:20200511
DTEND;VALUE=DATE:20200513
DTSTAMP:20260426T061105
CREATED:20200127T083516Z
LAST-MODIFIED:20200127T083516Z
UID:5370-1589155200-1589327999@cosdt.me
SUMMARY:Član 6 Evropske konvencije o ljudskim pravima i slobodama - pravo na pravično sudjenje
DESCRIPTION:Član 6 Evropske konvencije o ljudskim pravima i slobodama – pravo na pravično sudjenje; Zakon o zaštiti na suđenje o razumnom roku; Pravo na odbranu i jednakost oružja u praksi ESLJP
URL:https://cosdt.me/seminar/clan-6-evropske-konvencije-o-ljudskim-pravima-i-slobodama-pravo-na-pravicno-sudjenje/
LOCATION:Podgorica\, Montenegro
CATEGORIES:Seminari
END:VEVENT
BEGIN:VEVENT
DTSTART;VALUE=DATE:20200504
DTEND;VALUE=DATE:20200506
DTSTAMP:20260426T061105
CREATED:20200127T080100Z
LAST-MODIFIED:20200312T080408Z
UID:5304-1588550400-1588723199@cosdt.me
SUMMARY:Ratni zločini - Prisilni nestanak lica
DESCRIPTION:Ratni zločini – međunarodna saradnja u istragama i suđenjima u predmetima ratnih zločina i primjena Strategije VDT o istraživanju ratnih zločina \nPrisilni nestanak lica – međunarodni standardi (Pakt o građanskim i političkim pravima)
URL:https://cosdt.me/seminar/ratni-zlocini-prisilni-nestanak-lica/
LOCATION:Podgorica\, Montenegro
CATEGORIES:Seminari
END:VEVENT
BEGIN:VEVENT
DTSTART;VALUE=DATE:20200427
DTEND;VALUE=DATE:20200429
DTSTAMP:20260426T061105
CREATED:20200127T081852Z
LAST-MODIFIED:20200127T081852Z
UID:5346-1587945600-1588118399@cosdt.me
SUMMARY:Zakon o obligacionim odnosima i sporna pitanja u primjeni
DESCRIPTION:Zakon o obligacionim odnosima i sporna pitanja u primjeni
URL:https://cosdt.me/seminar/zakon-o-obligacionim-odnosima-i-sporna-pitanja-u-primjeni/
LOCATION:Podgorica\, Montenegro
CATEGORIES:Seminari
END:VEVENT
BEGIN:VEVENT
DTSTART;VALUE=DATE:20200422
DTEND;VALUE=DATE:20200425
DTSTAMP:20260426T061105
CREATED:20200127T084659Z
LAST-MODIFIED:20200127T084659Z
UID:5406-1587513600-1587772799@cosdt.me
SUMMARY:Obuke za predavače (ToT) - vještine prenošenja znanja
DESCRIPTION:Obuke za predavače (ToT) – vještine prenošenja znanja
URL:https://cosdt.me/seminar/obuke-za-predavace-tot-vjestine-prenosenja-znanja/
LOCATION:Podgorica\, Montenegro
CATEGORIES:Obuke
END:VEVENT
BEGIN:VEVENT
DTSTART;VALUE=DATE:20200410
DTEND;VALUE=DATE:20200411
DTSTAMP:20260426T061105
CREATED:20200127T075404Z
LAST-MODIFIED:20200127T075404Z
UID:5289-1586476800-1586563199@cosdt.me
SUMMARY:Finansijske istrage i oduzimanje imovinske koristi stečene kriminalnom djelatnošću
DESCRIPTION:Finansijske istrage i oduzimanje imovinske koristi stečene kriminalnom djelatnošću
URL:https://cosdt.me/seminar/finansijske-istrage-i-oduzimanje-imovinske-koristi-stecene-kriminalnom-djelatnoscu/
LOCATION:Podgorica\, Montenegro
CATEGORIES:Seminari
END:VEVENT
BEGIN:VEVENT
DTSTART;VALUE=DATE:20200403
DTEND;VALUE=DATE:20200404
DTSTAMP:20260426T061105
CREATED:20200127T075307Z
LAST-MODIFIED:20200127T075307Z
UID:5286-1585872000-1585958399@cosdt.me
SUMMARY:Kontrola i potvrđivanje optužnice
DESCRIPTION:Kontrola i potvrđivanje optužnice
URL:https://cosdt.me/seminar/kontrola-i-potvrdivanje-optuznice/
LOCATION:Podgorica\, Montenegro
CATEGORIES:Seminari
END:VEVENT
BEGIN:VEVENT
DTSTART;VALUE=DATE:20200325
DTEND;VALUE=DATE:20200328
DTSTAMP:20260426T061105
CREATED:20200127T080609Z
LAST-MODIFIED:20200219T073031Z
UID:5319-1585094400-1585353599@cosdt.me
SUMMARY:Trgovina ljudima - procesuiranje i pravno kvalifikovanje KD trgovina ljudima
DESCRIPTION:Trgovina ljudima – procesuiranje i pravno kvalifikovanje KD trgovina ljudima
URL:https://cosdt.me/seminar/trgovina-ljudima-procesuiranje-i-pravno-kvalifikovanje-kd-trgovina-ljudima/
LOCATION:Podgorica\, Montenegro
CATEGORIES:Seminari
END:VEVENT
BEGIN:VEVENT
DTSTART;VALUE=DATE:20200323
DTEND;VALUE=DATE:20200325
DTSTAMP:20260426T061105
CREATED:20200127T083303Z
LAST-MODIFIED:20200127T083303Z
UID:5364-1584921600-1585094399@cosdt.me
SUMMARY:Član 2 i Član 3 Evropske konvencije o ljudskim pravima
DESCRIPTION:Član 2 i Član 3 Evropske konvencije o ljudskim pravima
URL:https://cosdt.me/seminar/clan-2-i-clan-3-evropske-konvencije-o-ljudskim-pravima/
LOCATION:Podgorica\, Montenegro
CATEGORIES:Seminari
END:VEVENT
BEGIN:VEVENT
DTSTART;VALUE=DATE:20200319
DTEND;VALUE=DATE:20200321
DTSTAMP:20260426T061105
CREATED:20200127T075122Z
LAST-MODIFIED:20200310T070416Z
UID:5280-1584576000-1584748799@cosdt.me
SUMMARY:Napredne istrage i MTN
DESCRIPTION:Napredne istrage i MTN
URL:https://cosdt.me/seminar/mtn-odredjivanje-trajanje-produzenje-i-koriscenje-dokaza-pribavljenih-ovim-putem-sa-posebnim-akcentom-na-povredu-prava-na-privatnost-i-zastitu-podataka-o-licnosti/
LOCATION:Podgorica\, Montenegro
CATEGORIES:Seminari
END:VEVENT
BEGIN:VEVENT
DTSTART;VALUE=DATE:20200318
DTEND;VALUE=DATE:20200320
DTSTAMP:20260426T061105
CREATED:20200127T075552Z
LAST-MODIFIED:20200312T080622Z
UID:5295-1584489600-1584662399@cosdt.me
SUMMARY:Međunarodna pravna pomoć u krivičnim stvarima - Metodologija i vještine u izradi i pisanju zamolnica za međunarodnu pravosudnu saradnju - Otkazano
DESCRIPTION:Međunarodna pravna pomoć u krivičnim stvarima \n\nMetodologija i vještine u izradi i pisanju zamolnica za međunarodnu pravosudnu saradnju
URL:https://cosdt.me/seminar/medunarodna-pravna-pomoc-u-krivicnim-stvarima-metodologija-i-vjestine-u-izradi-i-pisanju-zamolnica-za-medunarodnu-pravosudnu-saradnju/
LOCATION:Podgorica\, Montenegro
CATEGORIES:Seminari
END:VEVENT
BEGIN:VEVENT
DTSTART;VALUE=DATE:20200313
DTEND;VALUE=DATE:20200314
DTSTAMP:20260426T061105
CREATED:20200127T082840Z
LAST-MODIFIED:20200127T082840Z
UID:5355-1584057600-1584143999@cosdt.me
SUMMARY:Medjunarodno privatno pravo - mjerodavno pravo
DESCRIPTION:Medjunarodno privatno pravo – mjerodavno pravo
URL:https://cosdt.me/seminar/medjunarodno-privatno-pravo-mjerodavno-pravo-2/
LOCATION:Podgorica\, Montenegro
CATEGORIES:Seminari
END:VEVENT
BEGIN:VEVENT
DTSTART;VALUE=DATE:20200310
DTEND;VALUE=DATE:20200312
DTSTAMP:20260426T061105
CREATED:20200120T092714Z
LAST-MODIFIED:20200120T092839Z
UID:5265-1583798400-1583971199@cosdt.me
SUMMARY:Izmjene i dopune Zakona o izvršenju i obezbjeđenju i sporna pitanja u njegovoj primjeni
DESCRIPTION:Izmjene i dopune Zakona o izvršenju i obezbjeđenju i sporna pitanja u njegovoj primjeni – Budva
URL:https://cosdt.me/seminar/izmjene-i-dopune-zakona-o-izvrsenju-i-obezbjedenju-i-sporna-pitanja-u-njegovoj-primjeni/
LOCATION:Budva\, Budva\, Montenegro
CATEGORIES:Seminari
END:VEVENT
BEGIN:VEVENT
DTSTART;VALUE=DATE:20200302
DTEND;VALUE=DATE:20200303
DTSTAMP:20260426T061105
CREATED:20200127T081704Z
LAST-MODIFIED:20200219T122543Z
UID:5340-1583107200-1583193599@cosdt.me
SUMMARY:Stvarno-pravni odnosi
DESCRIPTION:Stvarno-pravni odnosi
URL:https://cosdt.me/seminar/stvarno-pravni-odnosi-3/
LOCATION:Podgorica\, Montenegro
CATEGORIES:Seminari
END:VEVENT
BEGIN:VEVENT
DTSTART;VALUE=DATE:20200227
DTEND;VALUE=DATE:20200229
DTSTAMP:20260426T061105
CREATED:20200127T084100Z
LAST-MODIFIED:20200127T084100Z
UID:5388-1582761600-1582934399@cosdt.me
SUMMARY:Pravni poredak EU. Instrumenti\, karakteristike i fundamentalni principi prava EU
DESCRIPTION:Pravni poredak EU. Instrumenti\, karakteristike i fundamentalni principi prava EU
URL:https://cosdt.me/seminar/pravni-poredak-eu-instrumenti-karakteristike-i-fundamentalni-principi-prava-eu/
LOCATION:Podgorica\, Montenegro
CATEGORIES:Seminari
END:VEVENT
BEGIN:VEVENT
DTSTART;VALUE=DATE:20200224
DTEND;VALUE=DATE:20200226
DTSTAMP:20260426T061105
CREATED:20200127T081812Z
LAST-MODIFIED:20200127T081812Z
UID:5343-1582502400-1582675199@cosdt.me
SUMMARY:Pretvaranje prava iz društvene svojine u pravo svojine stupanjem na snagu Zakona o svojinsko pravnim odnosima ("Sl.list CG" br.19/09 čl.419)
DESCRIPTION:Pretvaranje prava iz društvene svojine u pravo svojine stupanjem na snagu Zakona o svojinsko pravnim odnosima (“Sl.list CG” br.19/09 čl.419)
URL:https://cosdt.me/seminar/pretvaranje-prava-iz-drustvene-svojine-u-pravo-svojine-stupanjem-na-snagu-zakona-o-svojinsko-pravnim-odnosima-sl-list-cg-br-19-09-cl-419/
LOCATION:Podgorica\, Montenegro
CATEGORIES:Seminari
END:VEVENT
BEGIN:VEVENT
DTSTART;VALUE=DATE:20200224
DTEND;VALUE=DATE:20200226
DTSTAMP:20260426T061105
CREATED:20200120T092526Z
LAST-MODIFIED:20200120T092526Z
UID:5261-1582502400-1582675199@cosdt.me
SUMMARY:Pretvaranje društvene svojine u pravo svojine
DESCRIPTION:Pretvaranje društvene svojine u pravo svojine – Podgorica
URL:https://cosdt.me/seminar/pretvaranje-drustvene-svojine-u-pravo-svojine/
LOCATION:Podgorica\, Podgorica\, Montenegro
CATEGORIES:Seminari
END:VEVENT
BEGIN:VEVENT
DTSTART;VALUE=DATE:20200220
DTEND;VALUE=DATE:20200222
DTSTAMP:20260426T061105
CREATED:20200127T075447Z
LAST-MODIFIED:20200127T075447Z
UID:5292-1582156800-1582329599@cosdt.me
SUMMARY:Sporazum o priznanju krivice
DESCRIPTION:Sporazum o priznanju krivice
URL:https://cosdt.me/seminar/sporazum-o-priznanju-krivice-3/
LOCATION:Podgorica\, Montenegro
CATEGORIES:Seminari
END:VEVENT
BEGIN:VEVENT
DTSTART;VALUE=DATE:20200217
DTEND;VALUE=DATE:20200218
DTSTAMP:20260426T061105
CREATED:20200120T092430Z
LAST-MODIFIED:20200120T092430Z
UID:5259-1581897600-1581983999@cosdt.me
SUMMARY:Izmjene i dopune Zakona o vanparničnom postupku
DESCRIPTION:Izmjene i dopune Zakona o vanparničnom postupku – Podgorica
URL:https://cosdt.me/seminar/izmjene-i-dopune-zakona-o-vanparnicnom-postupku/
LOCATION:Podgorica\, Podgorica\, Montenegro
CATEGORIES:Seminari
END:VEVENT
BEGIN:VEVENT
DTSTART;VALUE=DATE:20200207
DTEND;VALUE=DATE:20200208
DTSTAMP:20260426T061105
CREATED:20200120T092214Z
LAST-MODIFIED:20200120T092214Z
UID:5256-1581033600-1581119999@cosdt.me
SUMMARY:Član 5 Evropske konvencije o ljudskim pravima
DESCRIPTION:Član 5 Evropske konvencije o ljudskim pravima – Podgorica
URL:https://cosdt.me/seminar/clan-5-evropske-konvencije-o-ljudskim-pravima/
LOCATION:Podgorica\, Podgorica\, Montenegro
CATEGORIES:Seminari
END:VEVENT
BEGIN:VEVENT
DTSTART;VALUE=DATE:20200129
DTEND;VALUE=DATE:20200131
DTSTAMP:20260426T061105
CREATED:20200127T080400Z
LAST-MODIFIED:20200127T080400Z
UID:5313-1580256000-1580428799@cosdt.me
SUMMARY:Zaštita od nasilja u porodici sa akcentom na Istanbulsku konvenciju
DESCRIPTION:Zaštita od nasilja u porodici sa akcentom na Istanbulsku konvenciju
URL:https://cosdt.me/seminar/zastita-od-nasilja-u-porodici-sa-akcentom-na-istanbulsku-konvenciju-2/
LOCATION:Podgorica\, Montenegro
CATEGORIES:Seminari
END:VEVENT
BEGIN:VEVENT
DTSTART;VALUE=DATE:20191217
DTEND;VALUE=DATE:20191219
DTSTAMP:20260426T061105
CREATED:20191010T103639Z
LAST-MODIFIED:20191010T103639Z
UID:4920-1576540800-1576713599@cosdt.me
SUMMARY:Aksiologija
DESCRIPTION:Aksiologija
URL:https://cosdt.me/seminar/aksiologija/
LOCATION:Podgorica\, Montenegro
CATEGORIES:Seminari
END:VEVENT
BEGIN:VEVENT
DTSTART;VALUE=DATE:20191216
DTEND;VALUE=DATE:20191217
DTSTAMP:20260426T061105
CREATED:20190606T100541Z
LAST-MODIFIED:20191010T103528Z
UID:4466-1576454400-1576540799@cosdt.me
SUMMARY:Mjenice kao sredstvo obezbjeđenja i naplate potraživanja - moguće odlaganje
DESCRIPTION:Mjenice kao sredstvo obezbjeđenja i naplate potraživanja; Mjenica kao vjerodostojna isprava u postupku izvršenja; Načelo fiksnosti obaveze (prava i obaveze su apsolutne i fiksne) i načelo transparentronsti (imalac mjenice je u direktnom pravnom odnosu prema dužnicima); Mjenica pravnih i fizičkih lica.
URL:https://cosdt.me/seminar/mjenice-kao-sredstvo-obezbjedenja-i-naplate-potrazivanja/
LOCATION:Podgorica\, Montenegro
CATEGORIES:Seminari
END:VEVENT
BEGIN:VEVENT
DTSTART;VALUE=DATE:20191210
DTEND;VALUE=DATE:20191212
DTSTAMP:20260426T061105
CREATED:20190606T095522Z
LAST-MODIFIED:20190606T095522Z
UID:4436-1575936000-1576108799@cosdt.me
SUMMARY:Probacija i alternativne sankcije
DESCRIPTION:Probacija i alternativne sankcije (uslovna osuda\, rad u javnom interesu i uslovni otpust sa akcentom na Izmjene i dopune Zakona o izvršenju uslovne osude i kazne rada u javnom interesu i Izmjene i dopune Zakona o izvršenju kazni zatvora\, novčane kazne i mjera bezbjednosti)
URL:https://cosdt.me/seminar/probacija-i-alternativne-sankcije-2/
LOCATION:Podgorica\, Montenegro
END:VEVENT
BEGIN:VEVENT
DTSTART;VALUE=DATE:20191209
DTEND;VALUE=DATE:20191211
DTSTAMP:20260426T061105
CREATED:20191010T103445Z
LAST-MODIFIED:20191010T103445Z
UID:4916-1575849600-1576022399@cosdt.me
SUMMARY:Sudijske i tužilačke vještine
DESCRIPTION:Sudijske i tužilačke vještine
URL:https://cosdt.me/seminar/sudijske-i-tuzilacke-vjestine/
LOCATION:Podgorica\, Montenegro
END:VEVENT
BEGIN:VEVENT
DTSTART;VALUE=DATE:20191206
DTEND;VALUE=DATE:20191207
DTSTAMP:20260426T061105
CREATED:20190606T094942Z
LAST-MODIFIED:20190606T094942Z
UID:4424-1575590400-1575676799@cosdt.me
SUMMARY:Sporazum o priznanju krivice
DESCRIPTION:Sporazum o priznanju krivice
URL:https://cosdt.me/seminar/sporazum-o-priznanju-krivice-2/
LOCATION:Podgorica\, Montenegro
CATEGORIES:Seminari
END:VEVENT
BEGIN:VEVENT
DTSTART;VALUE=DATE:20191205
DTEND;VALUE=DATE:20191206
DTSTAMP:20260426T061105
CREATED:20190606T101854Z
LAST-MODIFIED:20191010T103321Z
UID:4514-1575504000-1575590399@cosdt.me
SUMMARY:Jačanje integriteta i etički kodeksi sudija i tužilaca kao i članova Sudskog i Tužilačkog savjeta
DESCRIPTION:-Jačanje integriteta i etički kodeksi sudija i tužilaca kao i članova Sudskog i Tužilačkog savjeta\, \n-Sistem profesionalne ocjene rada sudija i državnih tužilaca u skladu sa Zakonom o Sudskom savjetu i sudijama i Zakonom o Državnom tužilaštvu\, \n-Sistem disciplinske odgovornosti sudija i državnih tužilaca\, \n-Odnos pravosuđa i medija
URL:https://cosdt.me/seminar/jacanje-integriteta-i-eticki-kodeksi-sudija-i-tuzilaca-kao-i-clanova-sudskog-i-tuzilackog-savjeta/
LOCATION:Podgorica\, Montenegro
CATEGORIES:Seminari
END:VEVENT
END:VCALENDAR