BEGIN:VCALENDAR
VERSION:2.0
PRODID:-//COSDT - ECPv6.15.17.1//NONSGML v1.0//EN
CALSCALE:GREGORIAN
METHOD:PUBLISH
X-WR-CALNAME:COSDT
X-ORIGINAL-URL:https://cosdt.me
X-WR-CALDESC:Events for COSDT
REFRESH-INTERVAL;VALUE=DURATION:PT1H
X-Robots-Tag:noindex
X-PUBLISHED-TTL:PT1H
BEGIN:VTIMEZONE
TZID:Europe/Podgorica
BEGIN:DAYLIGHT
TZOFFSETFROM:+0100
TZOFFSETTO:+0200
TZNAME:CEST
DTSTART:20190331T010000
END:DAYLIGHT
BEGIN:STANDARD
TZOFFSETFROM:+0200
TZOFFSETTO:+0100
TZNAME:CET
DTSTART:20191027T010000
END:STANDARD
BEGIN:DAYLIGHT
TZOFFSETFROM:+0100
TZOFFSETTO:+0200
TZNAME:CEST
DTSTART:20200329T010000
END:DAYLIGHT
BEGIN:STANDARD
TZOFFSETFROM:+0200
TZOFFSETTO:+0100
TZNAME:CET
DTSTART:20201025T010000
END:STANDARD
BEGIN:DAYLIGHT
TZOFFSETFROM:+0100
TZOFFSETTO:+0200
TZNAME:CEST
DTSTART:20210328T010000
END:DAYLIGHT
BEGIN:STANDARD
TZOFFSETFROM:+0200
TZOFFSETTO:+0100
TZNAME:CET
DTSTART:20211031T010000
END:STANDARD
BEGIN:DAYLIGHT
TZOFFSETFROM:+0100
TZOFFSETTO:+0200
TZNAME:CEST
DTSTART:20220327T010000
END:DAYLIGHT
BEGIN:STANDARD
TZOFFSETFROM:+0200
TZOFFSETTO:+0100
TZNAME:CET
DTSTART:20221030T010000
END:STANDARD
END:VTIMEZONE
BEGIN:VEVENT
DTSTART;VALUE=DATE:20210311
DTEND;VALUE=DATE:20210312
DTSTAMP:20260426T061218
CREATED:20210129T121930Z
LAST-MODIFIED:20210129T121930Z
UID:6764-1615420800-1615507199@cosdt.me
SUMMARY:Stvarno-pravni odnosi sa akcentom na sporna pitanja
DESCRIPTION:– Stvarno-pravni odnosi sa akcentom na sporna pitanja; \n  \nVrijeme potrebno za izvođenje programa: \nJedan jednodnevni seminar \n  \nPredavači: \n\nRanka Vuković\, sudija Vrhovnog suda CG\nKatarina Đurđić\, sudija Apelacionog suda CG\nMiodrag Pešić\, sudija Višeg suda u Podgorici\n\n  \nDatum održavanja: 11. mart
URL:https://cosdt.me/seminar/stvarno-pravni-odnosi-sa-akcentom-na-sporna-pitanja/
LOCATION:Podgorica\, Montenegro
CATEGORIES:Seminari
END:VEVENT
BEGIN:VEVENT
DTSTART;VALUE=DATE:20210309
DTEND;VALUE=DATE:20210310
DTSTAMP:20260426T061218
CREATED:20210129T123543Z
LAST-MODIFIED:20210129T123543Z
UID:6806-1615248000-1615334399@cosdt.me
SUMMARY:Član 13 Evropske konvencije - pravo na djelotvorni pravni lijek\, ustavna žalba i dejstvo odluka Ustavnog suda po istoj
DESCRIPTION:Član 13 Evropske konvencije – pravo na djelotvorni pravni lijek\, ustavna žalba i dejstvo odluka Ustavnog suda po istoj.\n\n  \nVrijeme potrebno za izvođenje programa: \nJedan jednodnevni seminar \n  \nPredavači: \n\ndr Mladen Vukčević\,\nSnežana Armenko\, zamjenica Ombudsmana\nValentina Pavličić\, Zastupnica CG pred ESLJP\n\n  \nDatum održavanja: 9. mart
URL:https://cosdt.me/seminar/clan-13-evropske-konvencije-pravo-na-djelotvorni-pravni-lijek-ustavna-zalba-i-dejstvo-odluka-ustavnog-suda-po-istoj-4/
LOCATION:Podgorica\, Montenegro
CATEGORIES:Seminari
END:VEVENT
BEGIN:VEVENT
DTSTART;VALUE=DATE:20210225
DTEND;VALUE=DATE:20210226
DTSTAMP:20260426T061218
CREATED:20210129T121849Z
LAST-MODIFIED:20210129T121849Z
UID:6761-1614211200-1614297599@cosdt.me
SUMMARY:Zakon o vanparničnom postupku
DESCRIPTION:Zakon o vanparničnom postupku; \n  \nVrijeme potrebno za izvođenje programa: \nJedan jednodnevni seminar \n  \nPredavači: \n\nOgnjana Boljević\, sudija Višeg suda u Podgorici\nZoran Šćepanović\, sudija Višeg suda u Podgorici\n\n  \nDatum održavanja: 25. februar
URL:https://cosdt.me/seminar/zakon-o-vanparnicnom-postupku/
LOCATION:Podgorica\, Montenegro
CATEGORIES:Seminari
END:VEVENT
BEGIN:VEVENT
DTSTART;VALUE=DATE:20210219
DTEND;VALUE=DATE:20210220
DTSTAMP:20260426T061218
CREATED:20210129T124039Z
LAST-MODIFIED:20210129T124039Z
UID:6821-1613692800-1613779199@cosdt.me
SUMMARY:HELP kurs učenja na daljinu (e- learning)   - Procesna prava u krivičnom postupku i prava žrtava
DESCRIPTION:HELP kurs učenja na daljinu (e- learning) \n – Procesna prava u krivičnom postupku i prava žrtava; \n  \n Vrijeme potrebno za izvođenje programa \nVišemjesečni kurs. \n  \nDatum početka:  19. februar \n  \nTutori: \n\nMilenka Seka Žižić\, sudija Apelacionog suda CG\nSanja Jovićević\, specijalna tužiteljka
URL:https://cosdt.me/seminar/help-kurs-ucenja-na-daljinu-e-learning-procesna-prava-u-krivicnom-postupku-i-prava-zrtava/
LOCATION:Podgorica\, Montenegro
CATEGORIES:Seminari
END:VEVENT
BEGIN:VEVENT
DTSTART;VALUE=DATE:20210217
DTEND;VALUE=DATE:20210219
DTSTAMP:20260426T061218
CREATED:20210129T121819Z
LAST-MODIFIED:20210129T121819Z
UID:6758-1613520000-1613692799@cosdt.me
SUMMARY:Zakon o izvršenju i obezbjeđenju
DESCRIPTION:Zakon o izvršenju i obezbjeđenju; \n  \nVrijeme potrebno za izvođenje programa: \nJedan dvodnevni seminar \n  \nPredavači: \n\nRanka Vuković\, sudija Vrhovnog suda CG\nMilena Matović\, sudija OS podgorica\nIvana Becić\, sudija OS Podgorica\n\n  \nDatum održavanja: 17-18. februar
URL:https://cosdt.me/seminar/zakon-o-izvrsenju-i-obezbjedenju/
LOCATION:Podgorica\, Montenegro
CATEGORIES:Seminari
END:VEVENT
BEGIN:VEVENT
DTSTART;VALUE=DATE:20210212
DTEND;VALUE=DATE:20210213
DTSTAMP:20260426T061218
CREATED:20210129T123318Z
LAST-MODIFIED:20210129T123318Z
UID:6797-1613088000-1613174399@cosdt.me
SUMMARY:Član 5 Evropske konvencije o ljudskim pravima i slobodama
DESCRIPTION:Član 5 Evropske konvencije o ljudskim pravima i slobodama;\n\n     Pritvor sa aspekta primjene Evropske Konvencije o ljudskim pravima i prakse Evropskog suda za ljudska prava. \n  \nVrijeme potrebno za izvođenje programa: \nJedan jednodnevni seminar \n  \nPredavači: \n\nValentina Pavličić\, zastupnica CG pred ESLJP\nVesna Medenica\, predsjednica Vrhovnog suda CG\nMiraš Radović\, sudija Vrhovnog suda CG\n\n  \n  \nDatum održavanja: 12. februar
URL:https://cosdt.me/seminar/clan-5-evropske-konvencije-o-ljudskim-pravima-i-slobodama/
LOCATION:Podgorica\, Montenegro
CATEGORIES:Seminari
END:VEVENT
BEGIN:VEVENT
DTSTART;VALUE=DATE:20210212
DTEND;VALUE=DATE:20210213
DTSTAMP:20260426T061218
CREATED:20210129T120040Z
LAST-MODIFIED:20210129T120040Z
UID:6716-1613088000-1613174399@cosdt.me
SUMMARY:Pritvor i alternative pritvoru i član 5 EKLJP
DESCRIPTION:Pritvor i alternative pritvoru i član 5 EKLJP;\n\n  \nVrijeme potrebno za izvođenje programa: \nJedan jednodnevni seminar \n  \nPredavači: \n\nValentina Pavličić\, zastupnica CG pred ESLJP\nVesna Medenica\, predsjednica Vrhovnog suda CG\nMiraš Radović\, sudija Vrhovnog suda CG\n\n  \nDatum održavanja: 12. februar
URL:https://cosdt.me/seminar/pritvor-i-alternative-pritvoru-i-clan-5-ekljp/
LOCATION:Podgorica\, Montenegro
CATEGORIES:Seminari
END:VEVENT
BEGIN:VEVENT
DTSTART;VALUE=DATE:20210205
DTEND;VALUE=DATE:20210206
DTSTAMP:20260426T061218
CREATED:20210129T120535Z
LAST-MODIFIED:20210129T120535Z
UID:6722-1612483200-1612569599@cosdt.me
SUMMARY:Zakon o krivičnoj odgovornosti pravnih lica
DESCRIPTION:Zakon o krivičnoj odgovornosti pravnih lica; \n\n  \nVrijeme potrebno za izvođenje programa: \nJedan jednodnevni seminar \n  \nPredavači: \n\nVesna Medenica\, predsjednica Vrhovnog suda CG\nSanja Jovićević\, specijalna tužiteljka\n\n  \nDatum održavanja: 5. februar
URL:https://cosdt.me/seminar/zakon-o-krivicnoj-odgovornosti-pravnih-lica/
LOCATION:Podgorica\, Montenegro
CATEGORIES:Seminari
END:VEVENT
BEGIN:VEVENT
DTSTART;VALUE=DATE:20201225
DTEND;VALUE=DATE:20201226
DTSTAMP:20260426T061218
CREATED:20201208T075611Z
LAST-MODIFIED:20201208T075611Z
UID:6507-1608854400-1608940799@cosdt.me
SUMMARY:OBUKA ZA SUDIJE UPRAVNOG SUDA CRNE GORE
DESCRIPTION:OBUKA ZA SUDIJE UPRAVNOG SUDA CRNE GORE
URL:https://cosdt.me/seminar/obuka-za-sudije-upravnog-suda-crne-gore/
LOCATION:Podgorica\, Montenegro
CATEGORIES:Obuke
END:VEVENT
BEGIN:VEVENT
DTSTART;VALUE=DATE:20201221
DTEND;VALUE=DATE:20201223
DTSTAMP:20260426T061218
CREATED:20201208T075540Z
LAST-MODIFIED:20201208T075540Z
UID:6504-1608508800-1608681599@cosdt.me
SUMMARY:Član 2 i Član 3 Evropske konvencije o ljudskim pravima
DESCRIPTION:Član 2 i Član 3 Evropske konvencije o ljudskim pravima
URL:https://cosdt.me/seminar/clan-2-i-clan-3-evropske-konvencije-o-ljudskim-pravima-2/
LOCATION:Podgorica\, Montenegro
CATEGORIES:Obuke
END:VEVENT
BEGIN:VEVENT
DTSTART;VALUE=DATE:20201217
DTEND;VALUE=DATE:20201219
DTSTAMP:20260426T061218
CREATED:20201026T113604Z
LAST-MODIFIED:20201026T113604Z
UID:6216-1608163200-1608335999@cosdt.me
SUMMARY:Sloboda izražavanja - član 10. EKLJP
DESCRIPTION:Sloboda izražavanja – član 10. EKLJP
URL:https://cosdt.me/seminar/sloboda-izrazavanja-clan-10-ekljp/
LOCATION:Podgorica\, Montenegro
CATEGORIES:Seminari
END:VEVENT
BEGIN:VEVENT
DTSTART;VALUE=DATE:20201216
DTEND;VALUE=DATE:20201218
DTSTAMP:20260426T061219
CREATED:20201026T113350Z
LAST-MODIFIED:20201026T113350Z
UID:6210-1608076800-1608249599@cosdt.me
SUMMARY:Rodna ravnopravnost sa posebnim osvrtom na CEDAW konvenciju i njenu praktičnu primjenu
DESCRIPTION:Rodna ravnopravnost sa posebnim osvrtom na CEDAW konvenciju i njenu praktičnu primjenu
URL:https://cosdt.me/seminar/rodna-ravnopravnost-sa-posebnim-osvrtom-na-cedaw-konvenciju-i-njenu-prakticnu-primjenu-2/
LOCATION:Podgorica\, Montenegro
CATEGORIES:Seminari
END:VEVENT
BEGIN:VEVENT
DTSTART;VALUE=DATE:20201214
DTEND;VALUE=DATE:20201216
DTSTAMP:20260426T061219
CREATED:20201208T075509Z
LAST-MODIFIED:20201208T075509Z
UID:6501-1607904000-1608076799@cosdt.me
SUMMARY:FINANSIJSKE ISTRAGE\, ODUZIMANJE IMOVINSKE KORISTI STEČENE KRIMINALNOM DJELATNIŠĆU I PRANJE NOVCA
DESCRIPTION:FINANSIJSKE ISTRAGE\, ODUZIMANJE IMOVINSKE KORISTI STEČENE KRIMINALNOM DJELATNIŠĆU I PRANJE NOVCA
URL:https://cosdt.me/seminar/finansijske-istrage-oduzimanje-imovinske-koristi-stecene-kriminalnom-djelatniscu-i-pranje-novca/
LOCATION:Podgorica\, Montenegro
CATEGORIES:Obuke
END:VEVENT
BEGIN:VEVENT
DTSTART;VALUE=DATE:20201211
DTEND;VALUE=DATE:20201212
DTSTAMP:20260426T061219
CREATED:20201026T113800Z
LAST-MODIFIED:20201208T075426Z
UID:6222-1607644800-1607731199@cosdt.me
SUMMARY:Medijacija – obuka za predsjednike sudova i sudije
DESCRIPTION:Medijacija – obuka za predsjednike sudova i sudije
URL:https://cosdt.me/seminar/medijacija-obuka-za-sudije/
LOCATION:Podgorica\, Montenegro
CATEGORIES:Obuke
END:VEVENT
BEGIN:VEVENT
DTSTART;VALUE=DATE:20201201
DTEND;VALUE=DATE:20201202
DTSTAMP:20260426T061219
CREATED:20201030T122742Z
LAST-MODIFIED:20201030T122742Z
UID:6303-1606780800-1606867199@cosdt.me
SUMMARY:Kako sudija može podržati zaključivanje poravnanja izmedju stranaka
DESCRIPTION:Kako sudija može podržati zaključivanje poravnanja izmedju stranaka
URL:https://cosdt.me/seminar/kako-sudija-moze-podrzati-zakljucivanje-poravnanja-izmedju-stranaka/
LOCATION:Podgorica\, Montenegro
CATEGORIES:Seminari
END:VEVENT
BEGIN:VEVENT
DTSTART;VALUE=DATE:20201130
DTEND;VALUE=DATE:20201201
DTSTAMP:20260426T061219
CREATED:20201030T122528Z
LAST-MODIFIED:20201030T122528Z
UID:6300-1606694400-1606780799@cosdt.me
SUMMARY:Priprema i vodjenje glavne rasprave
DESCRIPTION:Priprema i vodjenje glavne rasprave
URL:https://cosdt.me/seminar/priprema-i-vodjenje-glavne-rasprave/
LOCATION:Podgorica\, Montenegro
CATEGORIES:Seminari
END:VEVENT
BEGIN:VEVENT
DTSTART;VALUE=DATE:20201126
DTEND;VALUE=DATE:20201128
DTSTAMP:20260426T061219
CREATED:20200127T081236Z
LAST-MODIFIED:20200127T081236Z
UID:5331-1606348800-1606521599@cosdt.me
SUMMARY:Izmjene i dopune Zakona o parničnom postupku i sporna pitanja u njegovoj primjeni
DESCRIPTION:Izmjene i dopune Zakona o parničnom postupku i sporna pitanja u njegovoj primjeni
URL:https://cosdt.me/seminar/izmjene-i-dopune-zakona-o-parnicnom-postupku-i-sporna-pitanja-u-njegovoj-primjeni/
LOCATION:Podgorica\, Montenegro
CATEGORIES:Seminari
END:VEVENT
BEGIN:VEVENT
DTSTART;VALUE=DATE:20201125
DTEND;VALUE=DATE:20201126
DTSTAMP:20260426T061219
CREATED:20201026T113423Z
LAST-MODIFIED:20201026T113423Z
UID:6213-1606262400-1606348799@cosdt.me
SUMMARY:Medijsko pravo
DESCRIPTION:Medijsko pravo
URL:https://cosdt.me/seminar/medijsko-pravo-2/
LOCATION:Podgorica\, Montenegro
CATEGORIES:Seminari
END:VEVENT
BEGIN:VEVENT
DTSTART;VALUE=DATE:20201124
DTEND;VALUE=DATE:20201125
DTSTAMP:20260426T061219
CREATED:20201026T133547Z
LAST-MODIFIED:20201026T133547Z
UID:6226-1606176000-1606262399@cosdt.me
SUMMARY:Pravo na imovinu u smislu člana 1 Protokola 1 uz EKLJP
DESCRIPTION:Pravo na imovinu u smislu člana 1 Protokola 1 uz EKLJP
URL:https://cosdt.me/seminar/pravo-na-imovinu-u-smislu-clana-1-protokola-1-uz-ekljp/
LOCATION:Podgorica\, Montenegro
CATEGORIES:Seminari
END:VEVENT
BEGIN:VEVENT
DTSTART;VALUE=DATE:20201124
DTEND;VALUE=DATE:20201126
DTSTAMP:20260426T061219
CREATED:20201008T113354Z
LAST-MODIFIED:20201008T113354Z
UID:6140-1606176000-1606348799@cosdt.me
SUMMARY:Obuka iz Prava Evropske unije
DESCRIPTION:Obuka iz Prava Evropske unije
URL:https://cosdt.me/seminar/obuka-iz-prava-evropske-unije/
LOCATION:Podgorica\, Montenegro
CATEGORIES:Obuke
END:VEVENT
BEGIN:VEVENT
DTSTART;TZID=Europe/Podgorica:20201120T080000
DTEND;TZID=Europe/Podgorica:20201120T170000
DTSTAMP:20260426T061219
CREATED:20201120T124009Z
LAST-MODIFIED:20201120T124009Z
UID:6405-1605859200-1605891600@cosdt.me
SUMMARY:Inicijalna obuka
DESCRIPTION:– 20. novembar 2020. godine\, u Podgorici\, u organizaciji Centra za obuku u sudstvu i državnom tužilaštvu\, a u okviru realizacije teorijskog dijela Programa inicijalne obuke za kandidate/tkinje za državne tužioce\, održana predavanja u okviru četvrtog dana obuke na modulu (I) iz građansko procesnog prava\, čije teme su: Tužba; Vrste tužbi; Sadržina tužbe; Prethodno ispitivanje tužbe i mjere za otklanjanje nedostataka u tužbi; Odgovor na tužbu; Procesno pravni i materijalno pravni prigovori. Predavač na modulu je Vesna Begović\, sutkinja Vrhovnog suda Crne Gore\, a istom je prisustvovalo pet kandidata/tkinja za državnog tužioca.
URL:https://cosdt.me/seminar/inicijalna-obuka/
LOCATION:Podgorica\, Montenegro
CATEGORIES:Obuke
ATTACH;FMTTYPE=image/jpeg:https://cosdt.me/wp-content/uploads/2020/11/tužioci-20-novembar.jpg
END:VEVENT
BEGIN:VEVENT
DTSTART;VALUE=DATE:20201119
DTEND;VALUE=DATE:20201120
DTSTAMP:20260426T061219
CREATED:20201008T113250Z
LAST-MODIFIED:20201008T113250Z
UID:6137-1605744000-1605830399@cosdt.me
SUMMARY:Kamata
DESCRIPTION:Kamata
URL:https://cosdt.me/seminar/kamata-2/
LOCATION:Podgorica\, Montenegro
CATEGORIES:Seminari
END:VEVENT
BEGIN:VEVENT
DTSTART;VALUE=DATE:20201116
DTEND;VALUE=DATE:20201120
DTSTAMP:20260426T061219
CREATED:20201008T113210Z
LAST-MODIFIED:20201008T113210Z
UID:6134-1605484800-1605830399@cosdt.me
SUMMARY:Specijalistička obuka za sudije i državne tužioce za maloljetnike
DESCRIPTION:Specijalistička obuka za sudije i državne tužioce za maloljetnike
URL:https://cosdt.me/seminar/specijalisticka-obuka-za-sudije-i-drzavne-tuzioce-za-maloljetnike/
LOCATION:Podgorica\, Montenegro
CATEGORIES:Obuke
END:VEVENT
BEGIN:VEVENT
DTSTART;VALUE=DATE:20201110
DTEND;VALUE=DATE:20201112
DTSTAMP:20260426T061219
CREATED:20200127T075232Z
LAST-MODIFIED:20200127T075232Z
UID:5283-1604966400-1605139199@cosdt.me
SUMMARY:Obezbjeđenje dokaza i forenzička vještačenja (uvidjaj\, DNK vještačenja\, PEH-požari\, eksplozije i havarije)
DESCRIPTION:Obezbjeđenje dokaza i forenzička vještačenja (uvidjaj\, DNK vještačenja\, PEH-požari\, eksplozije i havarije)
URL:https://cosdt.me/seminar/obezbjedenje-dokaza-i-forenzicka-vjestacenja-uvidjaj-dnk-vjestacenja-peh-pozari-eksplozije-i-havarije/
LOCATION:Podgorica\, Montenegro
CATEGORIES:Seminari
END:VEVENT
BEGIN:VEVENT
DTSTART;TZID=Europe/Podgorica:20201030T080000
DTEND;TZID=Europe/Podgorica:20201030T170000
DTSTAMP:20260426T061219
CREATED:20201030T130657Z
LAST-MODIFIED:20201030T130657Z
UID:6307-1604044800-1604077200@cosdt.me
SUMMARY:Inicijalna obuka: realizovan petodnevni modul iz stvarnog prava
DESCRIPTION:– 30. oktobar 2020. godine\, u Podgorici\, u organizaciji Centra za obuku u sudstvu i državnom tužilastvu\, a u okviru realizacije teorijskog dijela Programa inicijalne obuke za kadidate/tkinje za sudije\, održana predavanja u okviru petog dana obuke na modulu V  iz građanskopravne oblasti\, čije teme su: „Svojina i modaliteti prava svojine sa više subjekata; sticanje prava svojine na nepokretnostima; državina; tužbe za zaštitu svojine i državine; Zakon o državnom premjeru i katastru nepokretnosti“. Predavač je g.din Moidrag Pešić\, sudija Višeg suda u Podgorici\, a modulu je prisustvovalo devet kandidata/tkinja za sudiju.
URL:https://cosdt.me/seminar/inicijalna-obuka-realizovan-petodnevni-modul-iz-stvarnog-prava/
LOCATION:Podgorica\, Montenegro
CATEGORIES:Obuke
ATTACH;FMTTYPE=image/jpeg:https://cosdt.me/wp-content/uploads/2020/10/sajt.jpg
END:VEVENT
BEGIN:VEVENT
DTSTART;VALUE=DATE:20201027
DTEND;VALUE=DATE:20201029
DTSTAMP:20260426T061219
CREATED:20200127T084428Z
LAST-MODIFIED:20201026T113200Z
UID:5403-1603756800-1603929599@cosdt.me
SUMMARY:Rodna ravnopravnost sa posebnim osvrtom na CEDAW konvenciju i njenu praktičnu primjenu - odlozeno za 16.-17. decembar
DESCRIPTION:Rodna ravnopravnost sa posebnim osvrtom na CEDAW konvenciju i njenu praktičnu primjenu – odlozeno za 16.-17. decembar
URL:https://cosdt.me/seminar/rodna-ravnopravnost-sa-posebnim-osvrtom-na-cedaw-konvenciju-i-njenu-prakticnu-primjenu/
LOCATION:Podgorica\, Montenegro
CATEGORIES:Seminari
END:VEVENT
BEGIN:VEVENT
DTSTART;VALUE=DATE:20201026
DTEND;VALUE=DATE:20201028
DTSTAMP:20260426T061219
CREATED:20201012T094014Z
LAST-MODIFIED:20201019T074419Z
UID:6148-1603670400-1603843199@cosdt.me
SUMMARY:Obuka na temu: Komunikacija u kriznim situacijama
DESCRIPTION:Obuka na temu: Komunikacija u kriznim situacijama
URL:https://cosdt.me/seminar/obuka-na-temu-komunikacija-u-kriznim-situacijama/
LOCATION:Podgorica\, Montenegro
CATEGORIES:Obuke
END:VEVENT
BEGIN:VEVENT
DTSTART;VALUE=DATE:20201020
DTEND;VALUE=DATE:20201022
DTSTAMP:20260426T061219
CREATED:20201008T113031Z
LAST-MODIFIED:20201020T084746Z
UID:6131-1603152000-1603324799@cosdt.me
SUMMARY:Etička i disciplinska odgovornost - Odloženo
DESCRIPTION:Etička i disciplinska odgovornost – Odloženo
URL:https://cosdt.me/seminar/eticka-i-disciplinska-odgovornost/
LOCATION:Podgorica\, Montenegro
CATEGORIES:Seminari
END:VEVENT
BEGIN:VEVENT
DTSTART;VALUE=DATE:20201019
DTEND;VALUE=DATE:20201020
DTSTAMP:20260426T061219
CREATED:20200127T080755Z
LAST-MODIFIED:20201008T112835Z
UID:5325-1603065600-1603151999@cosdt.me
SUMMARY:Konvencija Savjeta Evrope o zaštiti djece od seksualnog iskorišćavanja i seksualnog zlostavljanja – Lanzarot Konvencija
DESCRIPTION:Konvencija Savjeta Evrope o zaštiti djece od seksualnog iskorišćavanja i seksualnog zlostavljanja – Lanzarot Konvencija
URL:https://cosdt.me/seminar/konvencija-savjeta-evrope-o-zastiti-djece-od-seksualnog-iskoriscavanja-i-seksualnog-zlostavljanja-lanzarot-konvencija-2/
LOCATION:Podgorica\, Montenegro
CATEGORIES:Seminari
END:VEVENT
BEGIN:VEVENT
DTSTART;VALUE=DATE:20201002
DTEND;VALUE=DATE:20201003
DTSTAMP:20260426T061219
CREATED:20200127T083752Z
LAST-MODIFIED:20200127T083752Z
UID:5379-1601596800-1601683199@cosdt.me
SUMMARY:Član 13 Evropske konvencije - pravo na djelotvorni pravni lijek\, ustavna žalba i dejstvo odluka Ustavnog suda po istoj
DESCRIPTION:Član 13 Evropske konvencije – pravo na djelotvorni pravni lijek\, ustavna žalba i dejstvo odluka Ustavnog suda po istoj
URL:https://cosdt.me/seminar/clan-13-evropske-konvencije-pravo-na-djelotvorni-pravni-lijek-ustavna-zalba-i-dejstvo-odluka-ustavnog-suda-po-istoj-3/
LOCATION:Podgorica\, Montenegro
CATEGORIES:Seminari
END:VEVENT
END:VCALENDAR