BEGIN:VCALENDAR
VERSION:2.0
PRODID:-//COSDT - ECPv6.15.17.1//NONSGML v1.0//EN
CALSCALE:GREGORIAN
METHOD:PUBLISH
X-WR-CALNAME:COSDT
X-ORIGINAL-URL:https://cosdt.me
X-WR-CALDESC:Events for COSDT
REFRESH-INTERVAL;VALUE=DURATION:PT1H
X-Robots-Tag:noindex
X-PUBLISHED-TTL:PT1H
BEGIN:VTIMEZONE
TZID:Europe/Podgorica
BEGIN:DAYLIGHT
TZOFFSETFROM:+0100
TZOFFSETTO:+0200
TZNAME:CEST
DTSTART:20200329T010000
END:DAYLIGHT
BEGIN:STANDARD
TZOFFSETFROM:+0200
TZOFFSETTO:+0100
TZNAME:CET
DTSTART:20201025T010000
END:STANDARD
BEGIN:DAYLIGHT
TZOFFSETFROM:+0100
TZOFFSETTO:+0200
TZNAME:CEST
DTSTART:20210328T010000
END:DAYLIGHT
BEGIN:STANDARD
TZOFFSETFROM:+0200
TZOFFSETTO:+0100
TZNAME:CET
DTSTART:20211031T010000
END:STANDARD
BEGIN:DAYLIGHT
TZOFFSETFROM:+0100
TZOFFSETTO:+0200
TZNAME:CEST
DTSTART:20220327T010000
END:DAYLIGHT
BEGIN:STANDARD
TZOFFSETFROM:+0200
TZOFFSETTO:+0100
TZNAME:CET
DTSTART:20221030T010000
END:STANDARD
BEGIN:DAYLIGHT
TZOFFSETFROM:+0100
TZOFFSETTO:+0200
TZNAME:CEST
DTSTART:20230326T010000
END:DAYLIGHT
BEGIN:STANDARD
TZOFFSETFROM:+0200
TZOFFSETTO:+0100
TZNAME:CET
DTSTART:20231029T010000
END:STANDARD
END:VTIMEZONE
BEGIN:VEVENT
DTSTART;VALUE=DATE:20220616
DTEND;VALUE=DATE:20220618
DTSTAMP:20260425T123912
CREATED:20220105T152109Z
LAST-MODIFIED:20220105T152109Z
UID:8111-1655337600-1655510399@cosdt.me
SUMMARY:Ratni zločini\, prisilni nestanci i ostvarivanje imovinsko-pravnog zahtjeva u krivičnom postupku
DESCRIPTION:Ratni zločini\, prisilni nestanci i ostvarivanje imovinsko-pravnog zahtjeva u krivičnom postupku;\n\n  \nVrijeme potrebno za izvođenje programa: \nJedan dvodnevni seminar \nKorisnici: \nSudije\, državni tužioci. \n  \nPredavači: \nDatum održavanja: 16-17. jun
URL:https://cosdt.me/seminar/ratni-zlocini-prisilni-nestanci-i-ostvarivanje-imovinsko-pravnog-zahtjeva-u-krivicnom-postupku/
LOCATION:Podgorica\, Montenegro
CATEGORIES:Obuke
GEO:42.4304196;19.2593642
END:VEVENT
BEGIN:VEVENT
DTSTART;VALUE=DATE:20220614
DTEND;VALUE=DATE:20220616
DTSTAMP:20260425T123912
CREATED:20220105T160234Z
LAST-MODIFIED:20220524T113522Z
UID:8174-1655164800-1655337599@cosdt.me
SUMMARY:Član 10 – sloboda izražavanja
DESCRIPTION:Član 10 – sloboda izražavanja;\n\nVrijeme potrebno za izvođenje programa: \nČetiri dvodnevna seminara u okviru JUFREX2 projekta \nPredavači: \nDatum održavanja: 14-15. jun \n 
URL:https://cosdt.me/seminar/clan-10-sloboda-izrazavanja-2/
LOCATION:Podgorica\, Montenegro
CATEGORIES:Obuke
GEO:42.4304196;19.2593642
END:VEVENT
BEGIN:VEVENT
DTSTART;VALUE=DATE:20220609
DTEND;VALUE=DATE:20220611
DTSTAMP:20260425T123912
CREATED:20220105T151804Z
LAST-MODIFIED:20220105T151804Z
UID:8105-1654732800-1654905599@cosdt.me
SUMMARY:Forenzička vještačenja i Zakon o DNK registru
DESCRIPTION:Forenzička vještačenja i Zakon o DNK registru; \n\n  \nVrijeme potrebno za izvođenje programa: \nJedan dvodnevni seminar \nKorisnici: \nSudije\, državni tužioci. \n  \nPredavači: \nDatum održavanja: 9-10. jun
URL:https://cosdt.me/seminar/forenzicka-vjestacenja-i-zakon-o-dnk-registru-2/
LOCATION:Podgorica\, Montenegro
CATEGORIES:Obuke
GEO:42.4304196;19.2593642
END:VEVENT
BEGIN:VEVENT
DTSTART;VALUE=DATE:20220606
DTEND;VALUE=DATE:20220608
DTSTAMP:20260425T123912
CREATED:20220105T151230Z
LAST-MODIFIED:20220105T151230Z
UID:8095-1654473600-1654646399@cosdt.me
SUMMARY:Finansijska istraga\, Zakon o oduzimanju imovinske koristi stečene kriminalnom djelatnošću i oduzimanje imovine stečene krivičnim djelom
DESCRIPTION:– Finansijska istraga\, Zakon o oduzimanju imovinske koristi stečene kriminalnom djelatnošću i oduzimanje imovine stečene krivičnim djelom;  \n  \nVrijeme potrebno za izvođenje programa: \nNajmanje dva dvodnevna seminara \nKorisnici: \nSudije\, državni tužioci\, predstavnici državnih organa. \nPredavači: \n  \nDatumi održavanja: 6-7. jun
URL:https://cosdt.me/seminar/finansijska-istraga-zakon-o-oduzimanju-imovinske-koristi-stecene-kriminalnom-djelatnoscu-i-oduzimanje-imovine-stecene-krivicnim-djelom-2/
LOCATION:Podgorica\, Montenegro
CATEGORIES:Obuke
GEO:42.4304196;19.2593642
END:VEVENT
BEGIN:VEVENT
DTSTART;VALUE=DATE:20220526
DTEND;VALUE=DATE:20220528
DTSTAMP:20260425T123912
CREATED:20220105T155850Z
LAST-MODIFIED:20220105T155850Z
UID:8166-1653523200-1653695999@cosdt.me
SUMMARY:Član 5 – pravo na slobodu i bezbjednost ličnosti
DESCRIPTION:Član 5 – pravo na slobodu i bezbjednost ličnosti; \nVrijeme potrebno za izvođenje programa: \nJedan dvodnodnevni seminar \nPredavači: \nDatum održavanja: 26-27. maj (spojen sa seminarom o pritvoru i alternativama pritvoru)
URL:https://cosdt.me/seminar/clan-5-pravo-na-slobodu-i-bezbjednost-licnosti/
LOCATION:Podgorica\, Montenegro
CATEGORIES:Obuke
GEO:42.4304196;19.2593642
END:VEVENT
BEGIN:VEVENT
DTSTART;VALUE=DATE:20220526
DTEND;VALUE=DATE:20220528
DTSTAMP:20260425T123912
CREATED:20220105T151909Z
LAST-MODIFIED:20220105T151909Z
UID:8107-1653523200-1653695999@cosdt.me
SUMMARY:Pritvor i alternative pritvoru i član 5 EKLJP
DESCRIPTION:Pritvor i alternative pritvoru i član 5 EKLJP;\n\n  \nVrijeme potrebno za izvođenje programa: \nJedan jednodnevni seminar \nKorisnici: \nSudije\, državni tužioci. \n  \nPredavači: \nDatum održavanja: 26-27. maj
URL:https://cosdt.me/seminar/pritvor-i-alternative-pritvoru-i-clan-5-ekljp-2/
LOCATION:Podgorica\, Montenegro
CATEGORIES:Obuke
GEO:42.4304196;19.2593642
END:VEVENT
BEGIN:VEVENT
DTSTART;VALUE=DATE:20220520
DTEND;VALUE=DATE:20220521
DTSTAMP:20260425T123912
CREATED:20220105T153013Z
LAST-MODIFIED:20220105T153013Z
UID:8119-1653004800-1653091199@cosdt.me
SUMMARY:Terorizam\, borci u inostranstvu i učestvovanje u stranim oružanim formacijama
DESCRIPTION:Terorizam\, borci u inostranstvu i učestvovanje u stranim oružanim formacijama;\n\n  \nVrijeme potrebno za izvođenje programa: \nJedan jednodnevni seminar \nKorisnici: \nSudije\, državni tužioci. \n  \nPredavači: \n  \nDatum održavanja: 20. maj
URL:https://cosdt.me/seminar/terorizam-borci-u-inostranstvu-i-ucestvovanje-u-stranim-oruzanim-formacijama-2/
LOCATION:Podgorica\, Montenegro
CATEGORIES:Obuke
GEO:42.4304196;19.2593642
END:VEVENT
BEGIN:VEVENT
DTSTART;VALUE=DATE:20220517
DTEND;VALUE=DATE:20220518
DTSTAMP:20260425T123912
CREATED:20220105T154845Z
LAST-MODIFIED:20220105T154845Z
UID:8151-1652745600-1652831999@cosdt.me
SUMMARY:Sporna pitanja u primjeni Zakona o privrednim društvima
DESCRIPTION:Sporna pitanja u primjeni Zakona o privrednim društvima \n\nVrijeme potrebno za izvođenje programa: \nJedan seminar \nKorisnici: \nSudije\, eventualno notari. \nPredavači: \nDatum održavanja: 17. maj
URL:https://cosdt.me/seminar/sporna-pitanja-u-primjeni-zakona-o-privrednim-drustvima/
LOCATION:Podgorica\, Montenegro
CATEGORIES:Obuke
GEO:42.4304196;19.2593642
END:VEVENT
BEGIN:VEVENT
DTSTART;VALUE=DATE:20220509
DTEND;VALUE=DATE:20220511
DTSTAMP:20260425T123912
CREATED:20220105T154558Z
LAST-MODIFIED:20220105T154558Z
UID:8147-1652054400-1652227199@cosdt.me
SUMMARY:Radnopravni odnosi i sporna pitanja
DESCRIPTION:Radnopravni odnosi i sporna pitanja; \n  \nVrijeme potrebno za izvođenje programa: \nDva jednodnevna seminara \nKorisnici: \nSudije\, eventualno advokati. \nPredavači: \nDatumi održavanja: 9. maj\, 10.maj
URL:https://cosdt.me/seminar/radnopravni-odnosi-i-sporna-pitanja/
LOCATION:Podgorica\, Montenegro
CATEGORIES:Obuke
GEO:42.4304196;19.2593642
END:VEVENT
BEGIN:VEVENT
DTSTART;VALUE=DATE:20220504
DTEND;VALUE=DATE:20220507
DTSTAMP:20260425T123912
CREATED:20220105T162358Z
LAST-MODIFIED:20220105T162358Z
UID:8208-1651622400-1651881599@cosdt.me
SUMMARY:Obuke za predavače - vještine prenošenja znanja - III modul
DESCRIPTION:Obuke za predavače – vještine prenošenja znanja \n  \nVrijeme potrebno za izvodjenje programa \nNajmanje jedan trening za trenere (ToT – tri modula) \nKorisnici: \nSudije\, državni tužioci. \n  \nPredavači: \n  \nDatum održavanja: III modul – 4-5-6. maj
URL:https://cosdt.me/seminar/obuke-za-predavace-vjestine-prenosenja-znanja-iii-modul/
LOCATION:Podgorica\, Montenegro
CATEGORIES:Obuke
GEO:42.4304196;19.2593642
END:VEVENT
BEGIN:VEVENT
DTSTART;VALUE=DATE:20220428
DTEND;VALUE=DATE:20220430
DTSTAMP:20260425T123912
CREATED:20220105T154333Z
LAST-MODIFIED:20220105T154333Z
UID:8143-1651104000-1651276799@cosdt.me
SUMMARY:Obligacioni odnosi\, sa akcentom na sporna pitanja (Paulijanska tužba)
DESCRIPTION:Obligacioni odnosi\, sa akcentom na sporna pitanja (Paulijanska tužba); \n  \nVrijeme potrebno za izvođenje programa: \nJedan dvodnevni seminar \nKorisnici: \nSudije\, eventualno advokati. \nPredavači: \nDatum održavanja: 28-29. april
URL:https://cosdt.me/seminar/obligacioni-odnosi-sa-akcentom-na-sporna-pitanja-paulijanska-tuzba-2/
LOCATION:Podgorica\, Montenegro
CATEGORIES:Obuke
GEO:42.4304196;19.2593642
END:VEVENT
BEGIN:VEVENT
DTSTART;VALUE=DATE:20220418
DTEND;VALUE=DATE:20220422
DTSTAMP:20260425T123912
CREATED:20220105T153523Z
LAST-MODIFIED:20220105T153523Z
UID:8129-1650240000-1650585599@cosdt.me
SUMMARY:Specijalizovana obuka za sudije za maloljetnike i državne tužioce za maloljetnike
DESCRIPTION:Specijalizovana obuka za sudije za maloljetnike i državne tužioce za maloljetnike  \n   \nVrijeme potrebno za izvođenje programa: \nVišednevna obuka \nKorisnici: \nSudije\, državni tužioci. \n  \nPredavači: \nDatum održavanja: 18-19-20-21. april
URL:https://cosdt.me/seminar/specijalizovana-obuka-za-sudije-za-maloljetnike-i-drzavne-tuzioce-za-maloljetnike/
LOCATION:Podgorica\, Montenegro
CATEGORIES:Obuke
GEO:42.4304196;19.2593642
END:VEVENT
BEGIN:VEVENT
DTSTART;VALUE=DATE:20220414
DTEND;VALUE=DATE:20220416
DTSTAMP:20260425T123912
CREATED:20220105T161900Z
LAST-MODIFIED:20220105T161900Z
UID:8200-1649894400-1650067199@cosdt.me
SUMMARY:Sudijske i tužilačke vještine
DESCRIPTION:Sudijske i tužilačke vještine;\n\n  \nVrijeme potrebno za izvođenje programa: \nJedan dvodnevni seminar \nKorisnici: \nSudije i državni tužioci. \n  \nPredavači: \n  \nDatum održavanja: 14-15. april
URL:https://cosdt.me/seminar/sudijske-i-tuzilacke-vjestine-3/
LOCATION:Podgorica\, Montenegro
CATEGORIES:Obuke
GEO:42.4304196;19.2593642
END:VEVENT
BEGIN:VEVENT
DTSTART;VALUE=DATE:20220412
DTEND;VALUE=DATE:20220413
DTSTAMP:20260425T123912
CREATED:20220105T155106Z
LAST-MODIFIED:20220404T090035Z
UID:8153-1649721600-1649807999@cosdt.me
SUMMARY:Intelektualna svojina (autorska i srodna prava)
DESCRIPTION:Intelektualna svojina (autorska i srodna prava);\n\nVrijeme potrebno za izvođenje programa: \nJedan seminar \nKorisnici: \nSudije. \nPredavači: \nDatum održavanja: 12. april
URL:https://cosdt.me/seminar/intelektualna-svojina-autorska-i-srodna-prava/
LOCATION:Podgorica\, Montenegro
CATEGORIES:Obuke
GEO:42.4304196;19.2593642
END:VEVENT
BEGIN:VEVENT
DTSTART;VALUE=DATE:20220407
DTEND;VALUE=DATE:20220409
DTSTAMP:20260425T123912
CREATED:20220105T161454Z
LAST-MODIFIED:20220105T161454Z
UID:8191-1649289600-1649462399@cosdt.me
SUMMARY:MODUL I  - Pravni poredak Evropske unije. Instrumenti\, karakteristike i fundamentalni principi prava EU
DESCRIPTION:MODUL I  \n– Pravni poredak Evropske unije. Instrumenti\, karakteristike i fundamentalni principi prava EU.  \n  \nVrijeme potrebno za izvođenje programa: \nJedan dvodnevni seminar \n  \nPredavači: \nDatum održavanja: 7-8. april
URL:https://cosdt.me/seminar/modul-i-pravni-poredak-evropske-unije-instrumenti-karakteristike-i-fundamentalni-principi-prava-eu/
LOCATION:Podgorica\, Montenegro
CATEGORIES:Obuke
GEO:42.4304196;19.2593642
END:VEVENT
BEGIN:VEVENT
DTSTART;VALUE=DATE:20220329
DTEND;VALUE=DATE:20220331
DTSTAMP:20260425T123912
CREATED:20220105T155935Z
LAST-MODIFIED:20220105T155935Z
UID:8168-1648512000-1648684799@cosdt.me
SUMMARY:Član 6 – pravo na pravično suđenje
DESCRIPTION:Član 6 – pravo na pravično suđenje; \n\nVrijeme potrebno za izvođenje programa: \nJedan dvodnodnevni seminar \nPredavači: \nDatum održavanja: 29-30. mart
URL:https://cosdt.me/seminar/clan-6-pravo-na-pravicno-sudenje/
LOCATION:Podgorica\, Montenegro
CATEGORIES:Obuke
GEO:42.4304196;19.2593642
END:VEVENT
BEGIN:VEVENT
DTSTART;VALUE=DATE:20220323
DTEND;VALUE=DATE:20220326
DTSTAMP:20260425T123912
CREATED:20220105T162306Z
LAST-MODIFIED:20220105T162306Z
UID:8206-1647993600-1648252799@cosdt.me
SUMMARY:Obuke za predavače - vještine prenošenja znanja - II modul
DESCRIPTION:Obuke za predavače – vještine prenošenja znanja \n  \nVrijeme potrebno za izvodjenje programa \nNajmanje jedan trening za trenere (ToT – tri modula) \nKorisnici: \nSudije\, državni tužioci. \n  \nPredavači: \n  \nDatum održavanja: II modul – 23-24-25. mart \n 
URL:https://cosdt.me/seminar/obuke-za-predavace-vjestine-prenosenja-znanja-ii-modul/
LOCATION:Podgorica\, Montenegro
CATEGORIES:Obuke
GEO:42.4304196;19.2593642
END:VEVENT
BEGIN:VEVENT
DTSTART;VALUE=DATE:20220321
DTEND;VALUE=DATE:20220323
DTSTAMP:20260425T123912
CREATED:20220105T152512Z
LAST-MODIFIED:20220105T152512Z
UID:8115-1647820800-1647993599@cosdt.me
SUMMARY:Zaštita od nasilja u porodici i rodno zasnovano nasilje sa akcentom na Istanbulsku konvenciju
DESCRIPTION:Zaštita od nasilja u porodici i rodno zasnovano nasilje sa akcentom na Istanbulsku konvenciju;\n\n  \nVrijeme potrebno za izvođenje programa: \nDva seminara \nKorisnici: \nSudije\, državni tužioci. \n  \nPredavači: \n  \nDatum održavanja: 21-22. mart
URL:https://cosdt.me/seminar/zastita-od-nasilja-u-porodici-i-rodno-zasnovano-nasilje-sa-akcentom-na-istanbulsku-konvenciju/
LOCATION:Podgorica\, Montenegro
CATEGORIES:Obuke
GEO:42.4304196;19.2593642
END:VEVENT
BEGIN:VEVENT
DTSTART;VALUE=DATE:20220317
DTEND;VALUE=DATE:20220318
DTSTAMP:20260425T123912
CREATED:20220105T155202Z
LAST-MODIFIED:20220105T155202Z
UID:8155-1647475200-1647561599@cosdt.me
SUMMARY:Stečaj
DESCRIPTION:Stečaj;\n\n  \nVrijeme potrebno za izvođenje programa: \nJedan seminar \nKorisnici: \nSudije. \nPredavači: \nDatum održavanja: 17. mart
URL:https://cosdt.me/seminar/stecaj-2/
LOCATION:Podgorica\, Montenegro
CATEGORIES:Obuke
GEO:42.4304196;19.2593642
END:VEVENT
BEGIN:VEVENT
DTSTART;VALUE=DATE:20220315
DTEND;VALUE=DATE:20220317
DTSTAMP:20260425T123912
CREATED:20220105T161746Z
LAST-MODIFIED:20220105T161809Z
UID:8197-1647302400-1647475199@cosdt.me
SUMMARY:ZAJEDNIČKE TEME ZA NOSIOCE PRAVOSUDNE FUNKCIJE - Obuke o sistemu disciplinske odgovornosti sudija i državnih tužilaca u skladu sa novinama u Zakonu o Sudskom savjetu i pravima i dužnostima sudija i Zakonu o državnom tužilaštvu; Jačanje integriteta i etički kodeksi sudija i tužilaca kao i članova Sudskog i Tužilačkog savjeta;
DESCRIPTION:ZAJEDNIČKE TEME ZA NOSIOCE PRAVOSUDNE FUNKCIJE \n\nObuke o sistemu disciplinske odgovornosti sudija i državnih tužilaca u skladu sa novinama u Zakonu o Sudskom savjetu i pravima i dužnostima sudija i Zakonu o državnom tužilaštvu; \nJačanje integriteta i etički kodeksi sudija i tužilaca kao i članova Sudskog i Tužilačkog savjeta;\n\n  \nVrijeme potrebno za izvođenje programa: \nDva jednodnevna seminara \nKorisnici: \nSudije i državni tužioci. \n  \nPredavači: \nDatum održavanja: 15. i 16. mart
URL:https://cosdt.me/seminar/zajednicke-teme-za-nosioce-pravosudne-funkcije-obuke-o-sistemu-disciplinske-odgovornosti-sudija-i-drzavnih-tuzilaca-u-skladu-sa-novinama-u-za/
LOCATION:Podgorica\, Montenegro
CATEGORIES:Obuke
GEO:42.4304196;19.2593642
END:VEVENT
BEGIN:VEVENT
DTSTART;VALUE=DATE:20220310
DTEND;VALUE=DATE:20220312
DTSTAMP:20260425T123912
CREATED:20220105T160137Z
LAST-MODIFIED:20220105T160137Z
UID:8172-1646870400-1647043199@cosdt.me
SUMMARY:Član 10 – sloboda izražavanja
DESCRIPTION:Član 10 – sloboda izražavanja;\n\nVrijeme potrebno za izvođenje programa: \nČetiri dvodnodnevni seminara u okviru JUFREX2 projekta \nPredavači: \nDatum održavanja: 10-11. mart \n 
URL:https://cosdt.me/seminar/clan-10-sloboda-izrazavanja/
LOCATION:Podgorica\, Montenegro
CATEGORIES:Obuke
GEO:42.4304196;19.2593642
END:VEVENT
BEGIN:VEVENT
DTSTART;VALUE=DATE:20220304
DTEND;VALUE=DATE:20220305
DTSTAMP:20260425T123912
CREATED:20220105T154236Z
LAST-MODIFIED:20220105T154236Z
UID:8141-1646352000-1646438399@cosdt.me
SUMMARY:Stvarno-pravni odnosi sa akcentom na sporna pitanja
DESCRIPTION:Stvarno-pravni odnosi sa akcentom na sporna pitanja; \n  \nVrijeme potrebno za izvođenje programa: \nJedan jednodnevni seminar \nKorisnici: \nSudije\, eventualno advokati i notari. \nPredavači: \nDatum održavanja: 4. mart
URL:https://cosdt.me/seminar/stvarno-pravni-odnosi-sa-akcentom-na-sporna-pitanja-2/
LOCATION:Podgorica\, Montenegro
CATEGORIES:Obuke
GEO:42.4304196;19.2593642
END:VEVENT
BEGIN:VEVENT
DTSTART;TZID=Europe/Podgorica:20220224T080000
DTEND;TZID=Europe/Podgorica:20220224T170000
DTSTAMP:20260425T123912
CREATED:20220222T124147Z
LAST-MODIFIED:20220224T125926Z
UID:8331-1645689600-1645722000@cosdt.me
SUMMARY:Prezentacija i pokretanje onlajn HELP kursa na temu „Zaštita životne sredine i ljudska prava”
DESCRIPTION:– 21. februar 2022. godine – Centar za obuku u sudstvu i državnom tužilaštvu\, u saradnji sa HELP Programom Savjeta Evrope za Zapadni Balkan i Tursku (Evropski program za obrazovanje pravnika u oblasti ljudskih prava)\, u okviru regionalnog projekta koji je dio zajedničkog programa Evropske unije i Savjeta Evrope\, pod nazivom „Horizontalni mehanizam za Zapadni Balkan i Tursku 2019-2022” i u cilju dalje obuke nosilaca pravosudne funkcije u oblasti ljudskih prava\, organizovao je u onlajn formatu prezentaciju novog HELP onlajn kursa na temu „Zaštita životne sredine i ljudska prava”. Centar za obuku u sudstvu i državnom tužilaštvu od 2014. godine koristi HELP program Savjeta Evrope za Zapadni Balkan i Tursku\, u okviru kojih pravni profesionalci mogu naći ažurirane materijale za obuku i to na nacionalnim jezicima\, a da pritom ne pohađaju klasična predavanja\, već direktno ostvaruju komunikaciju sa mentorima i drugim polaznicima kursa. Sadržajima modula polaznici obuka pristupaju elektronskim putem\, koristeći računar i Internet. Na početku sastanka\, prisutne je\, u ime Centra za obuku u sudstvu i državnom tužilaštvu\, pozdravila predsjednica Upravnog odbora Centra\, gđa Ljiljana Lakić\, nakon čega se prisutnima obratila i gđa Jasminka Peruničić Allen\, koordinatorka projekta HELP na Zapadnom Balkanu\, Generalnog direktorata za ljudska prava i vladavinu prava (DGI) Savjeta Evrope\, kao i gđa Ana Medarska Lazova\, zamjenica šefice Odeljenja za obuke u oblasti pravde i ljudskih prava\, Generalnog direktorata za ljudska prava i vladavinu prava (DGI) Savjeta Evrope. Gđa Medarska Lazova je predstavila metodologiju učenja na daljinu\, kao i predstojeći kurs. Prisutnima su se obratili i HELP nacionalni tutori koji će voditi kurs\, gđa Sanja Jovićević\, specijalna tužiteljka u Specijalnom državnom tužilaštvu i gđa Brankica Cmiljanović\, rukovoditeljka Direkcije za horizontalno zakonodavstvo u Direktoratu za ekologiju\, fokal tačka i kontakt tačka za Espoo Konvenciju i SEA Protokol u Ministarstvu za ekologiju\, prostorno planiranje i urbanizam Crne Gore i informisale učesnike o strukturi kursa i dinamici njegove primjene tokom dvomjesečnog perioda. U okviru ovog HELP kursa ispitivaće se obaveze države u pogledu ljudskih prava u kontekstu zaštite životne sredine; davaće se praktična uputstva o tome kako se pristup zasnovan na ljudskim pravima može primijeniti na zaštitu životne sredine; analiziraće se ozelenjavanje ljudskih prava u regionalnim sistemima i nuditi uvod u obavezu ekološki odgovornog poslovanja. Obrađene teme istraživaće se na praktičan način\, korišćenjem prezentacija\, interaktivnih ekrana\, testova znanja i reflektivnih vježbi. Za pohađanje ovog kursa prijavilo se 36 kandidata\, i to: 11 sudija\, 2 kandidata za sudiju\, 11 savjetnika iz sudova\, 3 savjetnika iz tužilaštava\, 2 pripravnika iz sudova\, 3 savjetnika iz Ministarstva pravde\, ljudskih i manjinskih prava i 4 advokata. \n 
URL:https://cosdt.me/seminar/prezentacija-i-pokretanje-onlajn-help-kursa-na-temu-zastita-zivotne-sredine-i-ljudska-prava/
LOCATION:Podgorica\, Montenegro
CATEGORIES:Prezentacija onlajn kursa
ATTACH;FMTTYPE=image/png:https://cosdt.me/wp-content/uploads/2022/02/HELP-Zastita-zivotne-sredine.png
GEO:42.4304196;19.2593642
END:VEVENT
BEGIN:VEVENT
DTSTART;VALUE=DATE:20220223
DTEND;VALUE=DATE:20220226
DTSTAMP:20260425T123912
CREATED:20220105T162204Z
LAST-MODIFIED:20220105T162204Z
UID:8204-1645574400-1645833599@cosdt.me
SUMMARY:Obuke za predavače - vještine prenošenja znanja - I modul
DESCRIPTION:Obuke za predavače – vještine prenošenja znanja \n  \nVrijeme potrebno za izvodjenje programa \nNajmanje jedan trening za trenere (ToT – tri modula) \nKorisnici: \nSudije\, državni tužioci. \n  \nPredavači: \n  \nDatum održavanja: I modul – 23-24-25. februar \n 
URL:https://cosdt.me/seminar/obuke-za-predavace-vjestine-prenosenja-znanja-i-modul/
LOCATION:Podgorica\, Montenegro
CATEGORIES:Obuke
GEO:42.4304196;19.2593642
END:VEVENT
BEGIN:VEVENT
DTSTART;VALUE=DATE:20220218
DTEND;VALUE=DATE:20220219
DTSTAMP:20260425T123912
CREATED:20220105T160502Z
LAST-MODIFIED:20220105T160502Z
UID:8181-1645142400-1645228799@cosdt.me
SUMMARY:Član 13 – pravo na djelotvorni pravni lijek
DESCRIPTION:Član 13 – pravo na djelotvorni pravni lijek;\n\nVrijeme potrebno za izvođenje programa: \nJedan jednodnevni seminar \n  \nPredavači: \nDatum održavanja: 18. februar
URL:https://cosdt.me/seminar/clan-13-pravo-na-djelotvorni-pravni-lijek/
LOCATION:Podgorica\, Montenegro
CATEGORIES:Obuke
GEO:42.4304196;19.2593642
END:VEVENT
BEGIN:VEVENT
DTSTART;VALUE=DATE:20220215
DTEND;VALUE=DATE:20220216
DTSTAMP:20260425T123912
CREATED:20220105T155653Z
LAST-MODIFIED:20220105T155653Z
UID:8161-1644883200-1644969599@cosdt.me
SUMMARY:Član 2 – pravo na život
DESCRIPTION:Evropska konvencija za zaštitu ljudskih prava i osnovnih sloboda – EKLJP \n Član 2 – pravo na život; \nVrijeme potrebno za izvođenje programa: \nJedan jednodnevni seminar \nPredavači: \nDatum održavanja: 15. februar
URL:https://cosdt.me/seminar/clan-2-pravo-na-zivot/
LOCATION:Podgorica\, Montenegro
CATEGORIES:Obuke
GEO:42.4304196;19.2593642
END:VEVENT
BEGIN:VEVENT
DTSTART;VALUE=DATE:20220211
DTEND;VALUE=DATE:20220212
DTSTAMP:20260425T123912
CREATED:20220105T151532Z
LAST-MODIFIED:20220105T151532Z
UID:8101-1644537600-1644623999@cosdt.me
SUMMARY:Saradnja i pružanje međunarodne pravne pomoći u krivičnim stvarima
DESCRIPTION:Saradnja i pružanje međunarodne pravne pomoći u krivičnim stvarima; \n\n  \nVrijeme potrebno za izvođenje programa: \nJedan jednodnevni seminar \nKorisnici: \nSudije\, državni tužioci. \n  \nPredavači: \n  \nDatum održavanja: 11. februar
URL:https://cosdt.me/seminar/saradnja-i-pruzanje-medunarodne-pravne-pomoci-u-krivicnim-stvarima-2/
LOCATION:Podgorica\, Montenegro
CATEGORIES:Obuke
GEO:42.4304196;19.2593642
END:VEVENT
BEGIN:VEVENT
DTSTART;VALUE=DATE:20220131
DTEND;VALUE=DATE:20220201
DTSTAMP:20260425T123912
CREATED:20220105T152021Z
LAST-MODIFIED:20220105T152021Z
UID:8109-1643587200-1643673599@cosdt.me
SUMMARY:Probacija i kazna rada u javnom interesu
DESCRIPTION:Probacija i kazna rada u javnom interesu;\n\n  \nVrijeme potrebno za izvođenje programa: \nJedan seminar \nKorisnici: \nSudije\, državni tužioci. \n  \nPredavači: \n  \nDatum održavanja: 31. januar
URL:https://cosdt.me/seminar/probacija-i-kazna-rada-u-javnom-interesu/
LOCATION:Podgorica\, Montenegro
CATEGORIES:Obuke
GEO:42.4304196;19.2593642
END:VEVENT
BEGIN:VEVENT
DTSTART;VALUE=DATE:20211221
DTEND;VALUE=DATE:20211223
DTSTAMP:20260425T123912
CREATED:20210129T124142Z
LAST-MODIFIED:20211110T181909Z
UID:6824-1640044800-1640217599@cosdt.me
SUMMARY:Program obuke o pravu EU (Modul VI) - Pravosudna saradnja u krivičnim stvarima u EU
DESCRIPTION:Program obuke o pravu EU (Modul VI) – Sudska i policijska saradnja u krivičnom postupku u EU \n  \nVrijeme potrebno za izvođenje programa: \nJedan dvodnevni seminar \n  \nPredavači: \n\nDr Miloš Vukčević\nDr Miloš Bošković\n\n  \nDatum održavanja: 21.-22. decembar
URL:https://cosdt.me/seminar/sudska-i-policijska-saradnja-u-krivicnom-postupku-u-evropskoj-uniji/
LOCATION:Podgorica\, Montenegro
CATEGORIES:Seminari
GEO:42.4304196;19.2593642
END:VEVENT
BEGIN:VEVENT
DTSTART;VALUE=DATE:20211220
DTEND;VALUE=DATE:20211221
DTSTAMP:20260425T123912
CREATED:20210129T121652Z
LAST-MODIFIED:20210129T121652Z
UID:6752-1639958400-1640044799@cosdt.me
SUMMARY:Zakon o postupanju prema maloljetnicima u krivičnom postupku
DESCRIPTION:Zakon o postupanju prema maloljetnicima u krivičnom postupku;\n\n  \nVrijeme potrebno za izvođenje programa: \nJedan jednodnevni seminar \n  \nPredavači: \n\nDragiša Rakočevič\, sudija Apelacionog suda CG\nDanka Ivanović Đerić\, državna tužiteljka u Višem DT Podgorica\n\n  \nDatum održavanja: 20. decembar
URL:https://cosdt.me/seminar/zakon-o-postupanju-prema-maloljetnicima-u-krivicnom-postupku/
LOCATION:Podgorica\, Montenegro
CATEGORIES:Seminari
END:VEVENT
END:VCALENDAR