BEGIN:VCALENDAR
VERSION:2.0
PRODID:-//COSDT - ECPv6.15.17.1//NONSGML v1.0//EN
CALSCALE:GREGORIAN
METHOD:PUBLISH
X-WR-CALNAME:COSDT
X-ORIGINAL-URL:https://cosdt.me
X-WR-CALDESC:Events for COSDT
REFRESH-INTERVAL;VALUE=DURATION:PT1H
X-Robots-Tag:noindex
X-PUBLISHED-TTL:PT1H
BEGIN:VTIMEZONE
TZID:Europe/Podgorica
BEGIN:DAYLIGHT
TZOFFSETFROM:+0100
TZOFFSETTO:+0200
TZNAME:CEST
DTSTART:20250330T010000
END:DAYLIGHT
BEGIN:STANDARD
TZOFFSETFROM:+0200
TZOFFSETTO:+0100
TZNAME:CET
DTSTART:20251026T010000
END:STANDARD
BEGIN:DAYLIGHT
TZOFFSETFROM:+0100
TZOFFSETTO:+0200
TZNAME:CEST
DTSTART:20260329T010000
END:DAYLIGHT
BEGIN:STANDARD
TZOFFSETFROM:+0200
TZOFFSETTO:+0100
TZNAME:CET
DTSTART:20261025T010000
END:STANDARD
BEGIN:DAYLIGHT
TZOFFSETFROM:+0100
TZOFFSETTO:+0200
TZNAME:CEST
DTSTART:20270328T010000
END:DAYLIGHT
BEGIN:STANDARD
TZOFFSETFROM:+0200
TZOFFSETTO:+0100
TZNAME:CET
DTSTART:20271031T010000
END:STANDARD
END:VTIMEZONE
BEGIN:VEVENT
DTSTART;TZID=Europe/Podgorica:20261104T090000
DTEND;TZID=Europe/Podgorica:20261104T170000
DTSTAMP:20260425T123347
CREATED:20260317T193232Z
LAST-MODIFIED:20260317T211010Z
UID:12707-1793782800-1793811600@cosdt.me
SUMMARY:Program pripravnika: Konvencijsko pravo
DESCRIPTION:V UPRAVNOPRAVNA OBLAST \n\n	Ključni instrumenti i tijela UN-a\n	Ključni instrumenti i tijela Savjeta Evrope i\n	Međunarodni krivični sud i međunarodne tribunale\n\nPredavači:Katarina Peković\, bivša zastupnica Crne Gore pred ESLJPProf dr Miloš Vukčević\, advokat
URL:https://cosdt.me/seminar/program-pripravnika-konvencijsko-pravo-2/
END:VEVENT
BEGIN:VEVENT
DTSTART;TZID=Europe/Podgorica:20261105T090000
DTEND;TZID=Europe/Podgorica:20261105T170000
DTSTAMP:20260425T123347
CREATED:20260317T193232Z
LAST-MODIFIED:20260317T211010Z
UID:12709-1793869200-1793898000@cosdt.me
SUMMARY:Program pripravnika: Pravni sistem i institucije EU
DESCRIPTION:V UPRAVNOPRAVNA OBLAST \n\n	Osnivačke ugovore\n	Organizaciju pravnog sistema EU\n	Institucionalni sistem EU i\n	Položaj Crne Gore u procesu pridruživanja EU\n\nPredavači:Katarina Peković\, bivša zastupnica Crne Gore pred ESLJPProf dr Miloš Vukčević\, advokat
URL:https://cosdt.me/seminar/program-pripravnika-pravni-sistem-i-institucije-eu-2/
END:VEVENT
BEGIN:VEVENT
DTSTART;VALUE=DATE:20261106
DTEND;VALUE=DATE:20261107
DTSTAMP:20260425T123347
CREATED:20260315T123008Z
LAST-MODIFIED:20260317T191449Z
UID:12127-1793923200-1794009599@cosdt.me
SUMMARY:UPRAVNO PRAVNA OBLAST - TEME:
DESCRIPTION:– Zakon o upravnom sporu\n– Sporovi u vezi sa poreskim\, carinskim i postupcima javnih nabavki\n– Zakon o izgradnji objekata i planiranja prostora\n– Zakon o strancima\n– državljanstvo\n– zaštita tajnih podataka i zakon o ANB\n– Azil\n– Zakon o slobodnom pristupu informacijama \nVrijeme potrebno za izvođenje programa:\nDva dvodnevna okrugla stola/obuke \nKorisnici:\nSudije i savjetnici \nPredavači:\nLjiljana Šoškić\, sutkinja Vrhovnog suda CG\nSnežana Vukčević\, sutkinja Vrhovnog suda CG\nMedina Mušović\, sutkinja Upravnog suda CG\nSrđan Klikovac\, predsjednik Osnovnog suda u Kotoru\nJelena Ružičić\, sutkinja Vrhovnog suda CG\nMiraš Radović\, sudija Vrhovnog suda CG u penziji\ni eksperti za pojedine oblasti (npr. poresko pravo i zaštitu podataka o ličnosti)
URL:https://cosdt.me/seminar/upravno-pravna-oblast-teme-4/
LOCATION:Podgorica\, Montenegro
GEO:42.4304196;19.2593642
END:VEVENT
BEGIN:VEVENT
DTSTART;VALUE=DATE:20261109
DTEND;VALUE=DATE:20261111
DTSTAMP:20260425T123347
CREATED:20260315T123010Z
LAST-MODIFIED:20260317T191500Z
UID:12150-1794182400-1794355199@cosdt.me
SUMMARY:Vještačenje u sudskim postupcima
DESCRIPTION:sudsko-medicinsko vještačenje\n\nVrijeme potrebno za izvođenje programa:\nJedna dvodnevna obuka \nKorisnici:\nSudije\, državni tužioci i sudski vještaci \nPredavači:\nIgor Đuričković\, sudija Višeg suda u Podgorici\nDanijela Vukčević\, sutkinja Apelacionog suda CG\nAna Radović\, državna tužiteljka u Višem državnom tužilaštvu u Podgorici
URL:https://cosdt.me/seminar/vjestacenje-u-sudskim-postupcima/
LOCATION:Podgorica\, Montenegro
GEO:42.4304196;19.2593642
END:VEVENT
BEGIN:VEVENT
DTSTART;TZID=Europe/Podgorica:20261109T090000
DTEND;TZID=Europe/Podgorica:20261109T170000
DTSTAMP:20260425T123347
CREATED:20260317T193145Z
LAST-MODIFIED:20260317T211010Z
UID:12671-1794214800-1794243600@cosdt.me
SUMMARY:Program pripravnika: Tok parničnog postupka
DESCRIPTION:II GRAĐANSKOPRAVNA OBLAST \n\n	Pripremanje glavne rasprave\n	Pripremno ročište\n	Ročište za glavnu raspravu\n	Rukovođenje glavnom raspravom\n	Dokaze\, izvođenje dokaza i ocjenu dokaza\n	Zloupotrebu procesnih prava i njeno sprječavanje\n	Donošenje presude\n	Sastav i pisanu izradu presude\n	Posebne postupke (u parnicama iz radnih odnosa\, smetanje posjeda\, u privrednim sporovima\, sporovima male vrijednosti) i\n	Pravne ljekove\n\nPredavači:Senka Danilović\, sutkinja Vrhovnog suda Crne GoreOgnjana Boljević\,sutkinja Apelacionog suda Crne GoreSnežana Vukčević\, sutkinja Vrhovnog suda Crne Gore
URL:https://cosdt.me/seminar/program-pripravnika-tok-parnicnog-postupka-2/
END:VEVENT
BEGIN:VEVENT
DTSTART;TZID=Europe/Podgorica:20261110T090000
DTEND;TZID=Europe/Podgorica:20261110T170000
DTSTAMP:20260425T123347
CREATED:20260317T211010Z
LAST-MODIFIED:20260317T211010Z
UID:13052-1794301200-1794330000@cosdt.me
SUMMARY:Program pripravnika: Tok parničnog postupka
DESCRIPTION:II GRAĐANSKOPRAVNA OBLAST \n\n	Pripremanje glavne rasprave\n	Pripremno ročište\n	Ročište za glavnu raspravu\n	Rukovođenje glavnom raspravom\n	Dokaze\, izvođenje dokaza i ocjenu dokaza\n	Zloupotrebu procesnih prava i njeno sprječavanje\n	Donošenje presude\n	Sastav i pisanu izradu presude\n	Posebne postupke (u parnicama iz radnih odnosa\, smetanje posjeda\, u privrednim sporovima\, sporovima male vrijednosti) i\n	Pravne ljekove\n\nPredavači:Senka Danilović\, sutkinja Vrhovnog suda Crne GoreOgnjana Boljević\,sutkinja Apelacionog suda Crne GoreSnežana Vukčević\, sutkinja Vrhovnog suda Crne Gore
URL:https://cosdt.me/seminar/program-pripravnika-tok-parnicnog-postupka-5/
END:VEVENT
BEGIN:VEVENT
DTSTART;VALUE=DATE:20261111
DTEND;VALUE=DATE:20261112
DTSTAMP:20260425T123347
CREATED:20260315T123008Z
LAST-MODIFIED:20260317T191449Z
UID:12129-1794355200-1794441599@cosdt.me
SUMMARY:Prekršajno pravo - teme:
DESCRIPTION:– Izmjene i dopune Zakona o prekršajima u kontekstu izmjena Zakona o\ninspekcijskom nadzoru\n– Sporna pitanja u primjeni Zakona o prekršajima\, ujednačavanje sudske\nprakse i razgraničenje sa Zakonikom o krivičnom postupku CG\n– Zaštitne mjere u prekršajnom postupku\, skraćeni postupak\n– Nasilje u porodici i rodno zasnovano nasilje\n– Maloljetnici u prekršajnom postupku \nVrijeme potrebno za izvođenje programa:\nJedna dvodnevna konferencija i jedan jednodnevni okrugli sto \nKorisnici:\nSudije za prekršaje \nPredavači:\nLarisa Begović\, predsjednica Višeg suda za prekršaje\nMaja Živaljević\, sutkinja Višeg suda za prekršaje\nAlija Beganović\, sudija Suda za prekršaje u Bijelom Polju\nMarko Đukanović\, predsjednika Suda za prekršaje u Budvi\nKrunoslav Obradović\, sudija Višeg suda za prekršaje\nSlađana Španjević Volkov\, državna tužiteljka\, Više državno tužilaštvo u Podgorici\nMirsad Mujević\, predsjednik Osnovnog suda u Rožajama\nMilorad Popović\, sudija Višeg suda za prekršaje u penziji
URL:https://cosdt.me/seminar/prekrsajno-pravo-teme-4/
LOCATION:Podgorica\, Montenegro
GEO:42.4304196;19.2593642
END:VEVENT
BEGIN:VEVENT
DTSTART;TZID=Europe/Podgorica:20261111T090000
DTEND;TZID=Europe/Podgorica:20261111T170000
DTSTAMP:20260425T123347
CREATED:20260317T211010Z
LAST-MODIFIED:20260317T211010Z
UID:13053-1794387600-1794416400@cosdt.me
SUMMARY:Program pripravnika: Tok parničnog postupka
DESCRIPTION:II GRAĐANSKOPRAVNA OBLAST \n\n	Pripremanje glavne rasprave\n	Pripremno ročište\n	Ročište za glavnu raspravu\n	Rukovođenje glavnom raspravom\n	Dokaze\, izvođenje dokaza i ocjenu dokaza\n	Zloupotrebu procesnih prava i njeno sprječavanje\n	Donošenje presude\n	Sastav i pisanu izradu presude\n	Posebne postupke (u parnicama iz radnih odnosa\, smetanje posjeda\, u privrednim sporovima\, sporovima male vrijednosti) i\n	Pravne ljekove\n\nPredavači:Senka Danilović\, sutkinja Vrhovnog suda Crne GoreOgnjana Boljević\,sutkinja Apelacionog suda Crne GoreSnežana Vukčević\, sutkinja Vrhovnog suda Crne Gore
URL:https://cosdt.me/seminar/program-pripravnika-tok-parnicnog-postupka-6/
END:VEVENT
BEGIN:VEVENT
DTSTART;TZID=Europe/Podgorica:20261116T090000
DTEND;TZID=Europe/Podgorica:20261116T170000
DTSTAMP:20260425T123347
CREATED:20260317T193145Z
LAST-MODIFIED:20260317T211010Z
UID:12675-1794819600-1794848400@cosdt.me
SUMMARY:Program pripravnika: Vanparnični postupak
DESCRIPTION:II GRAĐANSKOPRAVNA OBLAST \n\n	Uređenje ličnih stanja\n	Uređenje porodičnih odnosa i\n	Uređenje imovinskih odnosa\n\nPredavači:Ognjana Boljević\, sutkinja Apelacionog suda Crne GoreVojislavka Vuković Goločevac\, sutkinja Višeg suda u Podgorici
URL:https://cosdt.me/seminar/program-pripravnika-vanparnicni-postupak-4/
END:VEVENT
BEGIN:VEVENT
DTSTART;VALUE=DATE:20261117
DTEND;VALUE=DATE:20261118
DTSTAMP:20260425T123347
CREATED:20260315T123010Z
LAST-MODIFIED:20260317T191500Z
UID:12148-1794873600-1794959999@cosdt.me
SUMMARY:Efikasnost postupka
DESCRIPTION:upravljanje predmetima\nprocesna disciplina\nsprječavanje zloupotrebe prava u krivičnom postupku\nsprječavanje zloupotrebe prava u građanskom postupku\nprimjena prava procesnih mjera (Pilot projekat)\n\nVrijeme potrebno za izvođenje programa:\nNajmanje dvije obuke \nKorisnici:\nSudije i državni tužioci \nPredavači:\nkrivični aspekt\, 17. novembar\nMilica Kolaković Bojović\, naučni savjetnik\, Institut za kriminološka i sociološka\nistraživanja\nMiraš Radović\, sudija Vrhovnog suda CG u penziji\ngrađanski aspekt\, 18. novembar\nAleksandar Stojanović\, sudija Višeg suda u Podgorici\nSrđan Vujović\, sudija Apelacionog suda CG
URL:https://cosdt.me/seminar/efikasnost-postupka/
LOCATION:Podgorica\, Montenegro
GEO:42.4304196;19.2593642
END:VEVENT
BEGIN:VEVENT
DTSTART;VALUE=DATE:20261118
DTEND;VALUE=DATE:20261119
DTSTAMP:20260425T123347
CREATED:20260315T123010Z
LAST-MODIFIED:20260317T191500Z
UID:12149-1794960000-1795046399@cosdt.me
SUMMARY:Efikasnost postupka
DESCRIPTION:upravljanje predmetima\nprocesna disciplina\nsprječavanje zloupotrebe prava u krivičnom postupku\nsprječavanje zloupotrebe prava u građanskom postupku\nprimjena prava procesnih mjera (Pilot projekat)\n\nVrijeme potrebno za izvođenje programa:\nNajmanje dvije obuke \nKorisnici:\nSudije i državni tužioci \nPredavači:\nkrivični aspekt\, 17. novembar\nMilica Kolaković Bojović\, naučni savjetnik\, Institut za kriminološka i sociološka\nistraživanja\nMiraš Radović\, sudija Vrhovnog suda CG u penziji\ngrađanski aspekt\, 18. novembar\nAleksandar Stojanović\, sudija Višeg suda u Podgorici\nSrđan Vujović\, sudija Apelacionog suda CG
URL:https://cosdt.me/seminar/efikasnost-postupka-2/
LOCATION:Podgorica\, Montenegro
GEO:42.4304196;19.2593642
END:VEVENT
BEGIN:VEVENT
DTSTART;TZID=Europe/Podgorica:20261118T090000
DTEND;TZID=Europe/Podgorica:20261118T170000
DTSTAMP:20260425T123347
CREATED:20260317T193208Z
LAST-MODIFIED:20260317T211142Z
UID:12686-1794992400-1795021200@cosdt.me
SUMMARY:Program pripravnika: Porodično i nasledno pravo
DESCRIPTION:II GRAĐANSKOPRAVNA OBLAST \n\nPrava djeteta\nOdnose roditelja i djece\nVršenje roditeljskog prava\nUtvrđivanje roditeljstva i materinstva\nIzdržavanje roditelja i drugih srodnika\nImovinske odnose bračnih drugova\nPravo stanovanja\nBračni ugovor\nVanbračnu zajednicu\nŽivotno partnerstvo lica istog pola\nPostupak u sporovima o očinstvu i materinstvu i u sporovima za izdržavanje\nKrug zakonskih naslednika\, nužne nasljednike\nTestament i\nTužbe iz nasledno pravnih odnosa\n\nPredavači:Nataša Božović\, sutkinja Vrhovnog suda Crne GoreVesna Begović\, sutkinja Vrhovnog suda Crne Gore u penzijiMeliha Felić\, sutkinja Osnovnog suda u Podgorici
URL:https://cosdt.me/seminar/program-pripravnika-porodicno-i-nasledno-pravo-2/
END:VEVENT
BEGIN:VEVENT
DTSTART;TZID=Europe/Podgorica:20261119T090000
DTEND;TZID=Europe/Podgorica:20261119T170000
DTSTAMP:20260425T123347
CREATED:20260317T211142Z
LAST-MODIFIED:20260317T211142Z
UID:13065-1795078800-1795107600@cosdt.me
SUMMARY:Program pripravnika: Porodično i nasledno pravo
DESCRIPTION:II GRAĐANSKOPRAVNA OBLAST \n\nPrava djeteta\nOdnose roditelja i djece\nVršenje roditeljskog prava\nUtvrđivanje roditeljstva i materinstva\nIzdržavanje roditelja i drugih srodnika\nImovinske odnose bračnih drugova\nPravo stanovanja\nBračni ugovor\nVanbračnu zajednicu\nŽivotno partnerstvo lica istog pola\nPostupak u sporovima o očinstvu i materinstvu i u sporovima za izdržavanje\nKrug zakonskih naslednika\, nužne nasljednike\nTestament i\nTužbe iz nasledno pravnih odnosa\n\nPredavači:Nataša Božović\, sutkinja Vrhovnog suda Crne GoreVesna Begović\, sutkinja Vrhovnog suda Crne Gore u penzijiMeliha Felić\, sutkinja Osnovnog suda u Podgorici
URL:https://cosdt.me/seminar/program-pripravnika-porodicno-i-nasledno-pravo-5/
END:VEVENT
BEGIN:VEVENT
DTSTART;VALUE=DATE:20261120
DTEND;VALUE=DATE:20261121
DTSTAMP:20260425T123347
CREATED:20260315T123007Z
LAST-MODIFIED:20260317T191421Z
UID:12101-1795132800-1795219199@cosdt.me
SUMMARY:Krivična djela protiv polne slobode
DESCRIPTION:kaznena politika\nprimjena Lanzarot konvencije\ndjeca i lica sa invaliditetom kao žrtve\n\nVrijeme potrebno za izvođenje programa:\nJedan jednodnevni okrugli sto \nKorisnici:\nSudije i državni tužioci \nPredavači:\nVeljko Rutović\, državni tužilac u Vrhovnom državnom tužilaštvu\n Vesna Kovačević\, sutkinja Višeg suda u Podgorici\n Predrag Tabaš\, sudija Apelacionog suda Crne Gore
URL:https://cosdt.me/seminar/krivicna-djela-protiv-polne-slobode/
LOCATION:Podgorica\, Montenegro
GEO:42.4304196;19.2593642
END:VEVENT
BEGIN:VEVENT
DTSTART;TZID=Europe/Podgorica:20261120T090000
DTEND;TZID=Europe/Podgorica:20261120T170000
DTSTAMP:20260425T123347
CREATED:20260317T211142Z
LAST-MODIFIED:20260317T211142Z
UID:13066-1795165200-1795194000@cosdt.me
SUMMARY:Program pripravnika: Porodično i nasledno pravo
DESCRIPTION:II GRAĐANSKOPRAVNA OBLAST \n\nPrava djeteta\nOdnose roditelja i djece\nVršenje roditeljskog prava\nUtvrđivanje roditeljstva i materinstva\nIzdržavanje roditelja i drugih srodnika\nImovinske odnose bračnih drugova\nPravo stanovanja\nBračni ugovor\nVanbračnu zajednicu\nŽivotno partnerstvo lica istog pola\nPostupak u sporovima o očinstvu i materinstvu i u sporovima za izdržavanje\nKrug zakonskih naslednika\, nužne nasljednike\nTestament i\nTužbe iz nasledno pravnih odnosa\n\nPredavači:Nataša Božović\, sutkinja Vrhovnog suda Crne GoreVesna Begović\, sutkinja Vrhovnog suda Crne Gore u penzijiMeliha Felić\, sutkinja Osnovnog suda u Podgorici
URL:https://cosdt.me/seminar/program-pripravnika-porodicno-i-nasledno-pravo-6/
END:VEVENT
BEGIN:VEVENT
DTSTART;VALUE=DATE:20261123
DTEND;VALUE=DATE:20261124
DTSTAMP:20260425T123347
CREATED:20260315T123009Z
LAST-MODIFIED:20260317T191449Z
UID:12136-1795392000-1795478399@cosdt.me
SUMMARY:Evropska konvencija za zaštitu ljudskih prava i osnovnih sloboda - EKLJP
DESCRIPTION:– Izvršenje presuda ESLJP – individualne i generalne mjere\n– Obaveze države \nVrijeme potrebno za izvođenje programa:\nJedan dvodnodnevni seminar \nKorisnici:\nSudije\, državni tužioci\, eventualno advokati\, predstavnici Ombudsmana\, Zaštitnika Crne\nGore pred ESLJP i predstavnici Ministarstva pravde. \nPredavači:\nValentina Pavličić\, predsjednica Vrhovnog suda CG\nKatarina Peković\, sutkinja Osnovnog suda u Podgorici
URL:https://cosdt.me/seminar/evropska-konvencija-za-zastitu-ljudskih-prava-i-osnovnih-sloboda-ekljp-15/
LOCATION:Podgorica\, Montenegro
GEO:42.4304196;19.2593642
END:VEVENT
BEGIN:VEVENT
DTSTART;TZID=Europe/Podgorica:20261123T090000
DTEND;TZID=Europe/Podgorica:20261123T170000
DTSTAMP:20260425T123347
CREATED:20260317T193157Z
LAST-MODIFIED:20260317T211010Z
UID:12678-1795424400-1795453200@cosdt.me
SUMMARY:Program pripravnika: Izvršni postupak
DESCRIPTION:II GRAĐANSKOPRAVNA OBLAST \n\n	Načela izvršnog postupka\n	Razgraničenje nadležnosti suda i javnih izvršitelja\n	Izvršenje na nepokretnostima i na pokretnim stvarima i\n	Privremene mjere\n\nPredavači:Sanja Konatar\, sutkinja Višeg suda u Bijelom PoljuVeljko Bulatović\, sudija Osnovnog suda u Kotoru
URL:https://cosdt.me/seminar/program-pripravnika-izvrsni-postupak-3/
END:VEVENT
BEGIN:VEVENT
DTSTART;VALUE=DATE:20261125
DTEND;VALUE=DATE:20261126
DTSTAMP:20260425T123347
CREATED:20260315T123007Z
LAST-MODIFIED:20260317T191436Z
UID:12107-1795564800-1795651199@cosdt.me
SUMMARY:Zločin iz mržnje i govor mržnje
DESCRIPTION:procesuiranje zločina iz mržnje i ostalih zločina u vezi sa seksualnom orijentacijom\n\ni/ili rodnim identitetom i postupanje u predmetima motivisanim mržnjom prema\nLGBTIQ osobama \n\nrazlika između prekršaja i krivičnog djela\nprimjena člana 42a KZ-a\nprimjena Uputstva VDT-a za postupanje državnih tužilaštava u predmetima\n\nformiranim kod krivičnih djela učinjenih iz mržnje (zločin iz mržnje)\, kao i u\nslučajevima govora mržnje \nVrijeme potrebno za izvođenje programa:\nNajmanje jedna obuka \nKorisnici:\nSudije i državni tužioci \nPredavači:\nMilenka Seka Žižić\, sutkinja Vrhovnog suda Crne Gore\nMiroslav Turković\, državni tužilac\, Specijalno državno tužilaštvo\nMiloš Šoškić\, državni tužilac\, Specijalno državno tužilaštvo
URL:https://cosdt.me/seminar/zlocin-iz-mrznje-i-govor-mrznje-5/
LOCATION:Podgorica\, Montenegro
GEO:42.4304196;19.2593642
END:VEVENT
BEGIN:VEVENT
DTSTART;VALUE=DATE:20261126
DTEND;VALUE=DATE:20261128
DTSTAMP:20260425T123347
CREATED:20260315T123007Z
LAST-MODIFIED:20260317T191421Z
UID:12099-1795651200-1795823999@cosdt.me
SUMMARY:Krivična djela sa elementima korupcije
DESCRIPTION:korupcija na visokom nivou\nzloupotreba službenog položaja\ndavanje i primanje mita i protivzakoniti uticaj\nkrivična djela protiv privrednog poslovanja\n\nVrijeme potrebno za izvođenje programa:\nJedna dvodnevna obuka \nKorisnici:\nSudije i državni tužioci\, predstavnici ASK-a \nPredavači:\nZorica Milanović\, sutkinja Apelacionog suda Crne Gore\nTanja Čolan Deretić\, državna tužiteljka u Specijalnom državnom tužilaštvu\nAmir Đokaj\, sudija Višeg suda u Podgorici
URL:https://cosdt.me/seminar/krivicna-djela-sa-elementima-korupcije/
LOCATION:Podgorica\, Montenegro
GEO:42.4304196;19.2593642
END:VEVENT
BEGIN:VEVENT
DTSTART;TZID=Europe/Podgorica:20261126T090000
DTEND;TZID=Europe/Podgorica:20261126T170000
DTSTAMP:20260425T123347
CREATED:20260317T193157Z
LAST-MODIFIED:20260317T211010Z
UID:12682-1795683600-1795712400@cosdt.me
SUMMARY:Program pripravnika: Stvarno pravo
DESCRIPTION:II GRAĐANSKOPRAVNA OBLAST \n\n	Svojinu i modalitete prava svojine\n	Sticanje prava svojine na pokretnim i nepokretnim stvarima\n	Državinu\n	Tužbe za zaštitu svojine i državine\n	Stvarne službenosti (zasnivanje\, vrste\, prestanak) i\n	Posebne slučajeve stvarnih službenosti – nužni prolaz\n\nPredavači:Ljiljana Šoškić\, sutkinja Vrhovnog suda Crne GoreRadojka Nikolić\, sutkinja Vrhovnog suda Crne Gore u penziji
URL:https://cosdt.me/seminar/program-pripravnika-stvarno-pravo-4/
END:VEVENT
BEGIN:VEVENT
DTSTART;TZID=Europe/Podgorica:20261127T090000
DTEND;TZID=Europe/Podgorica:20261127T170000
DTSTAMP:20260425T123347
CREATED:20260317T211010Z
LAST-MODIFIED:20260317T211010Z
UID:13057-1795770000-1795798800@cosdt.me
SUMMARY:Program pripravnika: Stvarno pravo
DESCRIPTION:II GRAĐANSKOPRAVNA OBLAST \n\n	Svojinu i modalitete prava svojine\n	Sticanje prava svojine na pokretnim i nepokretnim stvarima\n	Državinu\n	Tužbe za zaštitu svojine i državine\n	Stvarne službenosti (zasnivanje\, vrste\, prestanak) i\n	Posebne slučajeve stvarnih službenosti – nužni prolaz\n\nPredavači:Ljiljana Šoškić\, sutkinja Vrhovnog suda Crne GoreRadojka Nikolić\, sutkinja Vrhovnog suda Crne Gore u penziji
URL:https://cosdt.me/seminar/program-pripravnika-stvarno-pravo-8/
END:VEVENT
BEGIN:VEVENT
DTSTART;VALUE=DATE:20261130
DTEND;VALUE=DATE:20261201
DTSTAMP:20260425T123347
CREATED:20260315T123010Z
LAST-MODIFIED:20260317T191500Z
UID:12151-1795996800-1796083199@cosdt.me
SUMMARY:Primjena UN Konvencije o pravima lica s invaliditetom
DESCRIPTION:zaštita prava lica s invaliditetom\nograničenje i lišenje poslovne sposobnosti lica s invaliditetom\n\nVrijeme potrebno za izvođenje programa:\nJedna jednodnevna obuka \nKorisnici:\nSudije \nPredavači:\nOgnjana Boljević\, sutkinja Apelacionog suda CG\nMilena Krsmanović Iković\, savjetnica Zaštitnika ljudskih prava i sloboda\nZoran Šćepanović\, sudija Vrhovnog suda CG
URL:https://cosdt.me/seminar/primjena-un-konvencije-o-pravima-lica-s-invaliditetom/
LOCATION:Podgorica\, Montenegro
GEO:42.4304196;19.2593642
END:VEVENT
BEGIN:VEVENT
DTSTART;VALUE=DATE:20261201
DTEND;VALUE=DATE:20261203
DTSTAMP:20260425T123347
CREATED:20260315T123007Z
LAST-MODIFIED:20260317T191436Z
UID:12108-1796083200-1796255999@cosdt.me
SUMMARY:Terorizam
DESCRIPTION:finansiranje terorizma\nstrani borci\nnuklearni terorizam\n\nVrijeme potrebno za izvođenje programa:\nJedna dvodnevna obuka/radionica \nKorisnici:\nSudije i državni tužioci \nPredavači:\nVesna Kovačević\, sutkinja Višeg suda u Podgorici\nSanja Jovićević\, državna tužiteljka\, Specijalno državno tužilaštvo\nSuzana Mugoša\, sutkinja Višeg suda u Podgorici
URL:https://cosdt.me/seminar/terorizam/
LOCATION:Podgorica\, Montenegro
GEO:42.4304196;19.2593642
END:VEVENT
BEGIN:VEVENT
DTSTART;VALUE=DATE:20261204
DTEND;VALUE=DATE:20261205
DTSTAMP:20260425T123347
CREATED:20260315T123008Z
LAST-MODIFIED:20260317T191436Z
UID:12121-1796342400-1796428799@cosdt.me
SUMMARY:Međunarodno privatno pravo
DESCRIPTION:mjerodavno pravo\nnadležnost i postupak\npriznavanje strane sudske odluke i ujednačavanje sudske prakse\nprimjena Haških konvencija\n\nVrijeme potrebno za izvođenje programa:\nJedna dvodnevna obuka \nKorisnici:\nSudije \nPredavači:\nMarijana Pavićević\, sutkinja Vrhovnog suda Crne Gore\ndr Maja Kostić-Mandić\, redovna profesorica Pravnog fakulteta Univerziteta CG
URL:https://cosdt.me/seminar/medunarodno-privatno-pravo-2/
LOCATION:Podgorica\, Montenegro
GEO:42.4304196;19.2593642
END:VEVENT
BEGIN:VEVENT
DTSTART;VALUE=DATE:20261210
DTEND;VALUE=DATE:20261212
DTSTAMP:20260425T123347
CREATED:20260315T123009Z
LAST-MODIFIED:20260317T191500Z
UID:12139-1796860800-1797033599@cosdt.me
SUMMARY:Etika i integritet nosilaca pravosudne funkcije
DESCRIPTION:Etički kodeks sudija\nEtički kodeks državnih tužilaca\nDisciplinska odgovornost sudija\nDisciplinska odgovornost državnih tužilaca\n\nVrijeme potrebno za izvođenje programa:\nDvije obuke za sudije i dvije obuke za državne tužioce \nKorisnici:\nSudije i državni tužioci\, članovi Komisije za etički kodeks\, članovi Disciplinskog vijeća\,\ndisciplinski tužilac \nPredavači:\n*OBUKA ZA SUDIJE*\nMarijana Pavićević\, sutkinja Vrhovnog suda CG\nBranislav Leković\, sudija Višeg suda u Podgorici \n*OBUKA ZA DRŽAVNE TUŽIOCE*\nMiroslav Turković\, državni tužilac\, Specijalno državno tužilaštvo\nTatjana Begović\, državna tužiteljka u Višem državnom tužilaštvu u Podgorici\nDuško Milanović\, rukovodilac Osnovnog državnog tužilaštva u Podgorici\nGordana Nikolić\, načelnica Odjeljenja za posebne obuke u COSDT
URL:https://cosdt.me/seminar/etika-i-integritet-nosilaca-pravosudne-funkcije/
LOCATION:Podgorica\, Montenegro
GEO:42.4304196;19.2593642
END:VEVENT
BEGIN:VEVENT
DTSTART;VALUE=DATE:20261214
DTEND;VALUE=DATE:20261215
DTSTAMP:20260425T123347
CREATED:20260315T123009Z
LAST-MODIFIED:20260317T191500Z
UID:12146-1797206400-1797292799@cosdt.me
SUMMARY:Alternativni načini rješavanja sporova
DESCRIPTION:arbitraža\n\nVrijeme potrebno za izvođenje programa:\nNajmanje jedna obuka \nKorisnici:\nSudije\, eventualno advokati \nPredavači:\nMaja Golović Vojinović\, izvršna direktorica Centra za alternativno rješavanje sporova\nDanijela Vukčević\, sutkinja Apelacionog suda Crne Gore\nTamara Brnović\, sutkinja Višeg suda u Podgorici
URL:https://cosdt.me/seminar/alternativni-nacini-rjesavanja-sporova-2/
LOCATION:Podgorica\, Montenegro
GEO:42.4304196;19.2593642
END:VEVENT
BEGIN:VEVENT
DTSTART;VALUE=DATE:20261216
DTEND;VALUE=DATE:20261217
DTSTAMP:20260425T123347
CREATED:20260315T123010Z
LAST-MODIFIED:20260317T191500Z
UID:12153-1797379200-1797465599@cosdt.me
SUMMARY:Upotreba AI u sistemu pravosuđa
DESCRIPTION:vještačka inteligencija: rizici i aspekti korišćenja AI\nosnove vještačke inteligencije za pravne profesionalce\n\nVrijeme potrebno za izvođenje programa:\nJedna jednodnevna obuka \nKorisnici:\nSudije i državni tužioci \nPredavači:\nMiloš Žižić\, sistem inžinjer\, Sekretarijat Sudskog savjeta
URL:https://cosdt.me/seminar/upotreba-ai-u-sistemu-pravosuda/
LOCATION:Podgorica\, Montenegro
GEO:42.4304196;19.2593642
END:VEVENT
BEGIN:VEVENT
DTSTART;VALUE=DATE:20261217
DTEND;VALUE=DATE:20261218
DTSTAMP:20260425T123347
CREATED:20260315T123010Z
LAST-MODIFIED:20260317T191500Z
UID:12152-1797465600-1797551999@cosdt.me
SUMMARY:Pravno rezonovanje i pravno istraživanje
DESCRIPTION:Vrijeme potrebno za izvođenje programa:\nJedna jednodnevna obuka \nKorisnici:\nSudije i državni tužioci \nPredavači:\nMilica Kolaković Bojović\, naučni savjetnik\, Institut za kriminološka i sociološka\nistraživanja\nMiraš Radović\, sudija Vrhovnog suda CG u penziji\ndr Mladen Vukčević\, profesor Ustavnog prava
URL:https://cosdt.me/seminar/pravno-rezonovanje-i-pravno-istrazivanje/
LOCATION:Podgorica\, Montenegro
GEO:42.4304196;19.2593642
END:VEVENT
END:VCALENDAR