BEGIN:VCALENDAR
VERSION:2.0
PRODID:-//COSDT - ECPv6.15.17.1//NONSGML v1.0//EN
CALSCALE:GREGORIAN
METHOD:PUBLISH
X-WR-CALNAME:COSDT
X-ORIGINAL-URL:https://cosdt.me
X-WR-CALDESC:Events for COSDT
REFRESH-INTERVAL;VALUE=DURATION:PT1H
X-Robots-Tag:noindex
X-PUBLISHED-TTL:PT1H
BEGIN:VTIMEZONE
TZID:Europe/Podgorica
BEGIN:DAYLIGHT
TZOFFSETFROM:+0100
TZOFFSETTO:+0200
TZNAME:CEST
DTSTART:20250330T010000
END:DAYLIGHT
BEGIN:STANDARD
TZOFFSETFROM:+0200
TZOFFSETTO:+0100
TZNAME:CET
DTSTART:20251026T010000
END:STANDARD
BEGIN:DAYLIGHT
TZOFFSETFROM:+0100
TZOFFSETTO:+0200
TZNAME:CEST
DTSTART:20260329T010000
END:DAYLIGHT
BEGIN:STANDARD
TZOFFSETFROM:+0200
TZOFFSETTO:+0100
TZNAME:CET
DTSTART:20261025T010000
END:STANDARD
BEGIN:DAYLIGHT
TZOFFSETFROM:+0100
TZOFFSETTO:+0200
TZNAME:CEST
DTSTART:20270328T010000
END:DAYLIGHT
BEGIN:STANDARD
TZOFFSETFROM:+0200
TZOFFSETTO:+0100
TZNAME:CET
DTSTART:20271031T010000
END:STANDARD
END:VTIMEZONE
BEGIN:VEVENT
DTSTART;VALUE=DATE:20260407
DTEND;VALUE=DATE:20260409
DTSTAMP:20260424T002759
CREATED:20260315T123007Z
LAST-MODIFIED:20260317T191421Z
UID:12103-1775520000-1775692799@cosdt.me
SUMMARY:Međunarodna pravna pomoć i saradnja u krivičnim stvarima
DESCRIPTION:saradnja u predmetima transnacionalnog organizovanog kriminala\noperativni i zajednički isražni timovi\nuloga EUROJUST-a u pružanju međunarodne pravne pomoći\nekstradicija\nmeđunarodne konvencije i bilateralni ugovori\nneformalna međunarodna pravna pomoć i saradnja\nzajednički istražni timovi\n\nVrijeme potrebno za izvođenje programa:\nJedna dvodnevna obuka \nKorisnici:\nSudije i državni tužioci\, predstavnici Ministarstva pravde\, predstavnici Ministarstva\nunutrašnjih poslova \nPredavači:\nVeljko Rutović\, državni tužilac u Vrhovnom državnom tužilaštvu\nSuzana Mugoša\, sutkinja Višeg suda u Podgorici\nBranimir Janjević\, savjetnik u Vrhovnom državnom tužilaštvu
URL:https://cosdt.me/seminar/medunarodna-pravna-pomoc-i-saradnja-u-krivicnim-stvarima/
LOCATION:Podgorica\, Montenegro
GEO:42.4304196;19.2593642
END:VEVENT
BEGIN:VEVENT
DTSTART;TZID=Europe/Podgorica:20260407T090000
DTEND;TZID=Europe/Podgorica:20260407T170000
DTSTAMP:20260424T002759
CREATED:20260317T193157Z
LAST-MODIFIED:20260317T211009Z
UID:12680-1775552400-1775581200@cosdt.me
SUMMARY:Program pripravnika: Stvarno pravo
DESCRIPTION:II GRAĐANSKOPRAVNA OBLAST \n\n	Svojinu i modalitete prava svojine\n	Sticanje prava svojine na pokretnim i nepokretnim stvarima\n	Državinu\n	Tužbe za zaštitu svojine i državine\n	Stvarne službenosti (zasnivanje\, vrste\, prestanak) i\n	Posebne slučajeve stvarnih službenosti – nužni prolaz\n\nPredavači:Ljiljana Šoškić\, sutkinja Vrhovnog suda Crne GoreRadojka Nikolić\, sutkinja Vrhovnog suda Crne Gore u penziji
URL:https://cosdt.me/seminar/program-pripravnika-stvarno-pravo-2/
END:VEVENT
BEGIN:VEVENT
DTSTART;TZID=Europe/Podgorica:20260408T090000
DTEND;TZID=Europe/Podgorica:20260408T170000
DTSTAMP:20260424T002759
CREATED:20260317T211009Z
LAST-MODIFIED:20260317T211009Z
UID:12991-1775638800-1775667600@cosdt.me
SUMMARY:Program pripravnika: Stvarno pravo
DESCRIPTION:II GRAĐANSKOPRAVNA OBLAST \n\n	Svojinu i modalitete prava svojine\n	Sticanje prava svojine na pokretnim i nepokretnim stvarima\n	Državinu\n	Tužbe za zaštitu svojine i državine\n	Stvarne službenosti (zasnivanje\, vrste\, prestanak) i\n	Posebne slučajeve stvarnih službenosti – nužni prolaz\n\nPredavači:Ljiljana Šoškić\, sutkinja Vrhovnog suda Crne GoreRadojka Nikolić\, sutkinja Vrhovnog suda Crne Gore u penziji
URL:https://cosdt.me/seminar/program-pripravnika-stvarno-pravo-6/
END:VEVENT
BEGIN:VEVENT
DTSTART;TZID=Europe/Podgorica:20260409T090000
DTEND;TZID=Europe/Podgorica:20260409T170000
DTSTAMP:20260424T002759
CREATED:20260317T193145Z
LAST-MODIFIED:20260317T211009Z
UID:12673-1775725200-1775754000@cosdt.me
SUMMARY:Program pripravnika: Vanparnični postupak
DESCRIPTION:II GRAĐANSKOPRAVNA OBLAST \n\n	Uređenje ličnih stanja\n	Uređenje porodičnih odnosa i\n	Uređenje imovinskih odnosa\n\nPredavači:Ognjana Boljević\, sutkinja Apelacionog suda Crne GoreVojislavka Vuković Goločevac\, sutkinja Višeg suda u Podgorici
URL:https://cosdt.me/seminar/program-pripravnika-vanparnicni-postupak-2/
END:VEVENT
BEGIN:VEVENT
DTSTART;VALUE=DATE:20260415
DTEND;VALUE=DATE:20260416
DTSTAMP:20260424T002759
CREATED:20260315T123007Z
LAST-MODIFIED:20260317T191436Z
UID:12109-1776211200-1776297599@cosdt.me
SUMMARY:Krivična djela protiv životne sredine
DESCRIPTION:Praksa državnog tužilaštva i sudova\nNova Direktiva (EU) 2024/1203 o zaštiti životne sredine putem krivičnog prava\n\nVrijeme potrebno za izvođenje programa:\nJedna jednodnevna obuka \nKorisnici:\nSudije i državni tužioci\, članovi operativnog tima\, rendžeri\, predstavnici NVO \nPredavači:\nMarko Mugoša\, državni tužilac\, Osnovno državno tužilaštvo u Podgorici
URL:https://cosdt.me/seminar/krivicna-djela-protiv-zivotne-sredine/
LOCATION:Podgorica\, Montenegro
GEO:42.4304196;19.2593642
END:VEVENT
BEGIN:VEVENT
DTSTART;TZID=Europe/Podgorica:20260415T090000
DTEND;TZID=Europe/Podgorica:20260415T170000
DTSTAMP:20260424T002759
CREATED:20260317T193156Z
LAST-MODIFIED:20260317T211009Z
UID:12676-1776243600-1776272400@cosdt.me
SUMMARY:Program pripravnika: Izvršni postupak
DESCRIPTION:II GRAĐANSKOPRAVNA OBLAST \n\n	Načela izvršnog postupka\n	Razgraničenje nadležnosti suda i javnih izvršitelja\n	Izvršenje na nepokretnostima i na pokretnim stvarima i\n	Privremene mjere\n\nPredavači:Sanja Konatar\, sutkinja Višeg suda u Bijelom PoljuVeljko Bulatović\, sudija Osnovnog suda u Kotoru
URL:https://cosdt.me/seminar/program-pripravnika-izvrsni-postupak/
END:VEVENT
BEGIN:VEVENT
DTSTART;TZID=Europe/Podgorica:20260416T090000
DTEND;TZID=Europe/Podgorica:20260416T170000
DTSTAMP:20260424T002759
CREATED:20260317T193002Z
LAST-MODIFIED:20260317T211007Z
UID:12588-1776330000-1776358800@cosdt.me
SUMMARY:Prenošenje mjesne nadležnosti\, izuzeće i uloga učesnika u postupku
DESCRIPTION:prenošenje mjesne nadležnosti i sukob nadležnosti\nizuzeće\ndržavni tužilac\, privatni tužilac\, oštećeni\, oštećeni kao tužilac i branilac\n\nPredavač:Armin Selmanović
URL:https://cosdt.me/seminar/i-modul-krivicna-oblast/
END:VEVENT
BEGIN:VEVENT
DTSTART;VALUE=DATE:20260417
DTEND;VALUE=DATE:20260418
DTSTAMP:20260424T002759
CREATED:20260315T123008Z
LAST-MODIFIED:20260317T191448Z
UID:12123-1776384000-1776470399@cosdt.me
SUMMARY:Kompanijsko pravo i primjena Zakona o privrednim društvima
DESCRIPTION:Vrijeme potrebno za izvođenje programa:\nJedna jednodnevna obuka \nKorisnici:\nSudije \nPredavači:\nKatarina Đurđić\, sutkinja Vrhovnog suda CG\nDijana Raičković\, sutkinja Apelacionog suda CG u penziji\nNevenka Popović\, sutkinja Vrhovnog suda CG\ndr Vladimir Savković\, dekan Pravnog fakulteta Univerziteta CG
URL:https://cosdt.me/seminar/kompanijsko-pravo-i-primjena-zakona-o-privrednim-drustvima/
LOCATION:Podgorica\, Montenegro
GEO:42.4304196;19.2593642
END:VEVENT
BEGIN:VEVENT
DTSTART;TZID=Europe/Podgorica:20260417T090000
DTEND;TZID=Europe/Podgorica:20260417T170000
DTSTAMP:20260424T002759
CREATED:20260317T193232Z
LAST-MODIFIED:20260317T211009Z
UID:12703-1776416400-1776445200@cosdt.me
SUMMARY:Program pripravnika: Ustavni sistem
DESCRIPTION:V UPRAVNOPRAVNA OBLAST \n\n	Ustavni sistem\n	Pojam\, značenje\, vrste Ustava i promjene Ustava\n	Ustav Crne Gore\n	Ljudska prava i slobode\n	Uređenje vlasti i\n	Ustavnost i zakonitost\n\nPredavači:Prof. dr Mladen VukčevićNataša Radonjić\, Ministarstvo pravdeDesanka Lopičić\, sutkinja Ustavnog suda Crne Gore
URL:https://cosdt.me/seminar/program-pripravnika-ustavni-sistem/
END:VEVENT
BEGIN:VEVENT
DTSTART;TZID=Europe/Podgorica:20260417T090000
DTEND;TZID=Europe/Podgorica:20260417T170000
DTSTAMP:20260424T002759
CREATED:20260317T211007Z
LAST-MODIFIED:20260317T211007Z
UID:12921-1776416400-1776445200@cosdt.me
SUMMARY:Načela ZKP-a\, nadležnost sudova i spajanje postupka
DESCRIPTION:načela ZKP-a\nnadležnost sudova\nspajanje i razdvajanje postupka\n\nPredavač:Željka Jovović
URL:https://cosdt.me/seminar/nacela-zkp-a-nadleznost-sudova-i-spajanje-postupka/
END:VEVENT
BEGIN:VEVENT
DTSTART;VALUE=DATE:20260420
DTEND;VALUE=DATE:20260422
DTSTAMP:20260424T002759
CREATED:20260315T123009Z
LAST-MODIFIED:20260317T191500Z
UID:12144-1776643200-1776815999@cosdt.me
SUMMARY:Obuke na temu odnosa sa javnošću
DESCRIPTION:početna obuka\nnapredna obuka\n\nVrijeme potrebno za izvođenje programa:\nDvije obuke \nKorisnici:\nSudije i državni tužioci\, savjetnici za odnose sa javnošću \nPredavači:\nMiodrag Strugar\, komunikolog\nDragana Maljević\, načelnica PR službe Vrhovnog državnog tužilaštva\nRadoje Cerović\, dipl. psiholog\nMiodrag Bole Bošković\, predavač iz oblasti PR – a\nDanka Ćetković\, internacionalna NLP trenerica
URL:https://cosdt.me/seminar/obuke-na-temu-odnosa-sa-javnoscu-3/
LOCATION:Podgorica\, Montenegro
GEO:42.4304196;19.2593642
END:VEVENT
BEGIN:VEVENT
DTSTART;TZID=Europe/Podgorica:20260420T090000
DTEND;TZID=Europe/Podgorica:20260420T170000
DTSTAMP:20260424T002759
CREATED:20260317T193002Z
LAST-MODIFIED:20260317T211007Z
UID:12590-1776675600-1776704400@cosdt.me
SUMMARY:Tužba i odgovor na tužbu
DESCRIPTION:tužba\nvrste tužbi\nsadržina tužbe\nprethodno ispitivanje tužbe I mjere za otklanjanje nedostataka u tužbi\nodgovor na tužbu\nprocesno pravni I materijalno pravni prigovori\n\nPredavač:Vesna Begović
URL:https://cosdt.me/seminar/i-modul-gradanska-oblast/
END:VEVENT
BEGIN:VEVENT
DTSTART;TZID=Europe/Podgorica:20260420T090000
DTEND;TZID=Europe/Podgorica:20260420T170000
DTSTAMP:20260424T002759
CREATED:20260317T193232Z
LAST-MODIFIED:20260317T211009Z
UID:12704-1776675600-1776704400@cosdt.me
SUMMARY:Program pripravnika: Sudska vlast
DESCRIPTION:V UPRAVNOPRAVNA OBLAST \n\n	Vrste i nivoe sudova\n	Principe sudske vlasti\n	Osnivanje\, organizaciju i nadležnost sudova\n	Izbor sudija-uslove i postupak izbora sudija i predsjednika sudova\n	Sudski savjet i\n	Upućivanje i premještaj sudija\, ocjenjivanje sudija\, disciplinsku odgovornost i razrješenje sudija\n\nPredavači:Prof. dr Mladen VukčevićMarijana Laković\, advokaticaDesanka Lopičić\, sutkinja Ustavnog suda Crne Gore
URL:https://cosdt.me/seminar/program-pripravnika-sudska-vlast/
END:VEVENT
BEGIN:VEVENT
DTSTART;TZID=Europe/Podgorica:20260421T090000
DTEND;TZID=Europe/Podgorica:20260421T170000
DTSTAMP:20260424T002759
CREATED:20260317T193232Z
LAST-MODIFIED:20260317T211009Z
UID:12705-1776762000-1776790800@cosdt.me
SUMMARY:Program pripravnika: Državno tužilaštvo
DESCRIPTION:V UPRAVNOPRAVNA OBLAST \n\n	Ustavni položaj državnog tužilaštva i Tužilački savjet\n	Osnovna načela\n	Osnivanje\, nadležnost\, organizaciju i strukturu Državnog tužilaštva\n	Izbor državnih tužilaca i rukovodilaca državnih tužilaštava i\n	Upućivanje i premještaj državnih tužilaca\, ocjenjivanje državnih tužilaca i rukovodilaca državnih tužilaštava\, disciplinsku odgovornost i razriješenje\n\nPredavači:Prof. dr Mladen VukčevićNataša Radonjić\, Ministarstvo pravdeDesanka Lopičić\, sutkinja Ustavnog suda Crne GoreVII KONVENCIJSKO PRAVO I PRAVNI SISTEM I INSTITUCIJE EU
URL:https://cosdt.me/seminar/program-pripravnika-drzavno-tuzilastvo/
END:VEVENT
BEGIN:VEVENT
DTSTART;TZID=Europe/Podgorica:20260421T090000
DTEND;TZID=Europe/Podgorica:20260421T170000
DTSTAMP:20260424T002759
CREATED:20260317T211007Z
LAST-MODIFIED:20260317T211007Z
UID:12923-1776762000-1776790800@cosdt.me
SUMMARY:Tužba i odgovor na tužbu
DESCRIPTION:tužba\nvrste tužbi\nsadržina tužbe\nprethodno ispitivanje tužbe I mjere za otklanjanje nedostataka u tužbi\nodgovor na tužbu\nprocesno pravni I materijalno pravni prigovori\n\nPredavač:Vesna Begović
URL:https://cosdt.me/seminar/tuzba-i-odgovor-na-tuzbu/
END:VEVENT
BEGIN:VEVENT
DTSTART;TZID=Europe/Podgorica:20260422T090000
DTEND;TZID=Europe/Podgorica:20260422T170000
DTSTAMP:20260424T002759
CREATED:20260317T193002Z
LAST-MODIFIED:20260317T211007Z
UID:12592-1776848400-1776877200@cosdt.me
SUMMARY:Pripremanje glavne rasprave i izvođenje dokaza
DESCRIPTION:pripremanje glavne rasprave\ndostavljanje\npripremno ročište\nročište za glavnu raspravu\ndokazi\, izvođenje dokaza i ocjena dokaza\nzloupotreba procesnih prava i njeno sprječavanje\nposredovanje\n\nPredavač:Nataša Božović
URL:https://cosdt.me/seminar/ii-modul-gradanska-oblast/
END:VEVENT
BEGIN:VEVENT
DTSTART;VALUE=DATE:20260423
DTEND;VALUE=DATE:20260425
DTSTAMP:20260424T002759
CREATED:20260315T123008Z
LAST-MODIFIED:20260317T191436Z
UID:12117-1776902400-1777075199@cosdt.me
SUMMARY:Svojinsko-pravni odnosi i imovinsko pravo
DESCRIPTION:pravo službenosti\nsmetanje posjeda i zaštita državine\nuznemiravanje i oduzimanje svojine\ntumačenje zemljišnih knjiga\neksproprijacija i pitanja morskog dobra\n\nVrijeme potrebno za izvođenje programa:\nJedna dvodnevna obuka \nKorisnici:\nSudije \nPredavači:\nRadojka Nikolić\, sutkinja Vrhovnog suda CG u penziji\nRadonja Radonjić\, sudija Višeg suda u Podgorici\nOgnjana Boljević\, sutkinja Apelacionog suda CG\nNina Radunović\, sutkinja Višeg suda u Podgorici\nVojislavka Vuković Goločevac\, sutkinja Višeg suda u Podgorici
URL:https://cosdt.me/seminar/svojinsko-pravni-odnosi-i-imovinsko-pravo/
LOCATION:Podgorica\, Montenegro
GEO:42.4304196;19.2593642
END:VEVENT
BEGIN:VEVENT
DTSTART;TZID=Europe/Podgorica:20260423T090000
DTEND;TZID=Europe/Podgorica:20260423T170000
DTSTAMP:20260424T002759
CREATED:20260317T193002Z
LAST-MODIFIED:20260317T211142Z
UID:12593-1776934800-1776963600@cosdt.me
SUMMARY:Izviđaj\, istraga i mjere za obezbjeđenje prisustva okrivljenog
DESCRIPTION:izviđaj\nistraga\nmjere za obezbjeđenje prisustva okrivljenog za nesmetano vođenje krivičnog postupka\n\nPredavač:Danka Živković
URL:https://cosdt.me/seminar/ii-modul-krivicna-oblast/
END:VEVENT
BEGIN:VEVENT
DTSTART;TZID=Europe/Podgorica:20260424T090000
DTEND;TZID=Europe/Podgorica:20260424T170000
DTSTAMP:20260424T002759
CREATED:20260317T193002Z
LAST-MODIFIED:20260317T211007Z
UID:12594-1777021200-1777050000@cosdt.me
SUMMARY:Pripremanje glavne rasprave i izvođenje dokaza
DESCRIPTION:pripremanje glavne rasprave\ndostavljanje\npripremno ročište\nročište za glavnu raspravu\ndokazi\, izvođenje dokaza i ocjena dokaza\nzloupotreba procesnih prava i njeno sprječavanje\nposredovanje\n\nPredavač:Nataša Božović
URL:https://cosdt.me/seminar/ii-modul-gradanska-oblast-2/
END:VEVENT
BEGIN:VEVENT
DTSTART;VALUE=DATE:20260427
DTEND;VALUE=DATE:20260429
DTSTAMP:20260424T002759
CREATED:20260315T123008Z
LAST-MODIFIED:20260317T191436Z
UID:12119-1777248000-1777420799@cosdt.me
SUMMARY:Izrada i obrazloženje sudskih odluka
DESCRIPTION:metodologija izrade sudskih odluka\nobrazloženje činjeničnog i pravnog osnova u skladu sa standardima ESLJP\nujednačeni stil pisanja\n\nVrijeme potrebno za izvođenje programa:\nJedna dvodnevna obuka/radionica \nKorisnici:\nSudije \nPredavači:\nRadojka Nikolić\, sutkinja Vrhovnog suda CG u penziji\nSenka Danilović\, sutkinja Vrhovnog suda CG\nRadonja Radonjić\, sudija Višeg suda u Podgorici\nOgnjana Boljević\, sutkinja Apelacionog suda CG
URL:https://cosdt.me/seminar/izrada-i-obrazlozenje-sudskih-odluka/
LOCATION:Podgorica\, Montenegro
GEO:42.4304196;19.2593642
END:VEVENT
BEGIN:VEVENT
DTSTART;TZID=Europe/Podgorica:20260427T090000
DTEND;TZID=Europe/Podgorica:20260427T170000
DTSTAMP:20260424T002759
CREATED:20260317T193002Z
LAST-MODIFIED:20260317T211007Z
UID:12595-1777280400-1777309200@cosdt.me
SUMMARY:Radnje dokazivanja
DESCRIPTION:pretresanje stana\, stvari i lica\nuviđaj i rekonstrukcija\nmjere tajnog nadzora\n\nPredavač:Sanja Jovićević
URL:https://cosdt.me/seminar/iii-modul-krivicna-oblast/
END:VEVENT
BEGIN:VEVENT
DTSTART;TZID=Europe/Podgorica:20260428T090000
DTEND;TZID=Europe/Podgorica:20260428T170000
DTSTAMP:20260424T002759
CREATED:20260317T193145Z
LAST-MODIFIED:20260317T211009Z
UID:12674-1777366800-1777395600@cosdt.me
SUMMARY:Program pripravnika: Vanparnični postupak
DESCRIPTION:II GRAĐANSKOPRAVNA OBLAST \n\n	Uređenje ličnih stanja\n	Uređenje porodičnih odnosa i\n	Uređenje imovinskih odnosa\n\nPredavači:Ognjana Boljević\, sutkinja Apelacionog suda Crne GoreVojislavka Vuković Goločevac\, sutkinja Višeg suda u Podgorici
URL:https://cosdt.me/seminar/program-pripravnika-vanparnicni-postupak-3/
END:VEVENT
BEGIN:VEVENT
DTSTART;TZID=Europe/Podgorica:20260428T090000
DTEND;TZID=Europe/Podgorica:20260428T170000
DTSTAMP:20260424T002759
CREATED:20260317T211007Z
LAST-MODIFIED:20260317T211007Z
UID:12928-1777366800-1777395600@cosdt.me
SUMMARY:Radnje dokazivanja: saslušanje\, svjedoci i vještačenje
DESCRIPTION:Radnje dokazivanja\nsaslušanje osumnjičenog i okrivljenog;\nsaslušanje oštećenog sa posebnim osvrtom na vještine saslušanja žrtve;\nsvjedok;\nvještačenje; primjena Zakona o DNK registru;\nfotografije i audiovizuelni snimci\n\nPredavač:Vlado Novović
URL:https://cosdt.me/seminar/radnje-dokazivanja-saslusanje-svjedoci-i-vjestacenje/
END:VEVENT
BEGIN:VEVENT
DTSTART;VALUE=DATE:20260429
DTEND;VALUE=DATE:20260501
DTSTAMP:20260424T002759
CREATED:20260315T123008Z
LAST-MODIFIED:20260317T191436Z
UID:12114-1777420800-1777593599@cosdt.me
SUMMARY:Organizacija postupka i profesionalne vještine
DESCRIPTION:pisanje sudskih i tužilačkih akata\npravo na obrazloženu odluku\nvještine prezentacije u sudnici\n\nVrijeme potrebno za izvođenje programa:\nJedna dvodnevna radionica \nKorisnici:\nSudije i državni tužioci \nPredavači:\nZoran Šćepanović\, sudija Vrhovnog suda CG\nMiraš Radović\, sudija Vrhovnog suda CG u penziji\nSanja Jovićević\, državna tužiteljka\, Specijalno državno tužilaštvo\nAna Radović\, državna tužiteljka u Višem državnom tužilaštvu u Podgorici
URL:https://cosdt.me/seminar/organizacija-postupka-i-profesionalne-vjestine/
LOCATION:Podgorica\, Montenegro
GEO:42.4304196;19.2593642
END:VEVENT
BEGIN:VEVENT
DTSTART;TZID=Europe/Podgorica:20260429T090000
DTEND;TZID=Europe/Podgorica:20260429T170000
DTSTAMP:20260424T002759
CREATED:20260317T193014Z
LAST-MODIFIED:20260317T211007Z
UID:12598-1777453200-1777482000@cosdt.me
SUMMARY:Međunarodna pravna pomoć u krivičnim stvarima
DESCRIPTION:Zakon o međunarodnoj pravnoj pomoći u krivičnim stvarima\nbilateralni ugovori o pravnoj pomoći u krivičnim stvarima\nevropske konvencije iz oblasti MPP u krivičnim stvarima\nsadržina zamolnice i kako je pravilno sačiniti\n\nPredavač:Mira Samardžić
URL:https://cosdt.me/seminar/iv-modul-krivicna-oblast/
END:VEVENT
BEGIN:VEVENT
DTSTART;TZID=Europe/Podgorica:20260429T090000
DTEND;TZID=Europe/Podgorica:20260429T170000
DTSTAMP:20260424T002759
CREATED:20260317T193208Z
LAST-MODIFIED:20260317T193208Z
UID:12691-1777453200-1777482000@cosdt.me
SUMMARY:Program pripravnika: Pravo privrednih društava
DESCRIPTION:Modul 1: Pravo privrednih društava \nIV PRIVREDNOPRAVNA OBLAST \n\nPreduzetnik (pojam i osnovne karakteristike\, osnivanje\, organizacija\, prestanak)\nDruštvo sa ograničenom odgovornošću (pojam i osnovne karakteristike\, osnivanje\, organizacija\, prestanak)\nAkcionarsko društvo (pojam i osnovne karakteristike\, osnivanje\, organizacija\, prestanak)\nOrtačko društvo (pojam i osnovne karakteristike\, osnivanje\, organizacija\, prestanak)\nKomanditno društvo (pojam i osnovne karakteristike\, osnivanje\, organizacija\, prestanak) i\nDio stranog pravnog društva (pojam i osnovne karakteristike\, osnivanje\, organizacija\, prestanak)\n\nPredavači:\nNevenka Popović\, sutkinja Vrhovnog suda Crne GoreMarijana Pavićević\, sutkinja Vrhovnog suda Crne Gore
URL:https://cosdt.me/seminar/program-pripravnika-pravo-privrednih-drustava-3/
END:VEVENT
BEGIN:VEVENT
DTSTART;TZID=Europe/Podgorica:20260430T090000
DTEND;TZID=Europe/Podgorica:20260430T170000
DTSTAMP:20260424T002759
CREATED:20260317T193014Z
LAST-MODIFIED:20260317T211007Z
UID:12599-1777539600-1777568400@cosdt.me
SUMMARY:Vanparnični postupak
DESCRIPTION:pokretanje postupka i stranke u vanparničnom postupku\nrazlike između parničnog i vanparničnog postupka\nlišenje roditeljskog prava\n\nPredavač:Ognjana Boljević
URL:https://cosdt.me/seminar/iv-modul-gradanska-oblast/
END:VEVENT
BEGIN:VEVENT
DTSTART;TZID=Europe/Podgorica:20260430T090000
DTEND;TZID=Europe/Podgorica:20260430T170000
DTSTAMP:20260424T002759
CREATED:20260317T193220Z
LAST-MODIFIED:20260317T211009Z
UID:12693-1777539600-1777568400@cosdt.me
SUMMARY:Program pripravnika: Stečaj
DESCRIPTION:IV PRIVREDNOPRAVNA OBLAST \n\n	Načela stečajnog postupka\n	Stečajni postupak\n	Pokretanje stečajnog postupka\n	Stečajnu masu i\n	Odluke\n\nPredavači:Ivan Kovačević sudija Privrednog suda Crne GoreRadojica Grba\, stečajni upravnik
URL:https://cosdt.me/seminar/program-pripravnika-stecaj-2/
END:VEVENT
BEGIN:VEVENT
DTSTART;TZID=Europe/Podgorica:20260504T090000
DTEND;TZID=Europe/Podgorica:20260504T170000
DTSTAMP:20260424T002759
CREATED:20260317T193014Z
LAST-MODIFIED:20260317T211008Z
UID:12600-1777885200-1777914000@cosdt.me
SUMMARY:Dostavljanje pismena\, razmatranje spisa i zapisnici
DESCRIPTION:Dostavljanje pismena i razmatranje spisa\nPodnesci i zapisnici\n\nPredavač:Igor Đuričković
URL:https://cosdt.me/seminar/ii-modul-krivicna-oblast-2/
END:VEVENT
BEGIN:VEVENT
DTSTART;VALUE=DATE:20260505
DTEND;VALUE=DATE:20260506
DTSTAMP:20260424T002759
CREATED:20260315T123008Z
LAST-MODIFIED:20260317T191449Z
UID:12124-1777939200-1778025599@cosdt.me
SUMMARY:Intelektualna svojina (uključujući vještačku inteligenciju)
DESCRIPTION:autorska i srodna prava\nintelektualna svojina i vještačka inteligencija\n\nVrijeme potrebno za izvođenje programa:\nJedna jednodnevna obuka \nKorisnici:\nSudije \nPredavači:\nDijana Raičković\, sutkinja Apelacionog suda CG u penziji\nDanijela Vukčević\, sutkinja Apelacionog suda CG
URL:https://cosdt.me/seminar/intelektualna-svojina-ukljucujuci-vjestacku-inteligenciju/
LOCATION:Podgorica\, Montenegro
GEO:42.4304196;19.2593642
END:VEVENT
END:VCALENDAR