BEGIN:VCALENDAR
VERSION:2.0
PRODID:-//COSDT - ECPv6.15.17.1//NONSGML v1.0//EN
CALSCALE:GREGORIAN
METHOD:PUBLISH
X-WR-CALNAME:COSDT
X-ORIGINAL-URL:https://cosdt.me
X-WR-CALDESC:Events for COSDT
REFRESH-INTERVAL;VALUE=DURATION:PT1H
X-Robots-Tag:noindex
X-PUBLISHED-TTL:PT1H
BEGIN:VTIMEZONE
TZID:Europe/Podgorica
BEGIN:DAYLIGHT
TZOFFSETFROM:+0100
TZOFFSETTO:+0200
TZNAME:CEST
DTSTART:20200329T010000
END:DAYLIGHT
BEGIN:STANDARD
TZOFFSETFROM:+0200
TZOFFSETTO:+0100
TZNAME:CET
DTSTART:20201025T010000
END:STANDARD
BEGIN:DAYLIGHT
TZOFFSETFROM:+0100
TZOFFSETTO:+0200
TZNAME:CEST
DTSTART:20210328T010000
END:DAYLIGHT
BEGIN:STANDARD
TZOFFSETFROM:+0200
TZOFFSETTO:+0100
TZNAME:CET
DTSTART:20211031T010000
END:STANDARD
BEGIN:DAYLIGHT
TZOFFSETFROM:+0100
TZOFFSETTO:+0200
TZNAME:CEST
DTSTART:20220327T010000
END:DAYLIGHT
BEGIN:STANDARD
TZOFFSETFROM:+0200
TZOFFSETTO:+0100
TZNAME:CET
DTSTART:20221030T010000
END:STANDARD
BEGIN:DAYLIGHT
TZOFFSETFROM:+0100
TZOFFSETTO:+0200
TZNAME:CEST
DTSTART:20230326T010000
END:DAYLIGHT
BEGIN:STANDARD
TZOFFSETFROM:+0200
TZOFFSETTO:+0100
TZNAME:CET
DTSTART:20231029T010000
END:STANDARD
END:VTIMEZONE
BEGIN:VEVENT
DTSTART;VALUE=DATE:20220131
DTEND;VALUE=DATE:20220201
DTSTAMP:20260425T174031
CREATED:20220105T152021Z
LAST-MODIFIED:20220105T152021Z
UID:8109-1643587200-1643673599@cosdt.me
SUMMARY:Probacija i kazna rada u javnom interesu
DESCRIPTION:Probacija i kazna rada u javnom interesu;\n\n  \nVrijeme potrebno za izvođenje programa: \nJedan seminar \nKorisnici: \nSudije\, državni tužioci. \n  \nPredavači: \n  \nDatum održavanja: 31. januar
URL:https://cosdt.me/seminar/probacija-i-kazna-rada-u-javnom-interesu/
LOCATION:Podgorica\, Montenegro
CATEGORIES:Obuke
GEO:42.4304196;19.2593642
END:VEVENT
BEGIN:VEVENT
DTSTART;VALUE=DATE:20211221
DTEND;VALUE=DATE:20211223
DTSTAMP:20260425T174031
CREATED:20210129T124142Z
LAST-MODIFIED:20211110T181909Z
UID:6824-1640044800-1640217599@cosdt.me
SUMMARY:Program obuke o pravu EU (Modul VI) - Pravosudna saradnja u krivičnim stvarima u EU
DESCRIPTION:Program obuke o pravu EU (Modul VI) – Sudska i policijska saradnja u krivičnom postupku u EU \n  \nVrijeme potrebno za izvođenje programa: \nJedan dvodnevni seminar \n  \nPredavači: \n\nDr Miloš Vukčević\nDr Miloš Bošković\n\n  \nDatum održavanja: 21.-22. decembar
URL:https://cosdt.me/seminar/sudska-i-policijska-saradnja-u-krivicnom-postupku-u-evropskoj-uniji/
LOCATION:Podgorica\, Montenegro
CATEGORIES:Seminari
GEO:42.4304196;19.2593642
END:VEVENT
BEGIN:VEVENT
DTSTART;VALUE=DATE:20211220
DTEND;VALUE=DATE:20211221
DTSTAMP:20260425T174031
CREATED:20210129T121652Z
LAST-MODIFIED:20210129T121652Z
UID:6752-1639958400-1640044799@cosdt.me
SUMMARY:Zakon o postupanju prema maloljetnicima u krivičnom postupku
DESCRIPTION:Zakon o postupanju prema maloljetnicima u krivičnom postupku;\n\n  \nVrijeme potrebno za izvođenje programa: \nJedan jednodnevni seminar \n  \nPredavači: \n\nDragiša Rakočevič\, sudija Apelacionog suda CG\nDanka Ivanović Đerić\, državna tužiteljka u Višem DT Podgorica\n\n  \nDatum održavanja: 20. decembar
URL:https://cosdt.me/seminar/zakon-o-postupanju-prema-maloljetnicima-u-krivicnom-postupku/
LOCATION:Podgorica\, Montenegro
CATEGORIES:Seminari
END:VEVENT
BEGIN:VEVENT
DTSTART;VALUE=DATE:20211214
DTEND;VALUE=DATE:20211215
DTSTAMP:20260425T174031
CREATED:20211104T084310Z
LAST-MODIFIED:20211104T084310Z
UID:7846-1639440000-1639526399@cosdt.me
SUMMARY:UNAPREĐENJE PRAKSE OSTVARIVANJA IMOVINSKOPRAVNIH ZAHTJEVA OŠTEĆENIH U PREDMETIMA RATNIH ZLOČINA
DESCRIPTION:UNAPREĐENJE PRAKSE OSTVARIVANJA IMOVINSKOPRAVNIH ZAHTJEVA OŠTEĆENIH U PREDMETIMA RATNIH ZLOČINA
URL:https://cosdt.me/seminar/unapredenje-prakse-ostvarivanja-imovinskopravnih-zahtjeva-ostecenih-u-predmetima-ratnih-zlocina/
LOCATION:Podgorica\, Montenegro
CATEGORIES:Seminari
END:VEVENT
BEGIN:VEVENT
DTSTART;VALUE=DATE:20211209
DTEND;VALUE=DATE:20211211
DTSTAMP:20260425T174031
CREATED:20210129T124323Z
LAST-MODIFIED:20210129T124323Z
UID:6830-1639008000-1639180799@cosdt.me
SUMMARY:Sudijske i tužilačke vještine
DESCRIPTION:Sudijske i tužilačke vještine;\n\n  \nVrijeme potrebno za izvođenje programa: \nJedan dvodnevni seminar \n  \nPredavači: \n\nAnđa Backović\, psiholog\nRadoje Cerović\, psiholog\n\n  \nDatum održavanja: 9-10. decembar
URL:https://cosdt.me/seminar/sudijske-i-tuzilacke-vjestine-2/
LOCATION:Podgorica\, Montenegro
CATEGORIES:Seminari
END:VEVENT
BEGIN:VEVENT
DTSTART;VALUE=DATE:20211202
DTEND;VALUE=DATE:20211203
DTSTAMP:20260425T174031
CREATED:20210129T123752Z
LAST-MODIFIED:20210129T123752Z
UID:6815-1638403200-1638489599@cosdt.me
SUMMARY:Naknada štete zbog povrede prava ličnosti - praksa ESLJP
DESCRIPTION:Naknada štete zbog povrede prava ličnosti – praksa ESLJP; \n\n  \nVrijeme potrebno za izvođenje programa: \nJedan jednodnevni seminar \n  \nPredavači: \n\nDušanka Radović\, sudija Vrhovnog suda CG\nValentina Pavličić\, zastupnica CG pred ESLJP\n\n  \nDatum održavanja: 2. decembar
URL:https://cosdt.me/seminar/naknada-stete-zbog-povrede-prava-licnosti-praksa-esljp/
LOCATION:Podgorica\, Montenegro
CATEGORIES:Seminari
END:VEVENT
BEGIN:VEVENT
DTSTART;VALUE=DATE:20211125
DTEND;VALUE=DATE:20211127
DTSTAMP:20260425T174031
CREATED:20210129T123417Z
LAST-MODIFIED:20210129T123417Z
UID:6800-1637798400-1637971199@cosdt.me
SUMMARY:Član 6 Evropske konvencije o ljudskim pravima i slobodama - pravo na pravično sudjenje; Zakon o zaštiti na suđenje o razumnom roku; Pravo na odbranu i jednakost oružja u praksi ESLJP
DESCRIPTION:Član 6 Evropske konvencije o ljudskim pravima i slobodama – pravo na pravično sudjenje; Zakon o zaštiti na suđenje o razumnom roku; Pravo na odbranu i jednakost oružja u praksi ESLJP \n  \nVrijeme potrebno za izvođenje programa: \nJedan dvodnevni seminar \n  \nPredavači: \n\nBranka Lakočević\, predsjednica Upravnog suda CG\nRanka Vuković\, sudija Vrhovnog suda CG\nSnežana Aleksić\, sudija Vrhovnog suda CG\nDragica Vuković\, sudija Višeg suda u Podgorici\nEvica Durutović\, sudija Višeg suda u Podgorici\nMirjana Popović\, sudija Višeg suda u Podgorici\n\n  \nDatum održavanja: 25-26. novembar
URL:https://cosdt.me/seminar/clan-6-evropske-konvencije-o-ljudskim-pravima-i-slobodama-pravo-na-pravicno-sudjenje-zakon-o-zastiti-na-sudenje-o-razumnom-roku-pravo-na-odbranu-i-jednakost-oruzja-u-praksi-esljp/
LOCATION:Podgorica\, Montenegro
CATEGORIES:Seminari
END:VEVENT
BEGIN:VEVENT
DTSTART;VALUE=DATE:20211115
DTEND;VALUE=DATE:20211117
DTSTAMP:20260425T174031
CREATED:20210129T122850Z
LAST-MODIFIED:20210129T122850Z
UID:6785-1636934400-1637107199@cosdt.me
SUMMARY:Sporna pitanja u primjeni Zakona o upravnom postupku i Zakona o upravnom sporu; Zakon o slobodnom pristupu informacijama\, Zakon o zaštiti ličnih podataka\, Zakon o tajnosti podataka
DESCRIPTION:Sporna pitanja u primjeni Zakona o upravnom postupku i Zakona o upravnom sporu;\nZakon o slobodnom pristupu informacijama\, Zakon o zaštiti ličnih podataka\, Zakon o tajnosti podataka;\n\n  \nVrijeme potrebno za izvođenje programa: \nJedna regionalna konferencija ili dva jednodnevna seminara \n  \nPredavači: \n\nStanka Vučinić\, sudija Vrhovnog suda CG\nHasnija Simonović\, sudija Vrhovnog suda CG\nVesna Vučković\, sudija Vrhovnog suda CG\nBranka Lakočević\, predsjednica Upravnog suda CG\n\n  \nDatum održavanja: 15. i 16. novembar
URL:https://cosdt.me/seminar/sporna-pitanja-u-primjeni-zakona-o-upravnom-postupku-i-zakona-o-upravnom-sporu-zakon-o-slobodnom-pristupu-informacijama-zakon-o-zastiti-licnih-podataka-zakon-o-tajnosti-podataka/
LOCATION:Podgorica\, Montenegro
CATEGORIES:Seminari
END:VEVENT
BEGIN:VEVENT
DTSTART;VALUE=DATE:20211112
DTEND;VALUE=DATE:20211113
DTSTAMP:20260425T174031
CREATED:20211104T084100Z
LAST-MODIFIED:20211104T084100Z
UID:7843-1636675200-1636761599@cosdt.me
SUMMARY:Pitanje lišenja slobode u smislu primjene standarda Savjeta Evrope i EKLJP\, sa akcentom na predmet Asanović protiv Crne Gore
DESCRIPTION:Pitanje lišenja slobode u smislu primjene standarda Savjeta Evrope i EKLJP\, sa akcentom na predmet Asanović protiv Crne Gore
URL:https://cosdt.me/seminar/pitanje-lisenja-slobode-u-smislu-primjene-standarda-savjeta-evrope-i-ekljp-sa-akcentom-na-predmet-asanovic-protiv-crne-gore/
LOCATION:Podgorica\, Montenegro
END:VEVENT
BEGIN:VEVENT
DTSTART;VALUE=DATE:20211111
DTEND;VALUE=DATE:20211112
DTSTAMP:20260425T174031
CREATED:20210129T124430Z
LAST-MODIFIED:20211104T084018Z
UID:6833-1636588800-1636675199@cosdt.me
SUMMARY:Rodna ravnopravnost sa posebnim osvrtom na CEDAW konvenciju
DESCRIPTION:Rodna ravnopravnost sa posebnim osvrtom na CEDAW konvenciju;\n\n  \nVrijeme potrebno za izvođenje programa: \nJedan dvodnevni seminar \n  \nPredavači: \n\nSiniša Bjeković\, Ombudsman\ndr Vesna Ratković\n\n  \nDatum održavanja: 11. novembar
URL:https://cosdt.me/seminar/rodna-ravnopravnost-sa-posebnim-osvrtom-na-cedaw-konvenciju-3/
LOCATION:Podgorica\, Montenegro
CATEGORIES:Seminari
END:VEVENT
BEGIN:VEVENT
DTSTART;VALUE=DATE:20211105
DTEND;VALUE=DATE:20211106
DTSTAMP:20260425T174031
CREATED:20210129T120443Z
LAST-MODIFIED:20210129T120443Z
UID:6719-1636070400-1636156799@cosdt.me
SUMMARY:Zakon o izvršenju uslovne osude i kazne rada u javnom interesu - probacija i vremensko važenje krivičnog zakonika
DESCRIPTION:Zakon o izvršenju uslovne osude i kazne rada u javnom interesu – probacija i vremensko važenje krivičnog zakonika;\n\n  \nVrijeme potrebno za izvođenje programa: \nJedan jednodnevni seminar \n  \nPredavači: \n\nNataša Radonjić\, Ministarstvo pravde\nJelena Perović\, direktorica ASK-a\n\nDatum održavanja: 5. novembar
URL:https://cosdt.me/seminar/zakon-o-izvrsenju-uslovne-osude-i-kazne-rada-u-javnom-interesu-probacija-i-vremensko-vazenje-krivicnog-zakonika/
LOCATION:Podgorica\, Montenegro
CATEGORIES:Seminari
END:VEVENT
BEGIN:VEVENT
DTSTART;VALUE=DATE:20211025
DTEND;VALUE=DATE:20211027
DTSTAMP:20260425T174031
CREATED:20210129T123133Z
LAST-MODIFIED:20210129T123133Z
UID:6794-1635120000-1635292799@cosdt.me
SUMMARY:Član 2 i Član 3 Evropske konvencije o ljudskim pravima
DESCRIPTION:Član 2 i Član 3 Evropske konvencije o ljudskim pravima;\n\nVrijeme potrebno za izvođenje programa: \nJedan dvodnevni seminar \n  \nPredavači: \n\nMiraš Radović\, sudija vrhovnog suda CG\nMarija Raspopović\, specijalna tužiteljka\nSanja Jovićević\, specijalna tužiteljka\nVukota Vujačić\, predsjednik OS Nikšić\nIgor Đuričković\, sudija OS Nikšić\nSnežana Armenko\, zamjenica Ombudsmana\nNenad Vujanović\, sudija OS Podgorica\nJelena Perović\, direktorica ASK-a\n\n  \nDatum održavanja: 25-26. oktobar
URL:https://cosdt.me/seminar/clan-2-i-clan-3-evropske-konvencije-o-ljudskim-pravima-3/
LOCATION:Podgorica\, Montenegro
CATEGORIES:Seminari
END:VEVENT
BEGIN:VEVENT
DTSTART;VALUE=DATE:20211021
DTEND;VALUE=DATE:20211023
DTSTAMP:20260425T174031
CREATED:20210129T115433Z
LAST-MODIFIED:20210129T115433Z
UID:6701-1634774400-1634947199@cosdt.me
SUMMARY:- Sporazum o priznanju krivice
DESCRIPTION:Sporazum o priznanju krivice; \n\nVrijeme potrebno za izvođenje programa: \nJedan jednodnevni seminar \nPredavači: \n\nSvetlana Vujanović\, sudija Vrhovnog suda CG\nMira Samardžić\, specijalna tužiteljka\n\nDatum održavanja: 21-22. oktobar
URL:https://cosdt.me/seminar/sporazum-o-priznanju-krivice-4/
LOCATION:Podgorica\, Montenegro
CATEGORIES:Seminari
END:VEVENT
BEGIN:VEVENT
DTSTART;VALUE=DATE:20211011
DTEND;VALUE=DATE:20211013
DTSTAMP:20260425T174031
CREATED:20210129T122338Z
LAST-MODIFIED:20210129T122338Z
UID:6770-1633910400-1634083199@cosdt.me
SUMMARY:Porodično pravni i nasljedno pravni odnosi\, sa akcentom na nove institute
DESCRIPTION:– Porodično pravni i nasljedno pravni odnosi\, sa akcentom na nove institute; \n  \nVrijeme potrebno za izvođenje programa: \nJedan dvodnodnevni seminar \n  \nPredavači: \n\nVesna Begović\, sudija Vrhovnog suda CG\nRadojka Nikolić\, sudija Vrhovnog suda CG\nDragica Milačić\, sudija Vrhovnog suda CG\nSnežana Aleksić\, sudija Vrhovnog suda CG\n\n  \nDatum održavanja: 11-12. oktobar
URL:https://cosdt.me/seminar/porodicno-pravni-i-nasljedno-pravni-odnosi-sa-akcentom-na-nove-institute/
LOCATION:Podgorica\, Montenegro
CATEGORIES:Seminari
END:VEVENT
BEGIN:VEVENT
DTSTART;VALUE=DATE:20211005
DTEND;VALUE=DATE:20211007
DTSTAMP:20260425T174031
CREATED:20210129T124238Z
LAST-MODIFIED:20210910T105118Z
UID:6827-1633392000-1633564799@cosdt.me
SUMMARY:Obuke o sistemu disciplinske odgovornosti sudija i državnih tužilaca u skladu sa novinama u Zakonu o Sudskom savjetu i pravima i dužnostima sudija i Zakonu o državnom tužilaštvu; Jačanje integriteta i etički kodeksi sudija i tužilaca kao i članova Sudskog i Tužilačkog savjeta - moguce odlaganje
DESCRIPTION:Obuke o sistemu disciplinske odgovornosti sudija i državnih tužilaca u skladu sa novinama u Zakonu o Sudskom savjetu i pravima i dužnostima sudija i Zakonu o državnom tužilaštvu; \nJačanje integriteta i etički kodeksi sudija i tužilaca kao i članova Sudskog i Tužilačkog savjeta;\n\n  \nVrijeme potrebno za izvođenje programa: \nDva jednodnevna seminara \n  \nPredavači: \n\nKatarina Kljajević\, rukovodilac ODT Bijelo Polje\nAna Perović Vojinović\, sudija Upravnog suda CG i član Sudskog savjeta\nHasnija Simonović\, sudija Vrhovnog suda CG i predsjednica Udruženja sudija\nVeselin Vučković\, državni tužilac u VDT i predsjednik Udruženja državnih tužilaca\n\n  \nDatum održavanja: 5.-6. oktobar
URL:https://cosdt.me/seminar/obuke-o-sistemu-disciplinske-odgovornosti-sudija-i-drzavnih-tuzilaca-u-skladu-sa-novinama-u-zakonu-o-sudskom-savjetu-i-pravima-i-duznostima-sudija-i-zakonu-o-drzavnom-tuzilastvu-jacanje-integriteta-i/
LOCATION:Podgorica\, Montenegro
CATEGORIES:Seminari
END:VEVENT
BEGIN:VEVENT
DTSTART;VALUE=DATE:20211004
DTEND;VALUE=DATE:20211006
DTSTAMP:20260425T174031
CREATED:20210129T115752Z
LAST-MODIFIED:20210129T115752Z
UID:6710-1633305600-1633478399@cosdt.me
SUMMARY:Forenzička vještačenja i Zakon o DNK registru
DESCRIPTION:Forenzička vještačenja i Zakon o DNK registru; \n\n  \nVrijeme potrebno za izvođenje programa: \nJedan dvodnevni seminar \n  \nPredavači: \n\nPredavači iz Forenzičkog centra\nSvetlana Vujanović\, sudija Vrhovnog suda CG\nLjiljana Klikovac\, državna tužiteljka\n\n  \nDatum održavanja: 4-5. oktobar
URL:https://cosdt.me/seminar/forenzicka-vjestacenja-i-zakon-o-dnk-registru/
LOCATION:Podgorica\, Montenegro
CATEGORIES:Seminari
END:VEVENT
BEGIN:VEVENT
DTSTART;VALUE=DATE:20210924
DTEND;VALUE=DATE:20210925
DTSTAMP:20260425T174031
CREATED:20210129T122703Z
LAST-MODIFIED:20210129T122703Z
UID:6779-1632441600-1632527999@cosdt.me
SUMMARY:Stečaj
DESCRIPTION:Stečaj;\n\n  \nVrijeme potrebno za izvođenje programa: \nJedan jednodnevni seminar \n  \nPredavači: \n\nMarijana Pavićević\, sudija Apelacionog suda CG\nNevenka Popović\, sudija Apelacionog suda CG\nLidija Ivanović\, sudija Vrhovnog suda CG\n\n  \nDatum održavanja: 24. septembar
URL:https://cosdt.me/seminar/stecaj/
LOCATION:Podgorica\, Montenegro
CATEGORIES:Seminari
END:VEVENT
BEGIN:VEVENT
DTSTART;VALUE=DATE:20210921
DTEND;VALUE=DATE:20210922
DTSTAMP:20260425T174031
CREATED:20210129T115001Z
LAST-MODIFIED:20210729T103513Z
UID:6695-1632182400-1632268799@cosdt.me
SUMMARY:MTN i korišćenje dokaza pribavljenih ovim putem (trajanje\, produženje\, itd) i zaštita podataka o ličnosti i tajnim podacima
DESCRIPTION:– MTN i korišćenje dokaza pribavljenih ovim putem (trajanje\, produženje\, itd) i zaštita podataka o ličnosti i tajnim podacima; \n  \nVrijeme potrebno za izvođenje programa: \nJedan jednodnevni seminar (u saradnji sa Ambasadom SAD) \n  \nPredavači: \n– Aleksa Ivanović\, predsjednik DIK-a\, \n– Dragoje Jović\, sudija Apelacionog suda \n– Sanja Jovićević\, specijalna tužiteljka \n  \nDatum održavanja: 21. septembar
URL:https://cosdt.me/seminar/mtn-i-koriscenje-dokaza-pribavljenih-ovim-putem-trajanje-produzenje-itd-i-zastita-podataka-o-licnosti-i-tajnim-podacima/
LOCATION:Podgorica\, Montenegro
CATEGORIES:Seminari
END:VEVENT
BEGIN:VEVENT
DTSTART;VALUE=DATE:20210920
DTEND;VALUE=DATE:20210921
DTSTAMP:20260425T174031
CREATED:20210129T115530Z
LAST-MODIFIED:20210129T115530Z
UID:6704-1632096000-1632182399@cosdt.me
SUMMARY:Saradnja i pružanje međunarodne pravne pomoći u krivičnim stvarima
DESCRIPTION:Saradnja i pružanje međunarodne pravne pomoći u krivičnim stvarima; \n\nVrijeme potrebno za izvođenje programa: \nJedan jednodnevni seminar \nPredavači: \n\nRadule Kojović\, sudija Vrhovnog suda CG u penziji\nVeselin Vučković\, državni tužilac u VDT-u\n\nDatum održavanja: 20. septembar
URL:https://cosdt.me/seminar/saradnja-i-pruzanje-medunarodne-pravne-pomoci-u-krivicnim-stvarima/
LOCATION:Podgorica\, Montenegro
CATEGORIES:Seminari
END:VEVENT
BEGIN:VEVENT
DTSTART;VALUE=DATE:20210915
DTEND;VALUE=DATE:20210916
DTSTAMP:20260425T174031
CREATED:20210129T123718Z
LAST-MODIFIED:20210129T123718Z
UID:6812-1631664000-1631750399@cosdt.me
SUMMARY:Pravo na imovinu u smislu čl. 1 Protokola 1 EKLJP i praksa ESLJP
DESCRIPTION:– Pravo na imovinu u smislu čl. 1 Protokola 1 EKLJP i praksa ESLJP \n  \nVrijeme potrebno za izvođenje programa: \nJedan jednodnevni seminar \n  \nPredavači: \n\ndr Nebojša Vučinić\,\nDušanka Radović\, sudija Vrhovnog suda CG\nValentina Pavličić\, zastupnica CG pred ESLJP\n\n  \nDatum održavanja: 15. septembar
URL:https://cosdt.me/seminar/pravo-na-imovinu-u-smislu-cl-1-protokola-1-ekljp-i-praksa-esljp/
LOCATION:Podgorica\, Montenegro
CATEGORIES:Seminari
END:VEVENT
BEGIN:VEVENT
DTSTART;VALUE=DATE:20210708
DTEND;VALUE=DATE:20210710
DTSTAMP:20260425T174031
CREATED:20210617T084738Z
LAST-MODIFIED:20210617T084738Z
UID:7475-1625702400-1625875199@cosdt.me
SUMMARY:Radno pravo - Međunarodni radni standardi i njihova primjena u pravosuđu
DESCRIPTION:8. I 9. Jul – Radno pravo – Međunarodni radni standardi i njihova primjena u pravosuđu
URL:https://cosdt.me/seminar/radno-pravo-medunarodni-radni-standardi-i-njihova-primjena-u-pravosudu/
LOCATION:Podgorica\, Montenegro
CATEGORIES:Seminari
END:VEVENT
BEGIN:VEVENT
DTSTART;VALUE=DATE:20210706
DTEND;VALUE=DATE:20210709
DTSTAMP:20260425T174031
CREATED:20210129T121054Z
LAST-MODIFIED:20210617T084634Z
UID:6731-1625529600-1625788799@cosdt.me
SUMMARY:Trgovina ljudima
DESCRIPTION:Trgovina ljudima; \n\n  \nVrijeme potrebno za izvođenje programa: \nJedan seminar u trajanju od tri dana \n  \nPredavači: \n\nMilenka Seka Žižić\, sudija Apelacionog suda CG\nŽeljka Jovović\, predsjednica OS Podgorica\nSanja Jovićević\, specijalna tužiteljka\nSeka Piletić\, sudija Apelacionog suda CG\nMira Samardžić\, specijalna tužiteljka\nZoran Vučinić\, državni tužilac i Višem državnom tužilaštvu Podgorica\n\n  \nDatum održavanja: 6-7-8. jul
URL:https://cosdt.me/seminar/trgovina-ljudima-3/
LOCATION:Podgorica\, Montenegro
CATEGORIES:Seminari
END:VEVENT
BEGIN:VEVENT
DTSTART;VALUE=DATE:20210701
DTEND;VALUE=DATE:20210704
DTSTAMP:20260425T174031
CREATED:20210129T122937Z
LAST-MODIFIED:20210129T122937Z
UID:6788-1625097600-1625356799@cosdt.me
SUMMARY:Opšti instituti i sporna pitanja u primjeni Zakona o prekršajima i shodna primjena Zakona o krivičnom postupku i praksa Ustavnog suda po ustavnoj žalbi u prekršajnim predmetima; Sporna pitanja u primjeni sljedećih zakona: Zakon o zaštiti od nasilja u porodici\, Zakon o JRM\, Zakon o PDV-u i Zakon o inspekcijskom nadzoru; Subjektivni i objektivni identitet zahtjeva za pokretanje prekršajnog postupka i sačinjavanje zapisnika u postupcima bez pretresa
DESCRIPTION:Opšti instituti i sporna pitanja u primjeni Zakona o prekršajima i shodna primjena Zakona o krivičnom postupku i praksa Ustavnog suda po ustavnoj žalbi u prekršajnim predmetima; \nSporna pitanja u primjeni sljedećih zakona: Zakon o zaštiti od nasilja u porodici\, Zakon o JRM\, Zakon o PDV-u i Zakon o inspekcijskom nadzoru;\nSubjektivni i objektivni identitet zahtjeva za pokretanje prekršajnog postupka i sačinjavanje zapisnika u postupcima bez pretresa.\n\n  \nVrijeme potrebno za izvođenje programa: \nTri jednodnevna seminara ili trodnevna konferencija na sve teme. \n  \nPredavači: \n\nVesna Šćepanović\, sudija Višeg suda za prekršaje\nMaja Živaljević\, sudija Višeg suda za prekršaje\nMilorad Popović\, sudija Višeg suda za prekršaje\nSiniša Bjeković\, Ombudsman\nJelena Perović\, direktorica ASK-a\n\n  \nDatum održavanja: 1-2-3. jul
URL:https://cosdt.me/seminar/opsti-instituti-i-sporna-pitanja-u-primjeni-zakona-o-prekrsajima-i-shodna-primjena-zakona-o-krivicnom-postupku-i-praksa-ustavnog-suda-po-ustavnoj-zalbi-u-prekrsajnim-predmetima-sporna-pitanja-u-primj/
LOCATION:Podgorica\, Montenegro
CATEGORIES:Seminari
END:VEVENT
BEGIN:VEVENT
DTSTART;VALUE=DATE:20210628
DTEND;VALUE=DATE:20210630
DTSTAMP:20260425T174031
CREATED:20210129T121500Z
LAST-MODIFIED:20210129T121500Z
UID:6746-1624838400-1625011199@cosdt.me
SUMMARY:Krivična djela protiv platnog prometa i privrednog poslovanja\, sa akcentom na falsifikovanje isprava i pranje novca
DESCRIPTION:Krivična djela protiv platnog prometa i privrednog poslovanja\, sa akcentom na falsifikovanje isprava i pranje novca; \n\n  \nVrijeme potrebno za izvođenje programa: \nJedan dvodnevni seminar \n  \nPredavači: \n\nLidija Vukčević\, specijalna tužiteljka\nDragiša Rakočević\, sudija Apelacionog suda CG\nMiljko Radosavljević\, zamjenik Republičkog javnog tužioca R Srbije\n\n  \nDatum održavanja: 28-29. jun
URL:https://cosdt.me/seminar/krivicna-djela-protiv-platnog-prometa-i-privrednog-poslovanja-sa-akcentom-na-falsifikovanje-isprava-i-pranje-novca/
LOCATION:Podgorica\, Montenegro
CATEGORIES:Seminari
END:VEVENT
BEGIN:VEVENT
DTSTART;VALUE=DATE:20210622
DTEND;VALUE=DATE:20210624
DTSTAMP:20260425T174031
CREATED:20210218T122448Z
LAST-MODIFIED:20210315T105459Z
UID:6871-1624320000-1624492799@cosdt.me
SUMMARY:EKLJP i Evropski sud za ljudska prava
DESCRIPTION:Evropski sud za ljudska prava (istorijski osvrt; organizacija\, funkcionisanje i nadležnost Suda; procedura pred Sudom; donošenje i izvršenje presuda; praksa Suda i dr.); \nključni pojmovi EKLJP /Evropske konvencije o ljudskim pravima (hijerarhija prava\, subsidijarnost\, proporcionalnost\, efektivnost\, pozitivne i negativne obaveze\, autonomni koncepti); \nČlan 1 EKLJP– obaveza poštovanja ljudskih prava;
URL:https://cosdt.me/seminar/evropski-sud-za-ljudska-prava/
LOCATION:Podgorica\, Montenegro
CATEGORIES:Seminari
END:VEVENT
BEGIN:VEVENT
DTSTART;VALUE=DATE:20210617
DTEND;VALUE=DATE:20210619
DTSTAMP:20260425T174031
CREATED:20210129T120749Z
LAST-MODIFIED:20210129T120749Z
UID:6725-1623888000-1624060799@cosdt.me
SUMMARY:Ratni zločini i prisilni nestanci
DESCRIPTION:Ratni zločini i prisilni nestanci;\n\n  \nVrijeme potrebno za izvođenje programa: \nJedan jednodnevni seminar \n  \nPredavači: \n\nLidija Vukčević\, specijalna tužiteljka\nMilenka Seka Žižić\, sudija Apelacionog suda CG\n\n  \nDatum održavanja: 17-18. jun
URL:https://cosdt.me/seminar/ratni-zlocini-i-prisilni-nestanci/
LOCATION:Podgorica\, Montenegro
CATEGORIES:Seminari
END:VEVENT
BEGIN:VEVENT
DTSTART;VALUE=DATE:20210610
DTEND;VALUE=DATE:20210612
DTSTAMP:20260425T174031
CREATED:20210129T115703Z
LAST-MODIFIED:20210129T115703Z
UID:6707-1623283200-1623455999@cosdt.me
SUMMARY:Sporna pitanja u primjeni Zakonika o krivičnom postupku (radnje policije i tužilaštva u izviđaju i istrazi; uviđaj; specijalne istražne tehnike)
DESCRIPTION:Sporna pitanja u primjeni Zakonika o krivičnom postupku (radnje policije i tužilaštva u izviđaju i istrazi; uviđaj; specijalne istražne tehnike);\n\nVrijeme potrebno za izvođenje programa: \nJedan dvodnevni seminar \nPredavači: \n\nVeselin Vučković\, državni tužilac u VDT-u\nMarija Raspopović\, specijalna tužiteljka\nRadule Kojović\, sudija Vrhovnog suda CG u penziji\nPredstavnik MUP-a (policijski službenik)\n\nDatum održavanja: 10-11. jun
URL:https://cosdt.me/seminar/sporna-pitanja-u-primjeni-zakonika-o-krivicnom-postupku-radnje-policije-i-tuzilastva-u-izvidaju-i-istrazi-uvidaj-specijalne-istrazne-tehnike/
LOCATION:Podgorica\, Montenegro
CATEGORIES:Seminari
END:VEVENT
BEGIN:VEVENT
DTSTART;VALUE=DATE:20210604
DTEND;VALUE=DATE:20210605
DTSTAMP:20260425T174031
CREATED:20210527T090120Z
LAST-MODIFIED:20210527T090120Z
UID:7270-1622764800-1622851199@cosdt.me
SUMMARY:Besplatna pravna pomoć
DESCRIPTION:Besplatna pravna pomoć
URL:https://cosdt.me/seminar/besplatna-pravna-pomoc/
LOCATION:Podgorica\, Montenegro
CATEGORIES:Seminari
END:VEVENT
BEGIN:VEVENT
DTSTART;VALUE=DATE:20210531
DTEND;VALUE=DATE:20210601
DTSTAMP:20260425T174031
CREATED:20210129T123636Z
LAST-MODIFIED:20210129T123636Z
UID:6809-1622419200-1622505599@cosdt.me
SUMMARY:Član 14 EKLJP – zabrana diskriminacije sa akcentom na zaštitu ljudskih prava LGBT osoba; Praksa ESLJP u vezi sa čl. 14 EKLJP; Nacionalno zakonodavstvo i praksa domaćih sudova
DESCRIPTION:Član 14 EKLJP – zabrana diskriminacije sa akcentom na zaštitu ljudskih prava LGBT osoba; Praksa ESLJP u vezi sa čl. 14 EKLJP; Nacionalno zakonodavstvo i praksa domaćih sudova. \n  \nVrijeme potrebno za izvođenje programa: \nJedan jednodnevni seminar \n  \nPredavači: \n\nSiniša Bjeković\, Ombudsman\nMiloš Šoškić\, državni tužilac u Višem DT Podgorica\n\n  \nDatum održavanja: 31. maj
URL:https://cosdt.me/seminar/clan-14-ekljp-zabrana-diskriminacije-sa-akcentom-na-zastitu-ljudskih-prava-lgbt-osoba-praksa-esljp-u-vezi-sa-cl-14-ekljp-nacionalno-zakonodavstvo-i-praksa-domacih-sudova/
LOCATION:Podgorica\, Montenegro
CATEGORIES:Seminari
END:VEVENT
BEGIN:VEVENT
DTSTART;VALUE=DATE:20210527
DTEND;VALUE=DATE:20210529
DTSTAMP:20260425T174031
CREATED:20210129T121129Z
LAST-MODIFIED:20210129T121129Z
UID:6734-1622073600-1622246399@cosdt.me
SUMMARY:Terorizam\, borci u inostranstvu i učestvovanje u stranim oružanim formacijama
DESCRIPTION:Terorizam\, borci u inostranstvu i učestvovanje u stranim oružanim formacijama;\n\n  \nVrijeme potrebno za izvođenje programa: \nJedan dvodnevni seminar \n  \nPredavači: \n\nVesna Medenica\, predsjednica Vrhovnog suda CG\nSanja Jovićević\, specijalna tužiteljka\n\n  \nDatum održavanja: 27-28. maj
URL:https://cosdt.me/seminar/terorizam-borci-u-inostranstvu-i-ucestvovanje-u-stranim-oruzanim-formacijama/
LOCATION:Podgorica\, Montenegro
CATEGORIES:Seminari
END:VEVENT
END:VCALENDAR