BEGIN:VCALENDAR
VERSION:2.0
PRODID:-//COSDT - ECPv6.15.17.1//NONSGML v1.0//EN
CALSCALE:GREGORIAN
METHOD:PUBLISH
X-ORIGINAL-URL:https://cosdt.me
X-WR-CALDESC:Events for COSDT
REFRESH-INTERVAL;VALUE=DURATION:PT1H
X-Robots-Tag:noindex
X-PUBLISHED-TTL:PT1H
BEGIN:VTIMEZONE
TZID:Europe/Podgorica
BEGIN:DAYLIGHT
TZOFFSETFROM:+0100
TZOFFSETTO:+0200
TZNAME:CEST
DTSTART:20250330T010000
END:DAYLIGHT
BEGIN:STANDARD
TZOFFSETFROM:+0200
TZOFFSETTO:+0100
TZNAME:CET
DTSTART:20251026T010000
END:STANDARD
BEGIN:DAYLIGHT
TZOFFSETFROM:+0100
TZOFFSETTO:+0200
TZNAME:CEST
DTSTART:20260329T010000
END:DAYLIGHT
BEGIN:STANDARD
TZOFFSETFROM:+0200
TZOFFSETTO:+0100
TZNAME:CET
DTSTART:20261025T010000
END:STANDARD
BEGIN:DAYLIGHT
TZOFFSETFROM:+0100
TZOFFSETTO:+0200
TZNAME:CEST
DTSTART:20270328T010000
END:DAYLIGHT
BEGIN:STANDARD
TZOFFSETFROM:+0200
TZOFFSETTO:+0100
TZNAME:CET
DTSTART:20271031T010000
END:STANDARD
END:VTIMEZONE
BEGIN:VEVENT
DTSTART;TZID=Europe/Podgorica:20260701T090000
DTEND;TZID=Europe/Podgorica:20260701T170000
DTSTAMP:20260425T124702
CREATED:20260317T193111Z
LAST-MODIFIED:20260317T211008Z
UID:12643-1782896400-1782925200@cosdt.me
SUMMARY:Sudska organizacija EU i uloga domaćih sudova
DESCRIPTION:Sudska organizacija EU. Sud pravde EU i uloga domaćih sudova\n\nPredavač:Prof. dr Miloš Vukčević
URL:https://cosdt.me/seminar/modul-ii-iz-kurikuluma-za-pravo-eu/
END:VEVENT
BEGIN:VEVENT
DTSTART;VALUE=DATE:20260702
DTEND;VALUE=DATE:20260704
DTSTAMP:20260425T124702
CREATED:20260315T123006Z
LAST-MODIFIED:20260317T191421Z
UID:12092-1782950400-1783123199@cosdt.me
SUMMARY:Sajber kriminal
DESCRIPTION:digitalna forenzika\nelektronski dokazi\nkriptovalute\nIT u finansijskim istragama\nupotreba IKT u vršenju krivičnih djela\n\nVrijeme potrebno za izvođenje programa:\nJedna dvodnevna obuka \nKorisnici:\nSudije\, državni tužioci\, predstavnici FOJ-a\, IT stručnjaci\, vještaci iz oblasti\n   digitalne i finansijske forenzike \nPredavači:\nVesna Pean\, sutkinja Apelacionog suda Crne Gore\n   Armin Selmanović\, državni tužilac u Vrhovnom državnom tužilaštvu;\n   Bojan Nedović\, Stručna služba za informacione sisteme i digitalne dokaze SDT\n   Jakša Backović\, magistar kompjuterskog kriminala i digitalne forenzike\, Uprava\n   policije CG
URL:https://cosdt.me/seminar/sajber-kriminal/
LOCATION:Podgorica\, Montenegro
GEO:42.4304196;19.2593642
END:VEVENT
BEGIN:VEVENT
DTSTART;TZID=Europe/Podgorica:20260702T090000
DTEND;TZID=Europe/Podgorica:20260702T170000
DTSTAMP:20260425T124702
CREATED:20260317T193111Z
LAST-MODIFIED:20260317T211008Z
UID:12644-1782982800-1783011600@cosdt.me
SUMMARY:Saradnja domaćih sudova i Suda pravde EU
DESCRIPTION:Saradnja između domaćih sudova i suda pravde EU i osvrt na odluku o preliminarnom pitanju\n\nPredavač:Prof. dr Miloš Vukčević
URL:https://cosdt.me/seminar/modul-iii-iz-kurikuluma-za-pravo-eu/
END:VEVENT
BEGIN:VEVENT
DTSTART;TZID=Europe/Podgorica:20260703T090000
DTEND;TZID=Europe/Podgorica:20260703T170000
DTSTAMP:20260425T124702
CREATED:20260317T193111Z
LAST-MODIFIED:20260317T211008Z
UID:12645-1783069200-1783098000@cosdt.me
SUMMARY:Saradnja u krivičnom postupku u Evropskoj uniji
DESCRIPTION:SARADNJA U KRIVIČNOM POSTUPKU U EVROPSKOJ UNIJI\n\nPredavač:Ana Radović
URL:https://cosdt.me/seminar/vi-modul-iz-kurikuluma-za-pravo-eu/
END:VEVENT
BEGIN:VEVENT
DTSTART;VALUE=DATE:20260706
DTEND;VALUE=DATE:20260707
DTSTAMP:20260425T124702
CREATED:20260315T123007Z
LAST-MODIFIED:20260317T191436Z
UID:12110-1783296000-1783382399@cosdt.me
SUMMARY:Zakon o postupanju prema maloljetnicima u krivičnom postupku
DESCRIPTION:izmjene i dopune\nprimjena Uputstva VDT-a za postupanje državnih tužilaštava u krivičnim\n\npostupcima u kojima je učesnik dijete oštećeno krivičnim djelom ili u kojem se dijete\nsaslušava kao svjedok \nVrijeme potrebno za izvođenje programa:\nJedna jednodnevna obuka \nKorisnici:\nSudije i državni tužioci\, predstavnici Uprave policije\, stručne službe \nPredavači:\nGoran Đuković\, sudija\, Osnovni sud u Podgorici\nAna Kalezić\, državna tužiteljka\, Više državno tužilaštvo u Podgorici
URL:https://cosdt.me/seminar/zakon-o-postupanju-prema-maloljetnicima-u-krivicnom-postupku-2/
LOCATION:Podgorica\, Montenegro
GEO:42.4304196;19.2593642
END:VEVENT
BEGIN:VEVENT
DTSTART;TZID=Europe/Podgorica:20260706T090000
DTEND;TZID=Europe/Podgorica:20260706T170000
DTSTAMP:20260425T124702
CREATED:20260317T193111Z
LAST-MODIFIED:20260317T211008Z
UID:12646-1783328400-1783357200@cosdt.me
SUMMARY:Pravo na efikasan pravni lijek i mirno uživanje imovine
DESCRIPTION:Pravo na efikasan i djelotvoran pravni lijek; Pravo na mirno uživanje imovine\n\nPredavač:Desanka Lopičić
URL:https://cosdt.me/seminar/modul-ekljp-i-praksa-esljp-4/
END:VEVENT
BEGIN:VEVENT
DTSTART;TZID=Europe/Podgorica:20260707T090000
DTEND;TZID=Europe/Podgorica:20260707T170000
DTSTAMP:20260425T124702
CREATED:20260317T193111Z
LAST-MODIFIED:20260317T211008Z
UID:12647-1783414800-1783443600@cosdt.me
SUMMARY:Etički kodeks sudija
DESCRIPTION:Predavač:Branka Lakočević
URL:https://cosdt.me/seminar/modul-vladavina-prava-2/
END:VEVENT
BEGIN:VEVENT
DTSTART;VALUE=DATE:20260708
DTEND;VALUE=DATE:20260710
DTSTAMP:20260425T124702
CREATED:20260315T123008Z
LAST-MODIFIED:20260317T191449Z
UID:12128-1783468800-1783641599@cosdt.me
SUMMARY:Prekršajno pravo - teme:
DESCRIPTION:– Izmjene i dopune Zakona o prekršajima u kontekstu izmjena Zakona o\ninspekcijskom nadzoru\n– Sporna pitanja u primjeni Zakona o prekršajima\, ujednačavanje sudske\nprakse i razgraničenje sa Zakonikom o krivičnom postupku CG\n– Zaštitne mjere u prekršajnom postupku\, skraćeni postupak\n– Nasilje u porodici i rodno zasnovano nasilje\n– Maloljetnici u prekršajnom postupku \nVrijeme potrebno za izvođenje programa:\nJedna dvodnevna konferencija i jedan jednodnevni okrugli sto \nKorisnici:\nSudije za prekršaje \nPredavači:\nLarisa Begović\, predsjednica Višeg suda za prekršaje\nMaja Živaljević\, sutkinja Višeg suda za prekršaje\nAlija Beganović\, sudija Suda za prekršaje u Bijelom Polju\nMarko Đukanović\, predsjednika Suda za prekršaje u Budvi\nKrunoslav Obradović\, sudija Višeg suda za prekršaje\nSlađana Španjević Volkov\, državna tužiteljka\, Više državno tužilaštvo u Podgorici\nMirsad Mujević\, predsjednik Osnovnog suda u Rožajama\nMilorad Popović\, sudija Višeg suda za prekršaje u penziji
URL:https://cosdt.me/seminar/prekrsajno-pravo-teme-3/
LOCATION:Podgorica\, Montenegro
GEO:42.4304196;19.2593642
END:VEVENT
BEGIN:VEVENT
DTSTART;TZID=Europe/Podgorica:20260708T090000
DTEND;TZID=Europe/Podgorica:20260708T170000
DTSTAMP:20260425T124702
CREATED:20260317T193111Z
LAST-MODIFIED:20260317T211008Z
UID:12648-1783501200-1783530000@cosdt.me
SUMMARY:IKT vještine
DESCRIPTION:Predavač:Miloš Žižić
URL:https://cosdt.me/seminar/modul-sudijske-vjestine/
END:VEVENT
BEGIN:VEVENT
DTSTART;TZID=Europe/Podgorica:20260709T090000
DTEND;TZID=Europe/Podgorica:20260709T170000
DTSTAMP:20260425T124702
CREATED:20260317T211008Z
LAST-MODIFIED:20260317T211008Z
UID:12976-1783587600-1783616400@cosdt.me
SUMMARY:Vještine komunikacije
DESCRIPTION:Predavač:Dragana Labović Vukić
URL:https://cosdt.me/seminar/vjestine-komunikacije/
END:VEVENT
BEGIN:VEVENT
DTSTART;TZID=Europe/Podgorica:20260710T090000
DTEND;TZID=Europe/Podgorica:20260710T170000
DTSTAMP:20260425T124702
CREATED:20260317T211008Z
LAST-MODIFIED:20260317T211008Z
UID:12977-1783674000-1783702800@cosdt.me
SUMMARY:Sudska psihologija
DESCRIPTION:Predavač:Radoje Cerović
URL:https://cosdt.me/seminar/sudska-psihologija/
END:VEVENT
BEGIN:VEVENT
DTSTART;TZID=Europe/Podgorica:20260715T090000
DTEND;TZID=Europe/Podgorica:20260715T170000
DTSTAMP:20260425T124702
CREATED:20260317T193123Z
LAST-MODIFIED:20260317T211008Z
UID:12653-1784106000-1784134800@cosdt.me
SUMMARY:Sloboda misli\, savjesti\, vjeroispovijesti i udruživanja
DESCRIPTION:Sloboda misli\, savjesti i vjeroispovijesti; Sloboda udruživanja i okupljanja\n\nPredavač:Valentina Pavličić
URL:https://cosdt.me/seminar/modul-ekljp-i-praksa-esljp-5/
END:VEVENT
BEGIN:VEVENT
DTSTART;TZID=Europe/Podgorica:20260716T090000
DTEND;TZID=Europe/Podgorica:20260716T170000
DTSTAMP:20260425T124702
CREATED:20260317T193123Z
LAST-MODIFIED:20260317T211008Z
UID:12654-1784192400-1784221200@cosdt.me
SUMMARY:Prava žena i rodna ravnopravnost
DESCRIPTION:Prava žena i rodna ravnopravnost\, sa posebnim osvrtom na CEDAW Konvenciju.\n\nPredavač:Marijana Laković
URL:https://cosdt.me/seminar/modul-vladavina-prava-3/
END:VEVENT
BEGIN:VEVENT
DTSTART;VALUE=DATE:20260717
DTEND;VALUE=DATE:20260718
DTSTAMP:20260425T124702
CREATED:20260315T123007Z
LAST-MODIFIED:20260317T191436Z
UID:12113-1784246400-1784332799@cosdt.me
SUMMARY:Forenzička vještačenja u krivičnom postupku
DESCRIPTION:DNK vještačenja\nBalističko vještačenje\nToksikološko vještačenje\nKontaminacija dokaza i zakonito postupanje\n\nVrijeme potrebno za izvođenje programa:\nJedna jednodnevna obuka \nKorisnici:\nSudije i državni tužioci \nPredavači:\nZorica Milanović\, sutkinja Apelacionog suda Crne Gore\nMiroslav Turković\, državni tužilac\, Specijalno državno tužilaštvo
URL:https://cosdt.me/seminar/forenzicka-vjestacenja-u-krivicnom-postupku/
LOCATION:Podgorica\, Montenegro
GEO:42.4304196;19.2593642
END:VEVENT
BEGIN:VEVENT
DTSTART;TZID=Europe/Podgorica:20260717T090000
DTEND;TZID=Europe/Podgorica:20260717T170000
DTSTAMP:20260425T124702
CREATED:20260317T193123Z
LAST-MODIFIED:20260317T211008Z
UID:12655-1784278800-1784307600@cosdt.me
SUMMARY:Pravo na privatni i porodični život i sloboda izražavanja
DESCRIPTION:Pravo na poštovanje privatnog i porodičnog života\nSloboda izražavanja\n\nPredavač:Miloš Šoškić
URL:https://cosdt.me/seminar/modul-ekljp-i-praksa-esljp-6/
END:VEVENT
BEGIN:VEVENT
DTSTART;TZID=Europe/Podgorica:20260720T090000
DTEND;TZID=Europe/Podgorica:20260720T170000
DTSTAMP:20260425T124702
CREATED:20260317T193123Z
LAST-MODIFIED:20260317T211008Z
UID:12656-1784538000-1784566800@cosdt.me
SUMMARY:Pravo na život\, zabrana torture i sloboda ličnosti
DESCRIPTION:Obim prava na život; Koncept zaštite od torture; Sloboda i sigurnost ličnosti\n\nPredavač:Katarina Peković
URL:https://cosdt.me/seminar/modul-ekljp-i-praksa-esljp-7/
END:VEVENT
BEGIN:VEVENT
DTSTART;TZID=Europe/Podgorica:20260721T090000
DTEND;TZID=Europe/Podgorica:20260721T170000
DTSTAMP:20260425T124702
CREATED:20260317T211008Z
LAST-MODIFIED:20260317T211008Z
UID:12982-1784624400-1784653200@cosdt.me
SUMMARY:Zabrana diskriminacije
DESCRIPTION:Predavač:Siniša Bjeković
URL:https://cosdt.me/seminar/zabrana-diskriminacije/
END:VEVENT
BEGIN:VEVENT
DTSTART;TZID=Europe/Podgorica:20260907T090000
DTEND;TZID=Europe/Podgorica:20260907T170000
DTSTAMP:20260425T124702
CREATED:20260317T193134Z
LAST-MODIFIED:20260317T211009Z
UID:12665-1788771600-1788800400@cosdt.me
SUMMARY:Program pripravnika: Materijalno krivično pravo
DESCRIPTION:I KRIVIČNOPRAVNA OBLAST \n\n	Važenje krivičnog zakonodavstva Crne Gore\n	Elemente bića krivičnog djela\n	Pokušaj krivičnog djela\, dobrovoljni odustanak i nepodoban pokušaj\n	Saučesništvo\n	Izbor i odmjeravanje krivične sankcije\n	Sticaj krivičnih djela\n	Mjere upozorenja\n	Mjere bezbjednosti\n	Rehabilitaciju\, prestanak pravnih posljedica osude i davanje podataka iz kaznene evidencije\n	Zastarjelost i\n	Amnestiju i pomilovanje\n\nPredavači:Suzana Mugoša\, sutkinja Višeg suda u PodgoriciVeljko Rutović\, državni tužilac u Vrhovnom državnom tužilaštvu Crne Gore
URL:https://cosdt.me/seminar/program-pripravnika-materijalno-krivicno-pravo-2/
END:VEVENT
BEGIN:VEVENT
DTSTART;TZID=Europe/Podgorica:20260908T090000
DTEND;TZID=Europe/Podgorica:20260908T170000
DTSTAMP:20260425T124702
CREATED:20260317T211009Z
LAST-MODIFIED:20260317T211009Z
UID:13024-1788858000-1788886800@cosdt.me
SUMMARY:Program pripravnika: Materijalno krivično pravo
DESCRIPTION:I KRIVIČNOPRAVNA OBLAST \n\n	Važenje krivičnog zakonodavstva Crne Gore\n	Elemente bića krivičnog djela\n	Pokušaj krivičnog djela\, dobrovoljni odustanak i nepodoban pokušaj\n	Saučesništvo\n	Izbor i odmjeravanje krivične sankcije\n	Sticaj krivičnih djela\n	Mjere upozorenja\n	Mjere bezbjednosti\n	Rehabilitaciju\, prestanak pravnih posljedica osude i davanje podataka iz kaznene evidencije\n	Zastarjelost i\n	Amnestiju i pomilovanje\n\nPredavači:Suzana Mugoša\, sutkinja Višeg suda u PodgoriciVeljko Rutović\, državni tužilac u Vrhovnom državnom tužilaštvu Crne Gore
URL:https://cosdt.me/seminar/program-pripravnika-materijalno-krivicno-pravo-7/
END:VEVENT
BEGIN:VEVENT
DTSTART;TZID=Europe/Podgorica:20260909T090000
DTEND;TZID=Europe/Podgorica:20260909T170000
DTSTAMP:20260425T124702
CREATED:20260317T211009Z
LAST-MODIFIED:20260317T211009Z
UID:13025-1788944400-1788973200@cosdt.me
SUMMARY:Program pripravnika: Materijalno krivično pravo
DESCRIPTION:I KRIVIČNOPRAVNA OBLAST \n\n	Važenje krivičnog zakonodavstva Crne Gore\n	Elemente bića krivičnog djela\n	Pokušaj krivičnog djela\, dobrovoljni odustanak i nepodoban pokušaj\n	Saučesništvo\n	Izbor i odmjeravanje krivične sankcije\n	Sticaj krivičnih djela\n	Mjere upozorenja\n	Mjere bezbjednosti\n	Rehabilitaciju\, prestanak pravnih posljedica osude i davanje podataka iz kaznene evidencije\n	Zastarjelost i\n	Amnestiju i pomilovanje\n\nPredavači:Suzana Mugoša\, sutkinja Višeg suda u PodgoriciVeljko Rutović\, državni tužilac u Vrhovnom državnom tužilaštvu Crne Gore
URL:https://cosdt.me/seminar/program-pripravnika-materijalno-krivicno-pravo-8/
END:VEVENT
BEGIN:VEVENT
DTSTART;TZID=Europe/Podgorica:20260910T090000
DTEND;TZID=Europe/Podgorica:20260910T170000
DTSTAMP:20260425T124702
CREATED:20260317T211009Z
LAST-MODIFIED:20260317T211009Z
UID:13026-1789030800-1789059600@cosdt.me
SUMMARY:Program pripravnika: Materijalno krivično pravo
DESCRIPTION:I KRIVIČNOPRAVNA OBLAST \n\n	Važenje krivičnog zakonodavstva Crne Gore\n	Elemente bića krivičnog djela\n	Pokušaj krivičnog djela\, dobrovoljni odustanak i nepodoban pokušaj\n	Saučesništvo\n	Izbor i odmjeravanje krivične sankcije\n	Sticaj krivičnih djela\n	Mjere upozorenja\n	Mjere bezbjednosti\n	Rehabilitaciju\, prestanak pravnih posljedica osude i davanje podataka iz kaznene evidencije\n	Zastarjelost i\n	Amnestiju i pomilovanje\n\nPredavači:Suzana Mugoša\, sutkinja Višeg suda u PodgoriciVeljko Rutović\, državni tužilac u Vrhovnom državnom tužilaštvu Crne Gore
URL:https://cosdt.me/seminar/program-pripravnika-materijalno-krivicno-pravo-9/
END:VEVENT
BEGIN:VEVENT
DTSTART;TZID=Europe/Podgorica:20260911T090000
DTEND;TZID=Europe/Podgorica:20260911T170000
DTSTAMP:20260425T124702
CREATED:20260317T211009Z
LAST-MODIFIED:20260317T211009Z
UID:13027-1789117200-1789146000@cosdt.me
SUMMARY:Program pripravnika: Materijalno krivično pravo
DESCRIPTION:I KRIVIČNOPRAVNA OBLAST \n\n	Važenje krivičnog zakonodavstva Crne Gore\n	Elemente bića krivičnog djela\n	Pokušaj krivičnog djela\, dobrovoljni odustanak i nepodoban pokušaj\n	Saučesništvo\n	Izbor i odmjeravanje krivične sankcije\n	Sticaj krivičnih djela\n	Mjere upozorenja\n	Mjere bezbjednosti\n	Rehabilitaciju\, prestanak pravnih posljedica osude i davanje podataka iz kaznene evidencije\n	Zastarjelost i\n	Amnestiju i pomilovanje\n\nPredavači:Suzana Mugoša\, sutkinja Višeg suda u PodgoriciVeljko Rutović\, državni tužilac u Vrhovnom državnom tužilaštvu Crne Gore
URL:https://cosdt.me/seminar/program-pripravnika-materijalno-krivicno-pravo-10/
END:VEVENT
BEGIN:VEVENT
DTSTART;VALUE=DATE:20260914
DTEND;VALUE=DATE:20260916
DTSTAMP:20260425T124702
CREATED:20260315T123008Z
LAST-MODIFIED:20260317T191449Z
UID:12125-1789344000-1789516799@cosdt.me
SUMMARY:Stečaj
DESCRIPTION:stečajni postupak (sa posebnim akcentom na ulogu stečajnog upravnika)\npokretanje stečajnog postupka\nunaprjeđenje efikasnosti stečajnog postupka i izvršenje presuda ESLJP\nmeđunarodni stečaj\n\nVrijeme potrebno za izvođenje programa:\nJedna dvodnevna obuka \nKorisnici:\nSudije i stečajni upravnici \nPredavači:\nMarijana Pavićević\, sutkinja Vrhovnog suda Crne Gore\nDanijela Vukčević\, sutkinja Apelacionog suda CG\nSrđan Vujović\, sudija Apelacionog suda CG\nMladen Grdinić\, predsjednik Privrednog suda CG\ndr Vladimir Savković\, dekan Pravnog fakulteta Univerziteta CG
URL:https://cosdt.me/seminar/stecaj-5/
LOCATION:Podgorica\, Montenegro
GEO:42.4304196;19.2593642
END:VEVENT
BEGIN:VEVENT
DTSTART;TZID=Europe/Podgorica:20260914T090000
DTEND;TZID=Europe/Podgorica:20260914T170000
DTSTAMP:20260425T124702
CREATED:20260317T193123Z
LAST-MODIFIED:20260317T211009Z
UID:12658-1789376400-1789405200@cosdt.me
SUMMARY:Program pripravnika: Krivičnoprocesno pravo - Opšti dio 1
DESCRIPTION:I KRIVIČNOPRAVNA OBLAST \n\n	Načela krivičnog postupka\n	Stvarnu mjesnu i funkcionalnu nadležnost sudova\n	Spajanje i razdvajanje postupka\n	Rješavanje sukoba nadležnosti\n	Prenošenje nadležnosti\n	Izuzeće\n	Vrste ovlašćenih tužilaca i\n	Pravo na odbranu\n\nPredavač:Milenka Seka Žižić\, sutkinja Vrhovnog suda Crne Gore
URL:https://cosdt.me/seminar/program-pripravnika-krivicnoprocesno-pravo-opsti-dio-1/
END:VEVENT
BEGIN:VEVENT
DTSTART;TZID=Europe/Podgorica:20260915T090000
DTEND;TZID=Europe/Podgorica:20260915T170000
DTSTAMP:20260425T124702
CREATED:20260317T211009Z
LAST-MODIFIED:20260317T211009Z
UID:13029-1789462800-1789491600@cosdt.me
SUMMARY:Program pripravnika: Krivičnoprocesno pravo - Opšti dio 1
DESCRIPTION:I KRIVIČNOPRAVNA OBLAST \n\n	Načela krivičnog postupka\n	Stvarnu mjesnu i funkcionalnu nadležnost sudova\n	Spajanje i razdvajanje postupka\n	Rješavanje sukoba nadležnosti\n	Prenošenje nadležnosti\n	Izuzeće\n	Vrste ovlašćenih tužilaca i\n	Pravo na odbranu\n\nPredavač:Milenka Seka Žižić\, sutkinja Vrhovnog suda Crne Gore
URL:https://cosdt.me/seminar/program-pripravnika-krivicnoprocesno-pravo-opsti-dio-1-2/
END:VEVENT
BEGIN:VEVENT
DTSTART;TZID=Europe/Podgorica:20260916T090000
DTEND;TZID=Europe/Podgorica:20260916T170000
DTSTAMP:20260425T124702
CREATED:20260317T193134Z
LAST-MODIFIED:20260317T211009Z
UID:12661-1789549200-1789578000@cosdt.me
SUMMARY:Program pripravnika: Izviđaj i istraga
DESCRIPTION:I KRIVIČNOPRAVNA OBLAST \n\n	Krivična prijava\n	Radnje policije u izviđaju i uloga državnog tužioca\n	Primjena načela oportuniteta i\n	Pokretanje\, tok i završetak istrage\n\nPredavači:Veljko Rutović\, državni tužilac u Vrhovnom državnom tužilaštvu Crne GoreIgor Đuričković\, sudija Višeg suda u Podgorici
URL:https://cosdt.me/seminar/program-pripravnika-izvidaj-i-istraga/
END:VEVENT
BEGIN:VEVENT
DTSTART;VALUE=DATE:20260917
DTEND;VALUE=DATE:20260919
DTSTAMP:20260425T124702
CREATED:20260315T123007Z
LAST-MODIFIED:20260317T191421Z
UID:12100-1789603200-1789775999@cosdt.me
SUMMARY:Zaštita prava žrtava
DESCRIPTION:postupanje prema osjetljivim kategorijama\n\nmaloljetnici\ndjeca\nžene\nmigranti\nlica sa invaliditetom\nLGBTIQ\n\n\nbesplatna pravna pomoć\nprimjena Smjernica o naknadi štete žrtvama u krivičnom postupku\n\nVrijeme potrebno za izvođenje programa:\nNajmanje jedna dvodnevna obuka \nKorisnici:\nSudije i državni tužioci\, službe za podršku žrtvama\, Centar za socijalni rad\, predstavnici\nMinistarstva zdravlja \nPredavači:\nŽeljka Jovović\, predsjednica Osnovnog suda u Podgorici\nTanja Čolan Deretić\, državna tužiteljka u Specijalnom državnom tužilaštvu\nDijana Popović Gavranović\, načelnica Stručne službe za postupanje prema\nmaloljetnicima\, Vrhovo državno tužilaštvo Crne Gore \nMilenka Seka Žižić\, sutkinja Vrhovnog suda CG
URL:https://cosdt.me/seminar/zastita-prava-zrtava/
LOCATION:Podgorica\, Montenegro
GEO:42.4304196;19.2593642
END:VEVENT
BEGIN:VEVENT
DTSTART;TZID=Europe/Podgorica:20260917T090000
DTEND;TZID=Europe/Podgorica:20260917T170000
DTSTAMP:20260425T124702
CREATED:20260317T193208Z
LAST-MODIFIED:20260317T211009Z
UID:12690-1789635600-1789664400@cosdt.me
SUMMARY:Program pripravnika: Pravo privrednih društava
DESCRIPTION:IV PRIVREDNOPRAVNA OBLAST \n\n	Preduzetnik (pojam i osnovne karakteristike\, osnivanje\, organizacija\, prestanak)\n	Društvo sa ograničenom odgovornošću (pojam i osnovne karakteristike\, osnivanje\, organizacija\, prestanak)\n	Akcionarsko društvo (pojam i osnovne karakteristike\, osnivanje\, organizacija\, prestanak)\n	Ortačko društvo (pojam i osnovne karakteristike\, osnivanje\, organizacija\, prestanak)\n	Komanditno društvo (pojam i osnovne karakteristike\, osnivanje\, organizacija\, prestanak) i\n	Dio stranog pravnog društva (pojam i osnovne karakteristike\, osnivanje\, organizacija\, prestanak)\n\nPredavači:Katarina Đurđić\, sutkinja Vrhovnog suda Crne GoreDijana Raičković\, sutkinja Apelacionog suda Crne Gore u penziji
URL:https://cosdt.me/seminar/program-pripravnika-pravo-privrednih-drustava-2/
END:VEVENT
BEGIN:VEVENT
DTSTART;TZID=Europe/Podgorica:20260918T090000
DTEND;TZID=Europe/Podgorica:20260918T170000
DTSTAMP:20260425T124702
CREATED:20260317T193220Z
LAST-MODIFIED:20260317T211009Z
UID:12694-1789722000-1789750800@cosdt.me
SUMMARY:Program pripravnika: Stečaj
DESCRIPTION:IV PRIVREDNOPRAVNA OBLAST \n\n	Načela stečajnog postupka\n	Stečajni postupak\n	Pokretanje stečajnog postupka\n	Stečajnu masu i\n	Odluke\n\nPredavači:Ivan Kovačević sudija Privrednog suda Crne GoreRadojica Grba\, stečajni upravnik
URL:https://cosdt.me/seminar/program-pripravnika-stecaj-3/
END:VEVENT
BEGIN:VEVENT
DTSTART;VALUE=DATE:20260922
DTEND;VALUE=DATE:20260923
DTSTAMP:20260425T124702
CREATED:20260315T123009Z
LAST-MODIFIED:20260317T191500Z
UID:12141-1790035200-1790121599@cosdt.me
SUMMARY:Zaštita životne sredine
DESCRIPTION:nacionalni i međunarodni normativni okvir\nprimjena arhuske konvencije\npraksa ESLJP i Suda pravde EU\ngrađanska odgovornost za naknadu štete\n\nVrijeme potrebno za izvođenje programa:\nJedna jednodnevna obuka \nKorisnici:\nSudije \nPredavači:\ndr Maja Kostić Mandić\, redovna profesorica Pravnog fakulteta Univerziteta Crne Gore\nTamara Brnović\, sutkinja Višeg suda u Podgorici\nMarko Mugoša\, državni tužilac\, Osnovno državno tužilaštvo u Podgorici
URL:https://cosdt.me/seminar/zastita-zivotne-sredine/
LOCATION:Podgorica\, Montenegro
GEO:42.4304196;19.2593642
END:VEVENT
END:VCALENDAR