BEGIN:VCALENDAR
VERSION:2.0
PRODID:-//COSDT - ECPv6.15.17.1//NONSGML v1.0//EN
CALSCALE:GREGORIAN
METHOD:PUBLISH
X-WR-CALNAME:COSDT
X-ORIGINAL-URL:https://cosdt.me
X-WR-CALDESC:Events for COSDT
REFRESH-INTERVAL;VALUE=DURATION:PT1H
X-Robots-Tag:noindex
X-PUBLISHED-TTL:PT1H
BEGIN:VTIMEZONE
TZID:Europe/Podgorica
BEGIN:DAYLIGHT
TZOFFSETFROM:+0100
TZOFFSETTO:+0200
TZNAME:CEST
DTSTART:20250330T010000
END:DAYLIGHT
BEGIN:STANDARD
TZOFFSETFROM:+0200
TZOFFSETTO:+0100
TZNAME:CET
DTSTART:20251026T010000
END:STANDARD
BEGIN:DAYLIGHT
TZOFFSETFROM:+0100
TZOFFSETTO:+0200
TZNAME:CEST
DTSTART:20260329T010000
END:DAYLIGHT
BEGIN:STANDARD
TZOFFSETFROM:+0200
TZOFFSETTO:+0100
TZNAME:CET
DTSTART:20261025T010000
END:STANDARD
BEGIN:DAYLIGHT
TZOFFSETFROM:+0100
TZOFFSETTO:+0200
TZNAME:CEST
DTSTART:20270328T010000
END:DAYLIGHT
BEGIN:STANDARD
TZOFFSETFROM:+0200
TZOFFSETTO:+0100
TZNAME:CET
DTSTART:20271031T010000
END:STANDARD
END:VTIMEZONE
BEGIN:VEVENT
DTSTART;TZID=Europe/Podgorica:20260616T090000
DTEND;TZID=Europe/Podgorica:20260616T170000
DTSTAMP:20260425T173120
CREATED:20260317T193232Z
LAST-MODIFIED:20260317T211009Z
UID:12708-1781600400-1781629200@cosdt.me
SUMMARY:Program pripravnika: Pravni sistem i institucije EU
DESCRIPTION:V UPRAVNOPRAVNA OBLAST \n\n	Osnivačke ugovore\n	Organizaciju pravnog sistema EU\n	Institucionalni sistem EU i\n	Položaj Crne Gore u procesu pridruživanja EU\n\nPredavači:Katarina Peković\, bivša zastupnica Crne Gore pred ESLJPProf dr Miloš Vukčević\, advokat
URL:https://cosdt.me/seminar/program-pripravnika-pravni-sistem-i-institucije-eu/
END:VEVENT
BEGIN:VEVENT
DTSTART;VALUE=DATE:20260618
DTEND;VALUE=DATE:20260620
DTSTAMP:20260425T173120
CREATED:20260315T123008Z
LAST-MODIFIED:20260317T191449Z
UID:12126-1781740800-1781913599@cosdt.me
SUMMARY:UPRAVNO PRAVNA OBLAST - TEME:
DESCRIPTION:– Zakon o upravnom sporu\n– Sporovi u vezi sa poreskim\, carinskim i postupcima javnih nabavki\n– Zakon o izgradnji objekata i planiranja prostora\n– Zakon o strancima\n– državljanstvo\n– zaštita tajnih podataka i zakon o ANB\n– Azil\n– Zakon o slobodnom pristupu informacijama \nVrijeme potrebno za izvođenje programa:\nDva dvodnevna okrugla stola/obuke \nKorisnici:\nSudije i savjetnici \nPredavači:\nLjiljana Šoškić\, sutkinja Vrhovnog suda CG\nSnežana Vukčević\, sutkinja Vrhovnog suda CG\nMedina Mušović\, sutkinja Upravnog suda CG\nSrđan Klikovac\, predsjednik Osnovnog suda u Kotoru\nJelena Ružičić\, sutkinja Vrhovnog suda CG\nMiraš Radović\, sudija Vrhovnog suda CG u penziji\ni eksperti za pojedine oblasti (npr. poresko pravo i zaštitu podataka o ličnosti)
URL:https://cosdt.me/seminar/upravno-pravna-oblast-teme-3/
LOCATION:Podgorica\, Montenegro
GEO:42.4304196;19.2593642
END:VEVENT
BEGIN:VEVENT
DTSTART;TZID=Europe/Podgorica:20260618T090000
DTEND;TZID=Europe/Podgorica:20260618T170000
DTSTAMP:20260425T173120
CREATED:20260317T193100Z
LAST-MODIFIED:20260317T211008Z
UID:12634-1781773200-1781802000@cosdt.me
SUMMARY:Krivična djela protiv bezbjednosti računarskih podataka i elektronski dokazi
DESCRIPTION:Krivična djela protiv bezbjednosti računarskih podataka\nElektronski dokazi\n\nPredavač:Valentina Pavličić
URL:https://cosdt.me/seminar/xiv-modul-krivicna-oblast/
END:VEVENT
BEGIN:VEVENT
DTSTART;TZID=Europe/Podgorica:20260618T090000
DTEND;TZID=Europe/Podgorica:20260618T170000
DTSTAMP:20260425T173120
CREATED:20260317T193134Z
LAST-MODIFIED:20260317T211009Z
UID:12660-1781773200-1781802000@cosdt.me
SUMMARY:Program pripravnika: Radnje dokazivanja
DESCRIPTION:I KRIVIČNOPRAVNA OBLAST \n\n	Prepoznavanje lica i stvari\n	Pretresanje stana\, stvari i lica\n	Privremeno oduzimanje predmeta i imovinske koristi\n	Saslušanje osumljičenog\, odnosno okrivljenog\n	Svjedočenje\n	Uviđaj rekonstrukcije\n	Vještačenje\n	Fotografije i audio vizuelni snimci i\n	Mjere tajnog nadzora\n\nPredavači:Sanja Jovićević\, Specijalna tužiteljka u Specijalnom državnom tužilaštvuZorica Milanović\, sutkinja Apelacionog suda Crne Gore
URL:https://cosdt.me/seminar/program-pripravnika-radnje-dokazivanja/
END:VEVENT
BEGIN:VEVENT
DTSTART;TZID=Europe/Podgorica:20260619T090000
DTEND;TZID=Europe/Podgorica:20260619T170000
DTSTAMP:20260425T173120
CREATED:20260317T193100Z
LAST-MODIFIED:20260317T211008Z
UID:12635-1781859600-1781888400@cosdt.me
SUMMARY:Finansijska istraga i oduzimanje imovinske koristi
DESCRIPTION:privremeno oduzimanje predmeta\, imovinske koristi i imovine\noduzimanje imovinske koristi\ntrajno oduzimanje imovine čije zakonito porijeklo nije dokazano\noštećeni i oduzimanje imovinske koristi\nfinansijska istraga\nimovinsko-pravni zahtjev\n\nPredavač:Miloš Šoškić
URL:https://cosdt.me/seminar/vii-modul-krivicna-oblast-2/
END:VEVENT
BEGIN:VEVENT
DTSTART;TZID=Europe/Podgorica:20260619T090000
DTEND;TZID=Europe/Podgorica:20260619T170000
DTSTAMP:20260425T173120
CREATED:20260317T211009Z
LAST-MODIFIED:20260317T211009Z
UID:13017-1781859600-1781888400@cosdt.me
SUMMARY:Program pripravnika: Radnje dokazivanja
DESCRIPTION:I KRIVIČNOPRAVNA OBLAST \n\n	Prepoznavanje lica i stvari\n	Pretresanje stana\, stvari i lica\n	Privremeno oduzimanje predmeta i imovinske koristi\n	Saslušanje osumljičenog\, odnosno okrivljenog\n	Svjedočenje\n	Uviđaj rekonstrukcije\n	Vještačenje\n	Fotografije i audio vizuelni snimci i\n	Mjere tajnog nadzora\n\nPredavači:Sanja Jovićević\, Specijalna tužiteljka u Specijalnom državnom tužilaštvuZorica Milanović\, sutkinja Apelacionog suda Crne Gore
URL:https://cosdt.me/seminar/program-pripravnika-radnje-dokazivanja-2/
END:VEVENT
BEGIN:VEVENT
DTSTART;TZID=Europe/Podgorica:20260622T090000
DTEND;TZID=Europe/Podgorica:20260622T170000
DTSTAMP:20260425T173120
CREATED:20260317T193100Z
LAST-MODIFIED:20260317T211008Z
UID:12636-1782118800-1782147600@cosdt.me
SUMMARY:Zaštita osnovnih prava u Evropi
DESCRIPTION:Predavač:Tatjana Ljujić
URL:https://cosdt.me/seminar/modul-iv-iz-kurikuluma-za-pravo-eu/
END:VEVENT
BEGIN:VEVENT
DTSTART;VALUE=DATE:20260623
DTEND;VALUE=DATE:20260627
DTSTAMP:20260425T173120
CREATED:20260315T123007Z
LAST-MODIFIED:20260317T191436Z
UID:12111-1782172800-1782518399@cosdt.me
SUMMARY:Specijalizovana obuka za sudije za maloljetnike i tužioce za maloljetnike
DESCRIPTION:Vrijeme potrebno za izvođenje programa:\nNajmanje jedna četvorodnevna obuka po posebnom programu \nKorisnici:\nSudije i državni tužioci \nPredavači:\nDanka Ivanović Đerić\, državna tužiteljka\, Više državno tužilaštvo u Podgorici\nPredrag Tabaš\, sudija Apelacionog suda Crne Gore \nDijana Popović Gavranović\, načelnica Stručne službe za postupanje prema\nmaloljetnicima\, Vrhovo državno tužilaštvo Crne Gore\nGoran Đuković\, sudija\, Osnovni sud u Podgorici\nAna Kalezić\, državna tužiteljka\, Više državno tužilaštvo u Podgorici
URL:https://cosdt.me/seminar/specijalizovana-obuka-za-sudije-za-maloljetnike-i-tuzioce-za-maloljetnike-2/
LOCATION:Podgorica\, Montenegro
GEO:42.4304196;19.2593642
END:VEVENT
BEGIN:VEVENT
DTSTART;TZID=Europe/Podgorica:20260623T090000
DTEND;TZID=Europe/Podgorica:20260623T170000
DTSTAMP:20260425T173120
CREATED:20260317T193100Z
LAST-MODIFIED:20260317T211008Z
UID:12637-1782205200-1782234000@cosdt.me
SUMMARY:Organizacija i funkcionisanje pravosudnog sistema
DESCRIPTION:Organizacija i funkcionisanja pravosudnog sistema\nMeđunarodni standardi i Ustav Crne Gore; Novi pristup u evropskim integracijama; Vladavina prava i evropske integracije (poglavlje 23 i 24)\nMeđunarodni standardi – organizacija i funkcionisanje sudova Nacionalni pravni okvir – organizacija i funkcionisanje sudova\nMišljenja CCJE\n\nPredavač:Prof. dr Mladen Vukčević
URL:https://cosdt.me/seminar/modul-koncept-prava-i-vladavina-prava/
END:VEVENT
BEGIN:VEVENT
DTSTART;TZID=Europe/Podgorica:20260623T090000
DTEND;TZID=Europe/Podgorica:20260623T170000
DTSTAMP:20260425T173120
CREATED:20260317T193208Z
LAST-MODIFIED:20260317T211009Z
UID:12685-1782205200-1782234000@cosdt.me
SUMMARY:Program pripravnika: Porodično i nasledno pravo
DESCRIPTION:II GRAĐANSKOPRAVNA OBLAST \n\n	Prava djeteta\n	Odnose roditelja i djece\n	Vršenje roditeljskog prava\n	Utvrđivanje roditeljstva i materinstva\n	Izdržavanje roditelja i drugih srodnika\n	Imovinske odnose bračnih drugova\n	Pravo stanovanja\n	Bračni ugovor\n	Vanbračnu zajednicu\n	Životno partnerstvo lica istog pola\n	Postupak u sporovima o očinstvu i materinstvu i u sporovima za izdržavanje\n	Krug zakonskih naslednika\, nužne nasljednike\n	Testament i\n	Tužbe iz nasledno pravnih odnosa\n\nPredavači:Nataša Božović\, sutkinja Vrhovnog suda Crne GoreVesna Begović\, sutkinja Vrhovnog suda Crne Gore u penzijiKatarina Janković\, sutkinja Osnovnog suda u Podgorici
URL:https://cosdt.me/seminar/program-pripravnika-porodicno-i-nasledno-pravo/
END:VEVENT
BEGIN:VEVENT
DTSTART;TZID=Europe/Podgorica:20260624T090000
DTEND;TZID=Europe/Podgorica:20260624T170000
DTSTAMP:20260425T173120
CREATED:20260317T193100Z
LAST-MODIFIED:20260317T211008Z
UID:12638-1782291600-1782320400@cosdt.me
SUMMARY:Nastanak Savjeta Evrope i struktura Evropske konvencije
DESCRIPTION:Nastanak Savjeta Evrope; Donošenje Evropske konvencije o ljudskim pravima; Struktura Konvencije: Materijalnopravne odredbe Konvencije i protokola (katalog prava i sloboda); Evropski sud za ljudska prava – dvije faze razvoja i osnovni principi rada\n\nPredavač:Jelena Ružičić
URL:https://cosdt.me/seminar/modul-ekljp-i-praksa-esljp/
END:VEVENT
BEGIN:VEVENT
DTSTART;TZID=Europe/Podgorica:20260624T090000
DTEND;TZID=Europe/Podgorica:20260624T170000
DTSTAMP:20260425T173120
CREATED:20260317T211009Z
LAST-MODIFIED:20260317T211009Z
UID:13019-1782291600-1782320400@cosdt.me
SUMMARY:Program pripravnika: Porodično i nasledno pravo
DESCRIPTION:II GRAĐANSKOPRAVNA OBLAST \n\n	Prava djeteta\n	Odnose roditelja i djece\n	Vršenje roditeljskog prava\n	Utvrđivanje roditeljstva i materinstva\n	Izdržavanje roditelja i drugih srodnika\n	Imovinske odnose bračnih drugova\n	Pravo stanovanja\n	Bračni ugovor\n	Vanbračnu zajednicu\n	Životno partnerstvo lica istog pola\n	Postupak u sporovima o očinstvu i materinstvu i u sporovima za izdržavanje\n	Krug zakonskih naslednika\, nužne nasljednike\n	Testament i\n	Tužbe iz nasledno pravnih odnosa\n\nPredavači:Nataša Božović\, sutkinja Vrhovnog suda Crne GoreVesna Begović\, sutkinja Vrhovnog suda Crne Gore u penzijiKatarina Janković\, sutkinja Osnovnog suda u Podgorici
URL:https://cosdt.me/seminar/program-pripravnika-porodicno-i-nasledno-pravo-3/
END:VEVENT
BEGIN:VEVENT
DTSTART;TZID=Europe/Podgorica:20260625T090000
DTEND;TZID=Europe/Podgorica:20260625T170000
DTSTAMP:20260425T173120
CREATED:20260317T211008Z
LAST-MODIFIED:20260317T211008Z
UID:12966-1782378000-1782406800@cosdt.me
SUMMARY:Opseg konvencijskog prava i dopuštenost predstavke ESLJP-u
DESCRIPTION:Opseg konvencijskog prava – čl.l Evropske konvencije o ljudskim pravima po pitanju ratione materiae\, ratione personae\, ratione territoriae i ratione temporis; Materijalnopravne i procesne pretpostavke dopuštenosti predstavke Sudu kao izvor prava; Derogacija u vanrednim okolnostima\n\nPredavač:Mirjana Popović
URL:https://cosdt.me/seminar/opseg-konvencijskog-prava-i-dopustenost-predstavke-esljp-u/
END:VEVENT
BEGIN:VEVENT
DTSTART;TZID=Europe/Podgorica:20260625T090000
DTEND;TZID=Europe/Podgorica:20260625T170000
DTSTAMP:20260425T173120
CREATED:20260317T211009Z
LAST-MODIFIED:20260317T211009Z
UID:13020-1782378000-1782406800@cosdt.me
SUMMARY:Program pripravnika: Porodično i nasledno pravo
DESCRIPTION:II GRAĐANSKOPRAVNA OBLAST \n\n	Prava djeteta\n	Odnose roditelja i djece\n	Vršenje roditeljskog prava\n	Utvrđivanje roditeljstva i materinstva\n	Izdržavanje roditelja i drugih srodnika\n	Imovinske odnose bračnih drugova\n	Pravo stanovanja\n	Bračni ugovor\n	Vanbračnu zajednicu\n	Životno partnerstvo lica istog pola\n	Postupak u sporovima o očinstvu i materinstvu i u sporovima za izdržavanje\n	Krug zakonskih naslednika\, nužne nasljednike\n	Testament i\n	Tužbe iz nasledno pravnih odnosa\n\nPredavači:Nataša Božović\, sutkinja Vrhovnog suda Crne GoreVesna Begović\, sutkinja Vrhovnog suda Crne Gore u penzijiKatarina Janković\, sutkinja Osnovnog suda u Podgorici
URL:https://cosdt.me/seminar/program-pripravnika-porodicno-i-nasledno-pravo-4/
END:VEVENT
BEGIN:VEVENT
DTSTART;TZID=Europe/Podgorica:20260626T090000
DTEND;TZID=Europe/Podgorica:20260626T170000
DTSTAMP:20260425T173120
CREATED:20260317T211008Z
LAST-MODIFIED:20260317T211008Z
UID:12967-1782464400-1782493200@cosdt.me
SUMMARY:Pravo na pravično suđenje
DESCRIPTION:Predavač:Miraš Radović
URL:https://cosdt.me/seminar/pravo-na-pravicno-sudenje/
END:VEVENT
BEGIN:VEVENT
DTSTART;VALUE=DATE:20260629
DTEND;VALUE=DATE:20260701
DTSTAMP:20260425T173120
CREATED:20260315T123008Z
LAST-MODIFIED:20260317T191436Z
UID:12120-1782691200-1782863999@cosdt.me
SUMMARY:Zakon o obligacionim odnosima (ZOO)
DESCRIPTION:ugovorne obaveze\nposljedice neizvršenja ugovora\nnaknada štete (materijalna i nematerijalna)\nkamata\nzastarjelost\nspecifičnosti pojedinih ugovora iz Zakona o obligacionim odnosima\n\nVrijeme potrebno za izvođenje programa:\nJedna dvodnevna obuka \nKorisnici:\nSudije \nPredavači:\nRadojka Nikolić\, sutkinja Vrhovnog suda CG u penziji\nMladen Grdinić\, predsjednik Privrednog suda CG\nKatarina Đurđić\, sutkinja Vrhovnog suda CG\nBiljana Krgović\, sutkinja Višeg suda u Podgorici\nNađa Todorović\, sutkinja Višeg suda u Podgorici
URL:https://cosdt.me/seminar/zakon-o-obligacionim-odnosima-zoo-2/
LOCATION:Podgorica\, Montenegro
GEO:42.4304196;19.2593642
END:VEVENT
BEGIN:VEVENT
DTSTART;TZID=Europe/Podgorica:20260629T090000
DTEND;TZID=Europe/Podgorica:20260629T170000
DTSTAMP:20260425T173120
CREATED:20260317T193111Z
LAST-MODIFIED:20260317T211008Z
UID:12641-1782723600-1782752400@cosdt.me
SUMMARY:Saradnja sudova u građanskom i privrednom postupku u EU
DESCRIPTION:Predavač:Tatjana Ljujić
URL:https://cosdt.me/seminar/modul-v-iz-kurikuluma-za-pravo-eu/
END:VEVENT
BEGIN:VEVENT
DTSTART;TZID=Europe/Podgorica:20260629T090000
DTEND;TZID=Europe/Podgorica:20260629T170000
DTSTAMP:20260425T173120
CREATED:20260317T193134Z
LAST-MODIFIED:20260317T211009Z
UID:12663-1782723600-1782752400@cosdt.me
SUMMARY:Program pripravnika: Posebni krivični postupci
DESCRIPTION:I KRIVIČNOPRAVNA OBLAST \n\n	Skraćeni postupak\n	Postupak za izricanje krivične sankcije bez glavnog pretresa\n	Posebne odredbe o izricanju sudske opomene\n	Posebne postupke\n	Postupak za izdavanje potjernice i objave i\n	Zakon o postupanju prema maloljetnicima\n\nPredavači:Željka Jovović\, predsjednica Osnovnog suda u PodgoricaDuško Milanović\, rukovodilac Osnovnog državnog tužilaštva u Podgorici
URL:https://cosdt.me/seminar/program-pripravnika-posebni-krivicni-postupci/
END:VEVENT
BEGIN:VEVENT
DTSTART;TZID=Europe/Podgorica:20260630T090000
DTEND;TZID=Europe/Podgorica:20260630T170000
DTSTAMP:20260425T173120
CREATED:20260317T193111Z
LAST-MODIFIED:20260317T211008Z
UID:12642-1782810000-1782838800@cosdt.me
SUMMARY:Odnos sudstva i medija
DESCRIPTION:Predavač:Nataša Radonjić
URL:https://cosdt.me/seminar/modul-vladavina-prava/
END:VEVENT
BEGIN:VEVENT
DTSTART;TZID=Europe/Podgorica:20260630T090000
DTEND;TZID=Europe/Podgorica:20260630T170000
DTSTAMP:20260425T173120
CREATED:20260317T211009Z
LAST-MODIFIED:20260317T211009Z
UID:13022-1782810000-1782838800@cosdt.me
SUMMARY:Program pripravnika: Posebni krivični postupci
DESCRIPTION:I KRIVIČNOPRAVNA OBLAST \n\n	Skraćeni postupak\n	Postupak za izricanje krivične sankcije bez glavnog pretresa\n	Posebne odredbe o izricanju sudske opomene\n	Posebne postupke\n	Postupak za izdavanje potjernice i objave i\n	Zakon o postupanju prema maloljetnicima\n\nPredavači:Željka Jovović\, predsjednica Osnovnog suda u PodgoricaDuško Milanović\, rukovodilac Osnovnog državnog tužilaštva u Podgorici
URL:https://cosdt.me/seminar/program-pripravnika-posebni-krivicni-postupci-2/
END:VEVENT
BEGIN:VEVENT
DTSTART;TZID=Europe/Podgorica:20260701T090000
DTEND;TZID=Europe/Podgorica:20260701T170000
DTSTAMP:20260425T173120
CREATED:20260317T193111Z
LAST-MODIFIED:20260317T211008Z
UID:12643-1782896400-1782925200@cosdt.me
SUMMARY:Sudska organizacija EU i uloga domaćih sudova
DESCRIPTION:Sudska organizacija EU. Sud pravde EU i uloga domaćih sudova\n\nPredavač:Prof. dr Miloš Vukčević
URL:https://cosdt.me/seminar/modul-ii-iz-kurikuluma-za-pravo-eu/
END:VEVENT
BEGIN:VEVENT
DTSTART;VALUE=DATE:20260702
DTEND;VALUE=DATE:20260704
DTSTAMP:20260425T173120
CREATED:20260315T123006Z
LAST-MODIFIED:20260317T191421Z
UID:12092-1782950400-1783123199@cosdt.me
SUMMARY:Sajber kriminal
DESCRIPTION:digitalna forenzika\nelektronski dokazi\nkriptovalute\nIT u finansijskim istragama\nupotreba IKT u vršenju krivičnih djela\n\nVrijeme potrebno za izvođenje programa:\nJedna dvodnevna obuka \nKorisnici:\nSudije\, državni tužioci\, predstavnici FOJ-a\, IT stručnjaci\, vještaci iz oblasti\n   digitalne i finansijske forenzike \nPredavači:\nVesna Pean\, sutkinja Apelacionog suda Crne Gore\n   Armin Selmanović\, državni tužilac u Vrhovnom državnom tužilaštvu;\n   Bojan Nedović\, Stručna služba za informacione sisteme i digitalne dokaze SDT\n   Jakša Backović\, magistar kompjuterskog kriminala i digitalne forenzike\, Uprava\n   policije CG
URL:https://cosdt.me/seminar/sajber-kriminal/
LOCATION:Podgorica\, Montenegro
GEO:42.4304196;19.2593642
END:VEVENT
BEGIN:VEVENT
DTSTART;TZID=Europe/Podgorica:20260702T090000
DTEND;TZID=Europe/Podgorica:20260702T170000
DTSTAMP:20260425T173120
CREATED:20260317T193111Z
LAST-MODIFIED:20260317T211008Z
UID:12644-1782982800-1783011600@cosdt.me
SUMMARY:Saradnja domaćih sudova i Suda pravde EU
DESCRIPTION:Saradnja između domaćih sudova i suda pravde EU i osvrt na odluku o preliminarnom pitanju\n\nPredavač:Prof. dr Miloš Vukčević
URL:https://cosdt.me/seminar/modul-iii-iz-kurikuluma-za-pravo-eu/
END:VEVENT
BEGIN:VEVENT
DTSTART;TZID=Europe/Podgorica:20260703T090000
DTEND;TZID=Europe/Podgorica:20260703T170000
DTSTAMP:20260425T173120
CREATED:20260317T193111Z
LAST-MODIFIED:20260317T211008Z
UID:12645-1783069200-1783098000@cosdt.me
SUMMARY:Saradnja u krivičnom postupku u Evropskoj uniji
DESCRIPTION:SARADNJA U KRIVIČNOM POSTUPKU U EVROPSKOJ UNIJI\n\nPredavač:Ana Radović
URL:https://cosdt.me/seminar/vi-modul-iz-kurikuluma-za-pravo-eu/
END:VEVENT
BEGIN:VEVENT
DTSTART;VALUE=DATE:20260706
DTEND;VALUE=DATE:20260707
DTSTAMP:20260425T173120
CREATED:20260315T123007Z
LAST-MODIFIED:20260317T191436Z
UID:12110-1783296000-1783382399@cosdt.me
SUMMARY:Zakon o postupanju prema maloljetnicima u krivičnom postupku
DESCRIPTION:izmjene i dopune\nprimjena Uputstva VDT-a za postupanje državnih tužilaštava u krivičnim\n\npostupcima u kojima je učesnik dijete oštećeno krivičnim djelom ili u kojem se dijete\nsaslušava kao svjedok \nVrijeme potrebno za izvođenje programa:\nJedna jednodnevna obuka \nKorisnici:\nSudije i državni tužioci\, predstavnici Uprave policije\, stručne službe \nPredavači:\nGoran Đuković\, sudija\, Osnovni sud u Podgorici\nAna Kalezić\, državna tužiteljka\, Više državno tužilaštvo u Podgorici
URL:https://cosdt.me/seminar/zakon-o-postupanju-prema-maloljetnicima-u-krivicnom-postupku-2/
LOCATION:Podgorica\, Montenegro
GEO:42.4304196;19.2593642
END:VEVENT
BEGIN:VEVENT
DTSTART;TZID=Europe/Podgorica:20260706T090000
DTEND;TZID=Europe/Podgorica:20260706T170000
DTSTAMP:20260425T173120
CREATED:20260317T193111Z
LAST-MODIFIED:20260317T211008Z
UID:12646-1783328400-1783357200@cosdt.me
SUMMARY:Pravo na efikasan pravni lijek i mirno uživanje imovine
DESCRIPTION:Pravo na efikasan i djelotvoran pravni lijek; Pravo na mirno uživanje imovine\n\nPredavač:Desanka Lopičić
URL:https://cosdt.me/seminar/modul-ekljp-i-praksa-esljp-4/
END:VEVENT
BEGIN:VEVENT
DTSTART;TZID=Europe/Podgorica:20260707T090000
DTEND;TZID=Europe/Podgorica:20260707T170000
DTSTAMP:20260425T173120
CREATED:20260317T193111Z
LAST-MODIFIED:20260317T211008Z
UID:12647-1783414800-1783443600@cosdt.me
SUMMARY:Etički kodeks sudija
DESCRIPTION:Predavač:Branka Lakočević
URL:https://cosdt.me/seminar/modul-vladavina-prava-2/
END:VEVENT
BEGIN:VEVENT
DTSTART;VALUE=DATE:20260708
DTEND;VALUE=DATE:20260710
DTSTAMP:20260425T173120
CREATED:20260315T123008Z
LAST-MODIFIED:20260317T191449Z
UID:12128-1783468800-1783641599@cosdt.me
SUMMARY:Prekršajno pravo - teme:
DESCRIPTION:– Izmjene i dopune Zakona o prekršajima u kontekstu izmjena Zakona o\ninspekcijskom nadzoru\n– Sporna pitanja u primjeni Zakona o prekršajima\, ujednačavanje sudske\nprakse i razgraničenje sa Zakonikom o krivičnom postupku CG\n– Zaštitne mjere u prekršajnom postupku\, skraćeni postupak\n– Nasilje u porodici i rodno zasnovano nasilje\n– Maloljetnici u prekršajnom postupku \nVrijeme potrebno za izvođenje programa:\nJedna dvodnevna konferencija i jedan jednodnevni okrugli sto \nKorisnici:\nSudije za prekršaje \nPredavači:\nLarisa Begović\, predsjednica Višeg suda za prekršaje\nMaja Živaljević\, sutkinja Višeg suda za prekršaje\nAlija Beganović\, sudija Suda za prekršaje u Bijelom Polju\nMarko Đukanović\, predsjednika Suda za prekršaje u Budvi\nKrunoslav Obradović\, sudija Višeg suda za prekršaje\nSlađana Španjević Volkov\, državna tužiteljka\, Više državno tužilaštvo u Podgorici\nMirsad Mujević\, predsjednik Osnovnog suda u Rožajama\nMilorad Popović\, sudija Višeg suda za prekršaje u penziji
URL:https://cosdt.me/seminar/prekrsajno-pravo-teme-3/
LOCATION:Podgorica\, Montenegro
GEO:42.4304196;19.2593642
END:VEVENT
BEGIN:VEVENT
DTSTART;TZID=Europe/Podgorica:20260708T090000
DTEND;TZID=Europe/Podgorica:20260708T170000
DTSTAMP:20260425T173120
CREATED:20260317T193111Z
LAST-MODIFIED:20260317T211008Z
UID:12648-1783501200-1783530000@cosdt.me
SUMMARY:IKT vještine
DESCRIPTION:Predavač:Miloš Žižić
URL:https://cosdt.me/seminar/modul-sudijske-vjestine/
END:VEVENT
BEGIN:VEVENT
DTSTART;TZID=Europe/Podgorica:20260709T090000
DTEND;TZID=Europe/Podgorica:20260709T170000
DTSTAMP:20260425T173120
CREATED:20260317T211008Z
LAST-MODIFIED:20260317T211008Z
UID:12976-1783587600-1783616400@cosdt.me
SUMMARY:Vještine komunikacije
DESCRIPTION:Predavač:Dragana Labović Vukić
URL:https://cosdt.me/seminar/vjestine-komunikacije/
END:VEVENT
END:VCALENDAR