BEGIN:VCALENDAR
VERSION:2.0
PRODID:-//COSDT - ECPv6.15.17.1//NONSGML v1.0//EN
CALSCALE:GREGORIAN
METHOD:PUBLISH
X-WR-CALNAME:COSDT
X-ORIGINAL-URL:https://cosdt.me
X-WR-CALDESC:Events for COSDT
REFRESH-INTERVAL;VALUE=DURATION:PT1H
X-Robots-Tag:noindex
X-PUBLISHED-TTL:PT1H
BEGIN:VTIMEZONE
TZID:Europe/Podgorica
BEGIN:DAYLIGHT
TZOFFSETFROM:+0100
TZOFFSETTO:+0200
TZNAME:CEST
DTSTART:20210328T010000
END:DAYLIGHT
BEGIN:STANDARD
TZOFFSETFROM:+0200
TZOFFSETTO:+0100
TZNAME:CET
DTSTART:20211031T010000
END:STANDARD
BEGIN:DAYLIGHT
TZOFFSETFROM:+0100
TZOFFSETTO:+0200
TZNAME:CEST
DTSTART:20220327T010000
END:DAYLIGHT
BEGIN:STANDARD
TZOFFSETFROM:+0200
TZOFFSETTO:+0100
TZNAME:CET
DTSTART:20221030T010000
END:STANDARD
BEGIN:DAYLIGHT
TZOFFSETFROM:+0100
TZOFFSETTO:+0200
TZNAME:CEST
DTSTART:20230326T010000
END:DAYLIGHT
BEGIN:STANDARD
TZOFFSETFROM:+0200
TZOFFSETTO:+0100
TZNAME:CET
DTSTART:20231029T010000
END:STANDARD
END:VTIMEZONE
BEGIN:VEVENT
DTSTART;VALUE=DATE:20221125
DTEND;VALUE=DATE:20221126
DTSTAMP:20260425T125635
CREATED:20220105T153253Z
LAST-MODIFIED:20220105T153253Z
UID:8125-1669334400-1669420799@cosdt.me
SUMMARY:Korupcija na visokom nivou
DESCRIPTION:Korupcija na visokom nivou;\n\n  \nVrijeme potrebno za izvođenje programa: \nJedan seminar \nKorisnici: \nSudije\, državni tužioci. \n  \nPredavači: \n  \nDatum održavanja: 25. novembar
URL:https://cosdt.me/seminar/korupcija-na-visokom-nivou/
LOCATION:Podgorica\, Montenegro
CATEGORIES:Obuke
GEO:42.4304196;19.2593642
END:VEVENT
BEGIN:VEVENT
DTSTART;VALUE=DATE:20221122
DTEND;VALUE=DATE:20221124
DTSTAMP:20260425T125635
CREATED:20220105T162450Z
LAST-MODIFIED:20220105T162450Z
UID:8210-1669075200-1669247999@cosdt.me
SUMMARY:Zaštita prava konkurencije
DESCRIPTION:Zaštita prava konkurencije; \n\nVrijeme potrebno za izvodjenje programa \nJedan seminar \nKorisnici: \nSudije. \n  \nPredavači: \nDatum održavanja: 22-23. novembar
URL:https://cosdt.me/seminar/zastita-prava-konkurencije/
LOCATION:Podgorica\, Montenegro
CATEGORIES:Obuke
GEO:42.4304196;19.2593642
END:VEVENT
BEGIN:VEVENT
DTSTART;VALUE=DATE:20221116
DTEND;VALUE=DATE:20221117
DTSTAMP:20260425T125635
CREATED:20220105T154030Z
LAST-MODIFIED:20220105T154030Z
UID:8137-1668556800-1668643199@cosdt.me
SUMMARY:Pisanje i izrada odluka
DESCRIPTION:Pisanje i izrada odluka;\n\nVrijeme potrebno za izvođenje programa: \nJedan jednodnevni seminar; \nKorisnici: \nSudije. \n  \nPredavači: \nDatum održavanja: 16. novembar
URL:https://cosdt.me/seminar/pisanje-i-izrada-odluka-2/
LOCATION:Podgorica\, Montenegro
CATEGORIES:Obuke
GEO:42.4304196;19.2593642
END:VEVENT
BEGIN:VEVENT
DTSTART;VALUE=DATE:20221114
DTEND;VALUE=DATE:20221116
DTSTAMP:20260425T125635
CREATED:20220105T153211Z
LAST-MODIFIED:20220929T072156Z
UID:8123-1668384000-1668556799@cosdt.me
SUMMARY:Krivična djela iz oblasti zaštite životne sredine
DESCRIPTION:Krivična djela iz oblasti zaštite životne sredine;\n\n  \nVrijeme potrebno za izvođenje programa: \nJedan seminar i HELP onlajn kurs \nKorisnici: \nSudije\, državni tužioci. \n  \nPredavači: \n  \nDatum održavanja: 10-11. oktobar
URL:https://cosdt.me/seminar/krivicna-djela-iz-oblasti-zastite-zivotne-sredine-2/
LOCATION:Podgorica\, Montenegro
CATEGORIES:Obuke
GEO:42.4304196;19.2593642
END:VEVENT
BEGIN:VEVENT
DTSTART;VALUE=DATE:20221110
DTEND;VALUE=DATE:20221112
DTSTAMP:20260425T125635
CREATED:20220105T155312Z
LAST-MODIFIED:20220105T155312Z
UID:8157-1668038400-1668211199@cosdt.me
SUMMARY:Sporna pitanja u primjeni Zakona o upravnom postupku i Zakona o upravnom sporu; Zakon o slobodnom pristupu informacijama
DESCRIPTION:Sporna pitanja u primjeni Zakona o upravnom postupku i Zakona o upravnom sporu;\nZakon o slobodnom pristupu informacijama;\n\n  \nVrijeme potrebno za izvođenje programa: \nJedna regionalna konferencija ili seminar \nKorisnici: \nSudije. \nPredavači: \nDatum održavanja: 10-11. novembar
URL:https://cosdt.me/seminar/sporna-pitanja-u-primjeni-zakona-o-upravnom-postupku-i-zakona-o-upravnom-sporu-zakon-o-slobodnom-pristupu-informacijama/
LOCATION:Podgorica\, Montenegro
CATEGORIES:Seminari
GEO:42.4304196;19.2593642
END:VEVENT
BEGIN:VEVENT
DTSTART;VALUE=DATE:20221103
DTEND;VALUE=DATE:20221105
DTSTAMP:20260425T125635
CREATED:20220105T154145Z
LAST-MODIFIED:20221011T075408Z
UID:8139-1667433600-1667606399@cosdt.me
SUMMARY:Zakon o izvršenju i obezbjeđenju sa akcentom sa problemima primjene u praksi
DESCRIPTION:Zakona o izvršenju i obezbjeđenju sa akcentom sa problemima primjene u praksi; \n  \nVrijeme potrebno za izvođenje programa: \nJedan dvodnevni seminar \nKorisnici: \nSudije i javni izvržitelji. \nPredavači: \nDatum održavanja: 13-14. oktobar
URL:https://cosdt.me/seminar/zakon-o-izvrsenju-i-obezbjedenju-sa-akcentom-sa-problemima-primjene-u-praksi/
LOCATION:Podgorica\, Montenegro
CATEGORIES:Obuke
GEO:42.4304196;19.2593642
END:VEVENT
BEGIN:VEVENT
DTSTART;VALUE=DATE:20221103
DTEND;VALUE=DATE:20221105
DTSTAMP:20260425T125635
CREATED:20220105T151659Z
LAST-MODIFIED:20220105T151659Z
UID:8103-1667433600-1667606399@cosdt.me
SUMMARY:Sporna pitanja u primjeni Zakonika o krivičnom postupku (radnje policije i tužilaštva u izviđaju i istrazi; uviđaj; specijalne istražne tehnike)
DESCRIPTION:Sporna pitanja u primjeni Zakonika o krivičnom postupku (radnje policije i tužilaštva u izviđaju i istrazi; uviđaj; specijalne istražne tehnike);\n\n  \nVrijeme potrebno za izvođenje programa: \nNajmanje jedan dvodnevni seminar \nKorisnici: \nSudije\, državni tužioci\, predstavnici UP. \n  \nPredavači: \n  \nDatum održavanja: 3-4. novembar
URL:https://cosdt.me/seminar/sporna-pitanja-u-primjeni-zakonika-o-krivicnom-postupku-radnje-policije-i-tuzilastva-u-izvidaju-i-istrazi-uvidaj-specijalne-istrazne-tehnike-2/
LOCATION:Podgorica\, Montenegro
CATEGORIES:Obuke
GEO:42.4304196;19.2593642
END:VEVENT
BEGIN:VEVENT
DTSTART;VALUE=DATE:20221031
DTEND;VALUE=DATE:20221101
DTSTAMP:20260425T125635
CREATED:20220105T161949Z
LAST-MODIFIED:20220105T161949Z
UID:8202-1667174400-1667260799@cosdt.me
SUMMARY:Besplatna pravna pomoć
DESCRIPTION:Besplatna pravna pomoć;\n\n  \nVrijeme potrebno za izvođenje programa: \nJedan jednodnevni seminar \nKorisnici: \nSudije\, eventualno advokati. \n  \nPredavači: \nDatum održavanja: 31. oktobar
URL:https://cosdt.me/seminar/besplatna-pravna-pomoc-2/
LOCATION:Podgorica\, Montenegro
CATEGORIES:Obuke
GEO:42.4304196;19.2593642
END:VEVENT
BEGIN:VEVENT
DTSTART;VALUE=DATE:20221027
DTEND;VALUE=DATE:20221029
DTSTAMP:20260425T125635
CREATED:20220105T160025Z
LAST-MODIFIED:20220105T160025Z
UID:8170-1666828800-1667001599@cosdt.me
SUMMARY:Član 8 – pravo na poštovanje privatnog i porodičnog života
DESCRIPTION:Član 8 – pravo na poštovanje privatnog i porodičnog života;\n\nVrijeme potrebno za izvođenje programa: \nJedan dvodnodnevni seminar \nPredavači: \nDatum održavanja: 27-28. oktobar
URL:https://cosdt.me/seminar/clan-8-pravo-na-postovanje-privatnog-i-porodicnog-zivota/
LOCATION:Podgorica\, Montenegro
CATEGORIES:Obuke
GEO:42.4304196;19.2593642
END:VEVENT
BEGIN:VEVENT
DTSTART;VALUE=DATE:20221025
DTEND;VALUE=DATE:20221026
DTSTAMP:20260425T125635
CREATED:20220105T151448Z
LAST-MODIFIED:20221011T074006Z
UID:8099-1666656000-1666742399@cosdt.me
SUMMARY:Sporazum o priznanju krivice
DESCRIPTION:Sporazum o priznanju krivice; \n\n  \nVrijeme potrebno za izvođenje programa: \nJedan jednodnevni seminar \nKorisnici: \nSudije\, državni tužioci\, eventualno advokati. \n  \nPredavači: \n  \nDatum održavanja: 21. oktobar
URL:https://cosdt.me/seminar/sporazum-o-priznanju-krivice-5/
LOCATION:Podgorica\, Montenegro
CATEGORIES:Obuke
GEO:42.4304196;19.2593642
END:VEVENT
BEGIN:VEVENT
DTSTART;VALUE=DATE:20221020
DTEND;VALUE=DATE:20221021
DTSTAMP:20260425T125635
CREATED:20220105T161209Z
LAST-MODIFIED:20220914T055823Z
UID:8185-1666224000-1666310399@cosdt.me
SUMMARY:Član 1 Protokola 1 - pravo na imovinu (sa akcentom na pravo svojine na morskom dobru)
DESCRIPTION:
URL:https://cosdt.me/seminar/clan-1-protokola-1-pravo-na-imovinu-sa-akcentom-na-pravo-svojine-na-morskom-dobru/
LOCATION:Podgorica\, Montenegro
CATEGORIES:Obuke
GEO:42.4304196;19.2593642
END:VEVENT
BEGIN:VEVENT
DTSTART;VALUE=DATE:20221018
DTEND;VALUE=DATE:20221019
DTSTAMP:20260425T125635
CREATED:20220105T154718Z
LAST-MODIFIED:20220105T154718Z
UID:8149-1666051200-1666137599@cosdt.me
SUMMARY:Međunarodno privatno pravo – mjerodavno pravo
DESCRIPTION:Međunarodno privatno pravo – mjerodavno pravo; \n  \nVrijeme potrebno za izvođenje programa: \nJedan jednodnevni seminar \nKorisnici: \nSudije\, eventualno advokati\, notari. \nPredavači: \nDatum održavanja: 18. oktobar
URL:https://cosdt.me/seminar/medunarodno-privatno-pravo-mjerodavno-pravo-2/
LOCATION:Podgorica\, Montenegro
CATEGORIES:Obuke
GEO:42.4304196;19.2593642
END:VEVENT
BEGIN:VEVENT
DTSTART;VALUE=DATE:20221003
DTEND;VALUE=DATE:20221005
DTSTAMP:20260425T125635
CREATED:20220105T151336Z
LAST-MODIFIED:20220105T151336Z
UID:8097-1664755200-1664927999@cosdt.me
SUMMARY:Finansijska istraga\, Zakon o oduzimanju imovinske koristi stečene kriminalnom djelatnošću i oduzimanje imovine stečene krivičnim djelom
DESCRIPTION:– Finansijska istraga\, Zakon o oduzimanju imovinske koristi stečene kriminalnom djelatnošću i oduzimanje imovine stečene krivičnim djelom;  \n  \nVrijeme potrebno za izvođenje programa: \nNajmanje dva dvodnevna seminara \nKorisnici: \nSudije\, državni tužioci\, predstavnici državnih organa. \nPredavači: \n  \nDatumi održavanja: 3-4. oktobar
URL:https://cosdt.me/seminar/finansijska-istraga-zakon-o-oduzimanju-imovinske-koristi-stecene-kriminalnom-djelatnoscu-i-oduzimanje-imovine-stecene-krivicnim-djelom-3/
LOCATION:Podgorica\, Montenegro
CATEGORIES:Obuke
GEO:42.4304196;19.2593642
END:VEVENT
BEGIN:VEVENT
DTSTART;VALUE=DATE:20220929
DTEND;VALUE=DATE:20221001
DTSTAMP:20260425T125635
CREATED:20220914T055427Z
LAST-MODIFIED:20220914T055503Z
UID:8915-1664409600-1664582399@cosdt.me
SUMMARY:Sloboda izražavanja\, u saradnji sa CEDEM-om
DESCRIPTION:Vrijeme potrebno za izvođenje programa:\nJedan dvodnevni seminar\nKorisnici:\nPredavači: \nDatum održavanja: 29-30. septembar
URL:https://cosdt.me/seminar/sloboda-izrazavanja-u-saradnji-sa-cedem-om/
LOCATION:Podgorica\, Montenegro
CATEGORIES:Obuke
GEO:42.4304196;19.2593642
END:VEVENT
BEGIN:VEVENT
DTSTART;VALUE=DATE:20220929
DTEND;VALUE=DATE:20221001
DTSTAMP:20260425T125635
CREATED:20220914T054603Z
LAST-MODIFIED:20220914T055214Z
UID:8910-1664409600-1664582399@cosdt.me
SUMMARY:Medijacija u privrednim sporovima
DESCRIPTION:Vrijeme potrebno za izvođenje programa:\nJedan dvodnevni seminar\nKorisnici:\nPredavači: \nDatum održavanja: 29-30. septembar
URL:https://cosdt.me/seminar/medijacija-u-privrednim-sporovima/
LOCATION:Podgorica\, Montenegro
CATEGORIES:Obuke
GEO:42.4304196;19.2593642
END:VEVENT
BEGIN:VEVENT
DTSTART;VALUE=DATE:20220923
DTEND;VALUE=DATE:20220924
DTSTAMP:20260425T125635
CREATED:20220105T150954Z
LAST-MODIFIED:20220914T054124Z
UID:8093-1663891200-1663977599@cosdt.me
SUMMARY:MTN i korišćenje dokaza pribavljenih ovim putem (trajanje\, produženje\, itd) i zaštita podataka o ličnosti i tajnim podacima
DESCRIPTION:– MTN i korišćenje dokaza pribavljenih ovim putem (trajanje\, produženje\, itd) i zaštita podataka o ličnosti i tajnim podacima; \n  \nVrijeme potrebno za izvođenje programa: \nJedan dvodnevni seminar \nKorisnici: \nSudije\, državni tužioci\, eventualno advokati. \nPredavači: \n  \nDatum održavanja: 22-23. septembar
URL:https://cosdt.me/seminar/mtn-i-koriscenje-dokaza-pribavljenih-ovim-putem-trajanje-produzenje-itd-i-zastita-podataka-o-licnosti-i-tajnim-podacima-2/
LOCATION:Podgorica\, Montenegro
CATEGORIES:Obuke
GEO:42.4304196;19.2593642
END:VEVENT
BEGIN:VEVENT
DTSTART;VALUE=DATE:20220908
DTEND;VALUE=DATE:20220910
DTSTAMP:20260425T125635
CREATED:20220105T160426Z
LAST-MODIFIED:20220105T160426Z
UID:8178-1662595200-1662767999@cosdt.me
SUMMARY:Član 10 – sloboda izražavanja
DESCRIPTION:Član 10 – sloboda izražavanja;\n\nVrijeme potrebno za izvođenje programa: \nČetiri dvodnodnevni seminara u okviru JUFREX2 projekta \n  \nPredavači: \nDatum održavanja: 8-9. septembar
URL:https://cosdt.me/seminar/clan-10-sloboda-izrazavanja-4/
LOCATION:Podgorica\, Montenegro
CATEGORIES:Obuke
GEO:42.4304196;19.2593642
END:VEVENT
BEGIN:VEVENT
DTSTART;VALUE=DATE:20220905
DTEND;VALUE=DATE:20220907
DTSTAMP:20260425T125635
CREATED:20220105T161355Z
LAST-MODIFIED:20220105T161355Z
UID:8189-1662336000-1662508799@cosdt.me
SUMMARY:Ljudska prava i COVID-19 sa akcentom na slobodu kretanja (član 2\, Protokola 4 uz EKLJP) i derogacija u vanrednim okolnostima
DESCRIPTION:Ljudska prava i COVID-19 sa akcentom na slobodu kretanja (član 2\, Protokola 4 uz EKLJP) i derogacija u vanrednim okolnostima.\n\nVrijeme potrebno za izvođenje programa: \nJedan dvodnodnevni seminar \n  \nPredavači: \n  \nDatum održavanja: 5-6. septembar
URL:https://cosdt.me/seminar/ljudska-prava-i-covid-19-sa-akcentom-na-slobodu-kretanja-clan-2-protokola-4-uz-ekljp-i-derogacija-u-vanrednim-okolnostima/
LOCATION:Podgorica\, Montenegro
CATEGORIES:Obuke
GEO:42.4304196;19.2593642
END:VEVENT
BEGIN:VEVENT
DTSTART;VALUE=DATE:20220718
DTEND;VALUE=DATE:20220720
DTSTAMP:20260425T125635
CREATED:20220105T155741Z
LAST-MODIFIED:20220105T155741Z
UID:8164-1658102400-1658275199@cosdt.me
SUMMARY:Član 3 – zabrana mučenja
DESCRIPTION:Član 3 – zabrana mučenja;\n\nVrijeme potrebno za izvođenje programa: \nJedan dvodnodnevni seminar \nPredavači: \nDatum održavanja: 18-19. jul
URL:https://cosdt.me/seminar/clan-3-zabrana-mucenja/
LOCATION:Podgorica\, Montenegro
CATEGORIES:Obuke
GEO:42.4304196;19.2593642
END:VEVENT
BEGIN:VEVENT
DTSTART;VALUE=DATE:20220711
DTEND;VALUE=DATE:20220713
DTSTAMP:20260425T125635
CREATED:20220105T160324Z
LAST-MODIFIED:20220105T160324Z
UID:8176-1657497600-1657670399@cosdt.me
SUMMARY:Član 10 – sloboda izražavanja
DESCRIPTION:Član 10 – sloboda izražavanja;\n\nVrijeme potrebno za izvođenje programa: \nČetiri dvodnodnevni seminara u okviru JUFREX2 projekta \nPredavači: \nDatum održavanja: 11-12. jul \n 
URL:https://cosdt.me/seminar/clan-10-sloboda-izrazavanja-3/
LOCATION:Podgorica\, Montenegro
CATEGORIES:Obuke
GEO:42.4304196;19.2593642
END:VEVENT
BEGIN:VEVENT
DTSTART;VALUE=DATE:20220708
DTEND;VALUE=DATE:20220709
DTSTAMP:20260425T125635
CREATED:20220105T153358Z
LAST-MODIFIED:20220105T153358Z
UID:8127-1657238400-1657324799@cosdt.me
SUMMARY:Krivična djela protiv platnog prometa i privrednog poslovanja
DESCRIPTION:Krivična djela protiv platnog prometa i privrednog poslovanja; \nVrijeme potrebno za izvođenje programa: \nJedan seminar \nKorisnici: \nSudije\, državni tužioci. \n  \nPredavači: \nDatum održavanja: 8. jul
URL:https://cosdt.me/seminar/krivicna-djela-protiv-platnog-prometa-i-privrednog-poslovanja/
LOCATION:Podgorica\, Montenegro
CATEGORIES:Obuke
GEO:42.4304196;19.2593642
END:VEVENT
BEGIN:VEVENT
DTSTART;VALUE=DATE:20220704
DTEND;VALUE=DATE:20220707
DTSTAMP:20260425T125635
CREATED:20220105T152621Z
LAST-MODIFIED:20220105T152621Z
UID:8117-1656892800-1657151999@cosdt.me
SUMMARY:Trgovina ljudima
DESCRIPTION:Trgovina ljudima; \n\n  \nVrijeme potrebno za izvođenje programa: \nJedan seminar u trajanju od tri dana \nKorisnici: \nSudije\, državni tužioci. \n  \nPredavači: \nDatum održavanja: 4-5-6. jul
URL:https://cosdt.me/seminar/trgovina-ljudima-4/
LOCATION:Podgorica\, Montenegro
CATEGORIES:Obuke
GEO:42.4304196;19.2593642
END:VEVENT
BEGIN:VEVENT
DTSTART;VALUE=DATE:20220628
DTEND;VALUE=DATE:20220701
DTSTAMP:20260425T125635
CREATED:20220105T155445Z
LAST-MODIFIED:20220105T155445Z
UID:8159-1656374400-1656633599@cosdt.me
SUMMARY:V MODUL  Prekršajno pravo
DESCRIPTION:V MODUL \nPrekršajno pravo \n  \nTEME: \n\na) procesno pravne teme: \n\n\nOpšti instituti i sporna pitanja u primjeni Zakona o prekršajima;\nShodna primjena Zakona o krivičnom postupku;\nTroškovi prekršajnog postupka;\nNasilje u porodici/porodičnoj zajednici (zaštita žrtve);\n\n  \n\nb) Materijalno prave teme: \n\n\nSporna pitanja u primjeni sljedećih zakona:\nZakona o zaštiti od nasilja u porodici\,\nZakona o javnom redu i miru\,\nZakona o PDV-u;\nZakona o zabrani diskriminacije;\nPraksa Ustavnog suda po ustavnoj žalbu u prekršajnim predmetima;\n\n  \n  \n8.2 Vrijeme potrebno za izvođenje programa \nDva seminara ili 3-dnevna Konferencija na predložene teme. Pored toga predviđeno je i učešće sudija za prekršaje na drugim obukama iz Programa za kontinuiranu obuku. \nKorisnici: \nSudije\, predstavnici državnih organa. \n  \nPredavači: \nDatum održavanja: 28-29-30. jun
URL:https://cosdt.me/seminar/v-modul-prekrsajno-pravo/
LOCATION:Podgorica\, Montenegro
CATEGORIES:Seminari
GEO:42.4304196;19.2593642
END:VEVENT
BEGIN:VEVENT
DTSTART;VALUE=DATE:20220623
DTEND;VALUE=DATE:20220625
DTSTAMP:20260425T125635
CREATED:20220105T160629Z
LAST-MODIFIED:20220105T160629Z
UID:8183-1655942400-1656115199@cosdt.me
SUMMARY:Član 14 – zabrana diskriminacije
DESCRIPTION:Član 14 – zabrana diskriminacije ;\n\nVrijeme potrebno za izvođenje programa: \nJedan dvodnodnevni seminar \n  \nPredavači: \nDatum održavanja: 23-24. jun
URL:https://cosdt.me/seminar/clan-14-zabrana-diskriminacije/
LOCATION:Podgorica\, Montenegro
CATEGORIES:Obuke
GEO:42.4304196;19.2593642
END:VEVENT
BEGIN:VEVENT
DTSTART;VALUE=DATE:20220621
DTEND;VALUE=DATE:20220623
DTSTAMP:20260425T125635
CREATED:20220105T153936Z
LAST-MODIFIED:20220524T113338Z
UID:8135-1655769600-1655942399@cosdt.me
SUMMARY:Zakon o parničnom postupku i aktuelna pitanja i dileme koje se javljaju pri njegovoj praktičnoj primjeni (primjena načela dispozicije stranaka nasuprot načela utvrđivanja materijalne istine; Prethodno ispitivanje tužbe; Sporna pitanja u vezi suparničara i zastoja u parničnom postupku)
DESCRIPTION:Zakona o parničnom postupku i aktuelna pitanja i dileme koje se javljaju pri njegovoj praktičnoj primjeni (primjena načela dispozicije stranaka nasuprot načela utvrđivanja materijalne istine; Prethodno ispitivanje tužbe; Sporna pitanja u vezi suparničara i zastoja u parničnom postupku);\n\n  \nVrijeme potrebno za izvođenje programa: \nNajmanje tri seminara; \nKorisnici: \nSudije\, eventualno advokati\, notari i javni izvržitelji. \n  \nPredavači: \nDatum održavanja: 21-22. jun
URL:https://cosdt.me/seminar/zakon-o-parnicnom-postupku-i-aktuelna-pitanja-i-dileme-koje-se-javljaju-pri-njegovoj-prakticnoj-primjeni-primjena-nacela-dispozicije-stranaka-nasuprot-nacela-utvrdivanja-materijalne-istine-prethodno/
LOCATION:Podgorica\, Montenegro
CATEGORIES:Obuke
GEO:42.4304196;19.2593642
END:VEVENT
BEGIN:VEVENT
DTSTART;VALUE=DATE:20220621
DTEND;VALUE=DATE:20220622
DTSTAMP:20260425T125635
CREATED:20220105T153835Z
LAST-MODIFIED:20220105T153835Z
UID:8133-1655769600-1655855999@cosdt.me
SUMMARY:Pisanje i izrada odluka
DESCRIPTION:Pisanje i izrada odluka;\n\nVrijeme potrebno za izvođenje programa: \nJedan jednodnevni seminar; \nKorisnici: \nSudije\, državni tužioci. \n  \nPredavači: \n  \nDatum održavanja: 21. jun
URL:https://cosdt.me/seminar/pisanje-i-izrada-odluka/
LOCATION:Podgorica\, Montenegro
CATEGORIES:Obuke
GEO:42.4304196;19.2593642
END:VEVENT
BEGIN:VEVENT
DTSTART;VALUE=DATE:20220616
DTEND;VALUE=DATE:20220618
DTSTAMP:20260425T125635
CREATED:20220105T152109Z
LAST-MODIFIED:20220105T152109Z
UID:8111-1655337600-1655510399@cosdt.me
SUMMARY:Ratni zločini\, prisilni nestanci i ostvarivanje imovinsko-pravnog zahtjeva u krivičnom postupku
DESCRIPTION:Ratni zločini\, prisilni nestanci i ostvarivanje imovinsko-pravnog zahtjeva u krivičnom postupku;\n\n  \nVrijeme potrebno za izvođenje programa: \nJedan dvodnevni seminar \nKorisnici: \nSudije\, državni tužioci. \n  \nPredavači: \nDatum održavanja: 16-17. jun
URL:https://cosdt.me/seminar/ratni-zlocini-prisilni-nestanci-i-ostvarivanje-imovinsko-pravnog-zahtjeva-u-krivicnom-postupku/
LOCATION:Podgorica\, Montenegro
CATEGORIES:Obuke
GEO:42.4304196;19.2593642
END:VEVENT
BEGIN:VEVENT
DTSTART;VALUE=DATE:20220614
DTEND;VALUE=DATE:20220616
DTSTAMP:20260425T125635
CREATED:20220105T160234Z
LAST-MODIFIED:20220524T113522Z
UID:8174-1655164800-1655337599@cosdt.me
SUMMARY:Član 10 – sloboda izražavanja
DESCRIPTION:Član 10 – sloboda izražavanja;\n\nVrijeme potrebno za izvođenje programa: \nČetiri dvodnevna seminara u okviru JUFREX2 projekta \nPredavači: \nDatum održavanja: 14-15. jun \n 
URL:https://cosdt.me/seminar/clan-10-sloboda-izrazavanja-2/
LOCATION:Podgorica\, Montenegro
CATEGORIES:Obuke
GEO:42.4304196;19.2593642
END:VEVENT
BEGIN:VEVENT
DTSTART;VALUE=DATE:20220609
DTEND;VALUE=DATE:20220611
DTSTAMP:20260425T125635
CREATED:20220105T151804Z
LAST-MODIFIED:20220105T151804Z
UID:8105-1654732800-1654905599@cosdt.me
SUMMARY:Forenzička vještačenja i Zakon o DNK registru
DESCRIPTION:Forenzička vještačenja i Zakon o DNK registru; \n\n  \nVrijeme potrebno za izvođenje programa: \nJedan dvodnevni seminar \nKorisnici: \nSudije\, državni tužioci. \n  \nPredavači: \nDatum održavanja: 9-10. jun
URL:https://cosdt.me/seminar/forenzicka-vjestacenja-i-zakon-o-dnk-registru-2/
LOCATION:Podgorica\, Montenegro
CATEGORIES:Obuke
GEO:42.4304196;19.2593642
END:VEVENT
BEGIN:VEVENT
DTSTART;VALUE=DATE:20220606
DTEND;VALUE=DATE:20220608
DTSTAMP:20260425T125635
CREATED:20220105T151230Z
LAST-MODIFIED:20220105T151230Z
UID:8095-1654473600-1654646399@cosdt.me
SUMMARY:Finansijska istraga\, Zakon o oduzimanju imovinske koristi stečene kriminalnom djelatnošću i oduzimanje imovine stečene krivičnim djelom
DESCRIPTION:– Finansijska istraga\, Zakon o oduzimanju imovinske koristi stečene kriminalnom djelatnošću i oduzimanje imovine stečene krivičnim djelom;  \n  \nVrijeme potrebno za izvođenje programa: \nNajmanje dva dvodnevna seminara \nKorisnici: \nSudije\, državni tužioci\, predstavnici državnih organa. \nPredavači: \n  \nDatumi održavanja: 6-7. jun
URL:https://cosdt.me/seminar/finansijska-istraga-zakon-o-oduzimanju-imovinske-koristi-stecene-kriminalnom-djelatnoscu-i-oduzimanje-imovine-stecene-krivicnim-djelom-2/
LOCATION:Podgorica\, Montenegro
CATEGORIES:Obuke
GEO:42.4304196;19.2593642
END:VEVENT
END:VCALENDAR