BEGIN:VCALENDAR
VERSION:2.0
PRODID:-//COSDT - ECPv6.15.17.1//NONSGML v1.0//EN
CALSCALE:GREGORIAN
METHOD:PUBLISH
X-ORIGINAL-URL:https://cosdt.me
X-WR-CALDESC:Events for COSDT
REFRESH-INTERVAL;VALUE=DURATION:PT1H
X-Robots-Tag:noindex
X-PUBLISHED-TTL:PT1H
BEGIN:VTIMEZONE
TZID:Europe/Podgorica
BEGIN:DAYLIGHT
TZOFFSETFROM:+0100
TZOFFSETTO:+0200
TZNAME:CEST
DTSTART:20220327T010000
END:DAYLIGHT
BEGIN:STANDARD
TZOFFSETFROM:+0200
TZOFFSETTO:+0100
TZNAME:CET
DTSTART:20221030T010000
END:STANDARD
BEGIN:DAYLIGHT
TZOFFSETFROM:+0100
TZOFFSETTO:+0200
TZNAME:CEST
DTSTART:20230326T010000
END:DAYLIGHT
BEGIN:STANDARD
TZOFFSETFROM:+0200
TZOFFSETTO:+0100
TZNAME:CET
DTSTART:20231029T010000
END:STANDARD
BEGIN:DAYLIGHT
TZOFFSETFROM:+0100
TZOFFSETTO:+0200
TZNAME:CEST
DTSTART:20240331T010000
END:DAYLIGHT
BEGIN:STANDARD
TZOFFSETFROM:+0200
TZOFFSETTO:+0100
TZNAME:CET
DTSTART:20241027T010000
END:STANDARD
BEGIN:DAYLIGHT
TZOFFSETFROM:+0100
TZOFFSETTO:+0200
TZNAME:CEST
DTSTART:20250330T010000
END:DAYLIGHT
BEGIN:STANDARD
TZOFFSETFROM:+0200
TZOFFSETTO:+0100
TZNAME:CET
DTSTART:20251026T010000
END:STANDARD
END:VTIMEZONE
BEGIN:VEVENT
DTSTART;VALUE=DATE:20231127
DTEND;VALUE=DATE:20231130
DTSTAMP:20260425T183909
CREATED:20230115T211744Z
LAST-MODIFIED:20230119T122841Z
UID:9411-1701043200-1701302399@cosdt.me
SUMMARY:Obuka za predavače - vještine prenošenja znanja
DESCRIPTION:Vrijeme potrebno za izvodjenje programa Najmanje jedan trening za trenere (ToT – tri modula)\nKorisnici: Sudije\, državni tužioci. \nPredavači: \nDatum održavanja: I modul – 18-19-20. septembar 2023.g.\n		          II modul – 23-24-25. oktobar 2023.g.\n		          III modul – 27-28-29. novembar 2023.g.
URL:https://cosdt.me/seminar/ix-modul-zajednicke-teme-za-nosioce-pravosudne-funkcije-obuke-za-predavace-vjestine-prenosenja-znanja-3/
LOCATION:Podgorica\, Montenegro
CATEGORIES:Obuke
GEO:42.4304196;19.2593642
END:VEVENT
BEGIN:VEVENT
DTSTART;VALUE=DATE:20231201
DTEND;VALUE=DATE:20231202
DTSTAMP:20260425T183909
CREATED:20230115T191429Z
LAST-MODIFIED:20230119T122817Z
UID:9318-1701388800-1701475199@cosdt.me
SUMMARY:Terorizam\, borci u inostranstvu i  učestvovanje u stranim oružanim formacijama
DESCRIPTION:Vrijeme potrebno za izvođenje programa: Jedan jednodnevni seminar\nKorisnici: Sudije\, državni tužioci. \nPredavači: \nDatum održavanja: 1. decembar 2023.g.
URL:https://cosdt.me/seminar/i-modul-krivicno-pravna-oblast-terorizam-borci-u-inostranstvu-i-ucestvovanje-u-stranim-oruzanim-formacijama/
LOCATION:Podgorica\, Montenegro
CATEGORIES:Obuke
GEO:42.4304196;19.2593642
END:VEVENT
BEGIN:VEVENT
DTSTART;VALUE=DATE:20231205
DTEND;VALUE=DATE:20231206
DTSTAMP:20260425T183909
CREATED:20230115T201609Z
LAST-MODIFIED:20230119T122758Z
UID:9354-1701734400-1701820799@cosdt.me
SUMMARY:Nasljedno pravo – nasljednička tužba i sudska praksa
DESCRIPTION:Vrijeme potrebno za izvođenje programa: Jedan seminar\nKorisnici: Sudije  \nPredavači: \nDatum održavanja: 5. decembar 2023.g.
URL:https://cosdt.me/seminar/ii-modul-gradansko-pravna-oblast-nasljedno-pravo-nasljednicka-tuzba-i-sudska-praksa/
LOCATION:Podgorica\, Montenegro
CATEGORIES:Obuke
GEO:42.4304196;19.2593642
END:VEVENT
BEGIN:VEVENT
DTSTART;VALUE=DATE:20231211
DTEND;VALUE=DATE:20231212
DTSTAMP:20260425T183909
CREATED:20230115T205750Z
LAST-MODIFIED:20230119T122653Z
UID:9392-1702252800-1702339199@cosdt.me
SUMMARY:Naknada štete zbog povrede prava ličnosti - praksa ESLJP
DESCRIPTION:Vrijeme potrebno za izvođenje programa:\nJedan jednodnevni seminar \nPredavači: \nDatum održavanja: 11. decembar 2023.g.
URL:https://cosdt.me/seminar/vi-modul-konvencijsko-pravo-evropska-konvencija-za-zastitu-ljudskih-prava-i-osnovnih-sloboda-ekljp-naknada-stete-zbog-povrede-prava-licnosti-praksa-esljp/
LOCATION:Podgorica\, Montenegro
GEO:42.4304196;19.2593642
END:VEVENT
BEGIN:VEVENT
DTSTART;VALUE=DATE:20231212
DTEND;VALUE=DATE:20231214
DTSTAMP:20260425T183909
CREATED:20230115T204946Z
LAST-MODIFIED:20231013T110159Z
UID:9382-1702339200-1702511999@cosdt.me
SUMMARY:Član 8 – pravo na poštovanje privatnog i porodičnog života
DESCRIPTION:Vrijeme potrebno za izvođenje programa: Jedan dvodnodnevni seminar \nPredavači: \nDatum održavanja: 26-27. oktobar 2023.g.
URL:https://cosdt.me/seminar/vi-modul-konvencijsko-pravo-evropska-konvencija-za-zastitu-ljudskih-prava-i-osnovnih-sloboda-ekljp-clan-8-pravo-na-postovanje-privatnog-i-porodicnog-zivota/
LOCATION:Podgorica\, Montenegro
CATEGORIES:Seminari
GEO:42.4304196;19.2593642
END:VEVENT
BEGIN:VEVENT
DTSTART;VALUE=DATE:20231214
DTEND;VALUE=DATE:20231216
DTSTAMP:20260425T183909
CREATED:20230115T211934Z
LAST-MODIFIED:20230119T122627Z
UID:9413-1702512000-1702684799@cosdt.me
SUMMARY:IT vještine
DESCRIPTION:Vrijeme potrebno za izvodjenje programa Jedan seminar\nKorisnici: Sudije\, državni tužioci. \nPredavači: \nDatum održavanja: 14-15. decembar 2023.g.
URL:https://cosdt.me/seminar/ix-modul-zajednicke-teme-za-nosioce-pravosudne-funkcije-it-vjestine/
LOCATION:Podgorica\, Montenegro
CATEGORIES:Seminari
GEO:42.4304196;19.2593642
END:VEVENT
BEGIN:VEVENT
DTSTART;VALUE=DATE:20231218
DTEND;VALUE=DATE:20231219
DTSTAMP:20260425T183909
CREATED:20231123T123133Z
LAST-MODIFIED:20231123T123133Z
UID:10046-1702857600-1702943999@cosdt.me
SUMMARY:Radionica o pružanju besplatne pravne pomoći
DESCRIPTION:
URL:https://cosdt.me/seminar/radionica-o-pruzanju-besplatne-pravne-pomoci/
LOCATION:Podgorica\, Montenegro
CATEGORIES:Seminari
GEO:42.4304196;19.2593642
END:VEVENT
BEGIN:VEVENT
DTSTART;TZID=Europe/Podgorica:20240307T080000
DTEND;TZID=Europe/Podgorica:20240307T170000
DTSTAMP:20260425T183909
CREATED:20240305T112248Z
LAST-MODIFIED:20240305T112248Z
UID:10350-1709798400-1709830800@cosdt.me
SUMMARY:Evropska konvencija za zaštitu ljudskih prava i osnovnih sloboda – EKLJP  Član 2 - pravo na život
DESCRIPTION:
URL:https://cosdt.me/seminar/evropska-konvencija-za-zastitu-ljudskih-prava-i-osnovnih-sloboda-ekljp-clan-2-pravo-na-zivot/
LOCATION:Podgorica\, Podgorica\, Montenegro
END:VEVENT
BEGIN:VEVENT
DTSTART;TZID=Europe/Podgorica:20240311T080000
DTEND;TZID=Europe/Podgorica:20240312T170000
DTSTAMP:20260425T183909
CREATED:20240305T115108Z
LAST-MODIFIED:20240305T115108Z
UID:10391-1710144000-1710262800@cosdt.me
SUMMARY:Zašita prava konkurencije
DESCRIPTION:
URL:https://cosdt.me/seminar/zasita-prava-konkurencije/
LOCATION:Podgorica\, Podgorica\, Montenegro
END:VEVENT
BEGIN:VEVENT
DTSTART;TZID=Europe/Podgorica:20240314T080000
DTEND;TZID=Europe/Podgorica:20240314T170000
DTSTAMP:20260425T183909
CREATED:20240305T103233Z
LAST-MODIFIED:20240305T103233Z
UID:10326-1710403200-1710435600@cosdt.me
SUMMARY:Zakon o vanparničnom postupku sa posebnim osvrtom na prava lica sa invaliditetom
DESCRIPTION:
URL:https://cosdt.me/seminar/zakon-o-vanparnicnom-postupku-sa-posebnim-osvrtom-na-prava-lica-sa-invaliditetom/
LOCATION:Podgorica\, Podgorica\, Montenegro
END:VEVENT
BEGIN:VEVENT
DTSTART;TZID=Europe/Podgorica:20240318T080000
DTEND;TZID=Europe/Podgorica:20240318T170000
DTSTAMP:20260425T183909
CREATED:20240305T102240Z
LAST-MODIFIED:20240305T102240Z
UID:10293-1710748800-1710781200@cosdt.me
SUMMARY:Saradnja i pružanje međunarodne pravne pomoći u krivičnim stvarima
DESCRIPTION:
URL:https://cosdt.me/seminar/saradnja-i-pruzanje-medunarodne-pravne-pomoci-u-krivicnim-stvarima-3/
LOCATION:Podgorica\, Podgorica\, Montenegro
END:VEVENT
BEGIN:VEVENT
DTSTART;TZID=Europe/Podgorica:20240320T080000
DTEND;TZID=Europe/Podgorica:20240321T170000
DTSTAMP:20260425T183909
CREATED:20240305T102451Z
LAST-MODIFIED:20240305T102451Z
UID:10303-1710921600-1711040400@cosdt.me
SUMMARY:Nasilje u porodici i rodno zasnovano nasilje (sa akcentom na Istanbulsku konvenciju\, femicid i proganjanje)
DESCRIPTION:
URL:https://cosdt.me/seminar/nasilje-u-porodici-i-rodno-zasnovano-nasilje-sa-akcentom-na-istanbulsku-konvenciju-femicid-i-proganjanje/
LOCATION:Podgorica\, Podgorica\, Montenegro
END:VEVENT
BEGIN:VEVENT
DTSTART;TZID=Europe/Podgorica:20240327T080000
DTEND;TZID=Europe/Podgorica:20240327T170000
DTSTAMP:20260425T183909
CREATED:20240305T111609Z
LAST-MODIFIED:20240305T111609Z
UID:10344-1711526400-1711558800@cosdt.me
SUMMARY:Stečaj
DESCRIPTION:
URL:https://cosdt.me/seminar/stecaj-3/
LOCATION:Podgorica\, Podgorica\, Montenegro
END:VEVENT
BEGIN:VEVENT
DTSTART;TZID=Europe/Podgorica:20240401T080000
DTEND;TZID=Europe/Podgorica:20240402T170000
DTSTAMP:20260425T183909
CREATED:20240305T103054Z
LAST-MODIFIED:20240305T103054Z
UID:10322-1711958400-1712077200@cosdt.me
SUMMARY:Izrada i obrazloženje građanskih odluka
DESCRIPTION:
URL:https://cosdt.me/seminar/izrada-i-obrazlozenje-gradanskih-odluka/
LOCATION:Podgorica\, Podgorica\, Montenegro
END:VEVENT
BEGIN:VEVENT
DTSTART;TZID=Europe/Podgorica:20240404T080000
DTEND;TZID=Europe/Podgorica:20240405T170000
DTSTAMP:20260425T183909
CREATED:20240305T102402Z
LAST-MODIFIED:20240305T102402Z
UID:10299-1712217600-1712336400@cosdt.me
SUMMARY:Krivični zakonik – izmjene i dopune sa posebnim osvrtom na nova krivična djela
DESCRIPTION:
URL:https://cosdt.me/seminar/krivicni-zakonik-izmjene-i-dopune-sa-posebnim-osvrtom-na-nova-krivicna-djela/
LOCATION:Podgorica\, Podgorica\, Montenegro
END:VEVENT
BEGIN:VEVENT
DTSTART;TZID=Europe/Podgorica:20240408T080000
DTEND;TZID=Europe/Podgorica:20240409T170000
DTSTAMP:20260425T183909
CREATED:20240305T111413Z
LAST-MODIFIED:20240305T111413Z
UID:10342-1712563200-1712682000@cosdt.me
SUMMARY:Intelektualna svojina (autorska i srodna prava\, patent)
DESCRIPTION:
URL:https://cosdt.me/seminar/intelektualna-svojina-autorska-i-srodna-prava-patent/
LOCATION:Podgorica\, Podgorica\, Montenegro
END:VEVENT
BEGIN:VEVENT
DTSTART;TZID=Europe/Podgorica:20240412T090000
DTEND;TZID=Europe/Podgorica:20240412T170000
DTSTAMP:20260425T183909
CREATED:20240305T102032Z
LAST-MODIFIED:20240305T102032Z
UID:10287-1712912400-1712941200@cosdt.me
SUMMARY:Pravno nevaljani dokazi sa posebnim osvrtom na skaj i druge aplikacije – nacionalna praksa i standardi međunarodnog prava)
DESCRIPTION:
URL:https://cosdt.me/seminar/pravno-nevaljani-dokazi-sa-posebnim-osvrtom-na-skaj-i-druge-aplikacije-nacionalna-praksa-i-standardi-medunarodnog-prava/
LOCATION:Podgorica\, Podgorica\, Montenegro
END:VEVENT
BEGIN:VEVENT
DTSTART;TZID=Europe/Podgorica:20240422T080000
DTEND;TZID=Europe/Podgorica:20240423T170000
DTSTAMP:20260425T183909
CREATED:20240305T103320Z
LAST-MODIFIED:20240305T103320Z
UID:10328-1713772800-1713891600@cosdt.me
SUMMARY:Stvarnopravni odnosi sa akcentom na sporna pitanja
DESCRIPTION:
URL:https://cosdt.me/seminar/stvarnopravni-odnosi-sa-akcentom-na-sporna-pitanja/
LOCATION:Podgorica\, Podgorica\, Montenegro
END:VEVENT
BEGIN:VEVENT
DTSTART;TZID=Europe/Podgorica:20240425T080000
DTEND;TZID=Europe/Podgorica:20240426T170000
DTSTAMP:20260425T183909
CREATED:20240305T114031Z
LAST-MODIFIED:20240305T114031Z
UID:10360-1714032000-1714150800@cosdt.me
SUMMARY:Član 10 - Sloboda izražavanja
DESCRIPTION:
URL:https://cosdt.me/seminar/clan-10-sloboda-izrazavanja-5/
LOCATION:Podgorica\, Podgorica\, Montenegro
END:VEVENT
BEGIN:VEVENT
DTSTART;TZID=Europe/Podgorica:20240429T080000
DTEND;TZID=Europe/Podgorica:20240430T170000
DTSTAMP:20260425T183909
CREATED:20240305T103353Z
LAST-MODIFIED:20240305T103353Z
UID:10330-1714377600-1714496400@cosdt.me
SUMMARY:Obligacioni odnosi
DESCRIPTION:
URL:https://cosdt.me/seminar/obligacioni-odnosi/
LOCATION:Podgorica\, Podgorica\, Montenegro
END:VEVENT
BEGIN:VEVENT
DTSTART;TZID=Europe/Podgorica:20240507T080000
DTEND;TZID=Europe/Podgorica:20240508T170000
DTSTAMP:20260425T183909
CREATED:20240305T114616Z
LAST-MODIFIED:20240305T114616Z
UID:10377-1715068800-1715187600@cosdt.me
SUMMARY:Etička i disciplinske odgovornost sudija i državnih tužilaca u skladu sa novinama u Zakonu o Sudskom savjetu i sudijama i Zakonu o državnom tužilaštvu
DESCRIPTION:
URL:https://cosdt.me/seminar/eticka-i-disciplinske-odgovornost-sudija-i-drzavnih-tuzilaca-u-skladu-sa-novinama-u-zakonu-o-sudskom-savjetu-i-sudijama-i-zakonu-o-drzavnom-tuzilastvu/
LOCATION:Podgorica\, Podgorica\, Montenegro
END:VEVENT
BEGIN:VEVENT
DTSTART;TZID=Europe/Podgorica:20240509T080000
DTEND;TZID=Europe/Podgorica:20240510T170000
DTSTAMP:20260425T183909
CREATED:20240305T102332Z
LAST-MODIFIED:20240305T102332Z
UID:10297-1715241600-1715360400@cosdt.me
SUMMARY:Izrada i obrazloženje krivičnih odluka sa akcentom na predlog tužioca i rješenje suda za određivanje\, odnosno produžavanje pritvora
DESCRIPTION:
URL:https://cosdt.me/seminar/izrada-i-obrazlozenje-krivicnih-odluka-sa-akcentom-na-predlog-tuzioca-i-rjesenje-suda-za-odredivanje-odnosno-produzavanje-pritvora/
LOCATION:Podgorica\, Podgorica\, Montenegro
END:VEVENT
BEGIN:VEVENT
DTSTART;TZID=Europe/Podgorica:20240513T080000
DTEND;TZID=Europe/Podgorica:20240514T170000
DTSTAMP:20260425T183909
CREATED:20240305T115041Z
LAST-MODIFIED:20240305T115041Z
UID:10389-1715587200-1715706000@cosdt.me
SUMMARY:Rodna ravnopravnost sa posebnim osvrtom na CEDAW konvenciju
DESCRIPTION:
URL:https://cosdt.me/seminar/rodna-ravnopravnost-sa-posebnim-osvrtom-na-cedaw-konvenciju-4/
LOCATION:Podgorica\, Podgorica\, Montenegro
END:VEVENT
BEGIN:VEVENT
DTSTART;TZID=Europe/Podgorica:20240515T080000
DTEND;TZID=Europe/Podgorica:20240516T170000
DTSTAMP:20260425T183909
CREATED:20240305T102624Z
LAST-MODIFIED:20240305T102624Z
UID:10310-1715760000-1715878800@cosdt.me
SUMMARY:Zločin iz mržnje i govor mržnje
DESCRIPTION:
URL:https://cosdt.me/seminar/zlocin-iz-mrznje-i-govor-mrznje-2/
LOCATION:Podgorica\, Podgorica\, Montenegro
END:VEVENT
BEGIN:VEVENT
DTSTART;TZID=Europe/Podgorica:20240517T080000
DTEND;TZID=Europe/Podgorica:20240517T170000
DTSTAMP:20260425T183909
CREATED:20240305T114547Z
LAST-MODIFIED:20240305T114547Z
UID:10375-1715932800-1715965200@cosdt.me
SUMMARY:Obuka na temu prava unutrašnjeg tržišta Evropske unije koja će se sprovesti u okviru projekta CLEUIM (Jean Monnet Chair in Law of the EU Internal Market) u saradnji sa Pravnim fakultetom Univerziteta Crne Gore
DESCRIPTION:
URL:https://cosdt.me/seminar/obuka-na-temu-prava-unutrasnjeg-trzista-evropske-unije-koja-ce-se-sprovesti-u-okviru-projekta-cleuim-jean-monnet-chair-in-law-of-the-eu-internal-market-u-saradnji-sa-pravnim-fakultetom-univerziteta/
LOCATION:Podgorica\, Podgorica\, Montenegro
END:VEVENT
BEGIN:VEVENT
DTSTART;TZID=Europe/Podgorica:20240527T080000
DTEND;TZID=Europe/Podgorica:20240528T170000
DTSTAMP:20260425T183909
CREATED:20240305T103442Z
LAST-MODIFIED:20240305T103442Z
UID:10334-1716796800-1716915600@cosdt.me
SUMMARY:Radni odnosi i sporna pitanja
DESCRIPTION:
URL:https://cosdt.me/seminar/radni-odnosi-i-sporna-pitanja/
LOCATION:Podgorica\, Podgorica\, Montenegro
END:VEVENT
BEGIN:VEVENT
DTSTART;TZID=Europe/Podgorica:20240530T080000
DTEND;TZID=Europe/Podgorica:20240531T170000
DTSTAMP:20260425T183909
CREATED:20240305T102930Z
LAST-MODIFIED:20240305T102930Z
UID:10320-1717056000-1717174800@cosdt.me
SUMMARY:Zakon o parničnom postupku i aktuelna pitanja i dileme koje se javljaju pri njegovoj praktičnoj primjeni sa akcentom na raspravu pred drugostepenim sudom
DESCRIPTION:
URL:https://cosdt.me/seminar/zakon-o-parnicnom-postupku-i-aktuelna-pitanja-i-dileme-koje-se-javljaju-pri-njegovoj-prakticnoj-primjeni-sa-akcentom-na-raspravu-pred-drugostepenim-sudom/
LOCATION:Podgorica\, Podgorica\, Montenegro
END:VEVENT
BEGIN:VEVENT
DTSTART;TZID=Europe/Podgorica:20240604T080000
DTEND;TZID=Europe/Podgorica:20240604T170000
DTSTAMP:20260425T183909
CREATED:20240305T114201Z
LAST-MODIFIED:20240305T114201Z
UID:10369-1717488000-1717520400@cosdt.me
SUMMARY:Poštovanje i ograničenje ljudskih prava u vanrednim okolnostima
DESCRIPTION:
URL:https://cosdt.me/seminar/postovanje-i-ogranicenje-ljudskih-prava-u-vanrednim-okolnostima/
LOCATION:Podgorica\, Podgorica\, Montenegro
END:VEVENT
BEGIN:VEVENT
DTSTART;TZID=Europe/Podgorica:20240607T080000
DTEND;TZID=Europe/Podgorica:20240608T170000
DTSTAMP:20260425T183909
CREATED:20240305T102133Z
LAST-MODIFIED:20240305T102133Z
UID:10289-1717747200-1717866000@cosdt.me
SUMMARY:Finansijska istraga\, forenzičko računovodstvo i oduzimanje imovinske koristi stečene krivičnim djelom i kriminalnom djelatnošću
DESCRIPTION:
URL:https://cosdt.me/seminar/finansijska-istraga-forenzicko-racunovodstvo-i-oduzimanje-imovinske-koristi-stecene-krivicnim-djelom-i-kriminalnom-djelatnoscu/
LOCATION:Podgorica\, Podgorica\, Montenegro
END:VEVENT
BEGIN:VEVENT
DTSTART;TZID=Europe/Podgorica:20240610T080000
DTEND;TZID=Europe/Podgorica:20240611T170000
DTSTAMP:20260425T183909
CREATED:20240305T114144Z
LAST-MODIFIED:20240305T114144Z
UID:10367-1718006400-1718125200@cosdt.me
SUMMARY:Član 1 Protokola 1 - pravo na imovinu
DESCRIPTION:
URL:https://cosdt.me/seminar/clan-1-protokola-1-pravo-na-imovinu/
LOCATION:Podgorica\, Podgorica\, Montenegro
END:VEVENT
END:VCALENDAR