BEGIN:VCALENDAR
VERSION:2.0
PRODID:-//COSDT - ECPv6.15.17.1//NONSGML v1.0//EN
CALSCALE:GREGORIAN
METHOD:PUBLISH
X-ORIGINAL-URL:https://cosdt.me
X-WR-CALDESC:Events for COSDT
REFRESH-INTERVAL;VALUE=DURATION:PT1H
X-Robots-Tag:noindex
X-PUBLISHED-TTL:PT1H
BEGIN:VTIMEZONE
TZID:Europe/Podgorica
BEGIN:DAYLIGHT
TZOFFSETFROM:+0100
TZOFFSETTO:+0200
TZNAME:CEST
DTSTART:20250330T010000
END:DAYLIGHT
BEGIN:STANDARD
TZOFFSETFROM:+0200
TZOFFSETTO:+0100
TZNAME:CET
DTSTART:20251026T010000
END:STANDARD
BEGIN:DAYLIGHT
TZOFFSETFROM:+0100
TZOFFSETTO:+0200
TZNAME:CEST
DTSTART:20260329T010000
END:DAYLIGHT
BEGIN:STANDARD
TZOFFSETFROM:+0200
TZOFFSETTO:+0100
TZNAME:CET
DTSTART:20261025T010000
END:STANDARD
BEGIN:DAYLIGHT
TZOFFSETFROM:+0100
TZOFFSETTO:+0200
TZNAME:CEST
DTSTART:20270328T010000
END:DAYLIGHT
BEGIN:STANDARD
TZOFFSETFROM:+0200
TZOFFSETTO:+0100
TZNAME:CET
DTSTART:20271031T010000
END:STANDARD
END:VTIMEZONE
BEGIN:VEVENT
DTSTART;VALUE=DATE:20260423
DTEND;VALUE=DATE:20260425
DTSTAMP:20260423T171649
CREATED:20260315T123008Z
LAST-MODIFIED:20260317T191436Z
UID:12117-1776902400-1777075199@cosdt.me
SUMMARY:Svojinsko-pravni odnosi i imovinsko pravo
DESCRIPTION:pravo službenosti\nsmetanje posjeda i zaštita državine\nuznemiravanje i oduzimanje svojine\ntumačenje zemljišnih knjiga\neksproprijacija i pitanja morskog dobra\n\nVrijeme potrebno za izvođenje programa:\nJedna dvodnevna obuka \nKorisnici:\nSudije \nPredavači:\nRadojka Nikolić\, sutkinja Vrhovnog suda CG u penziji\nRadonja Radonjić\, sudija Višeg suda u Podgorici\nOgnjana Boljević\, sutkinja Apelacionog suda CG\nNina Radunović\, sutkinja Višeg suda u Podgorici\nVojislavka Vuković Goločevac\, sutkinja Višeg suda u Podgorici
URL:https://cosdt.me/seminar/svojinsko-pravni-odnosi-i-imovinsko-pravo/
LOCATION:Podgorica\, Montenegro
GEO:42.4304196;19.2593642
END:VEVENT
BEGIN:VEVENT
DTSTART;TZID=Europe/Podgorica:20260424T090000
DTEND;TZID=Europe/Podgorica:20260424T170000
DTSTAMP:20260423T171649
CREATED:20260317T193002Z
LAST-MODIFIED:20260317T211007Z
UID:12594-1777021200-1777050000@cosdt.me
SUMMARY:Pripremanje glavne rasprave i izvođenje dokaza
DESCRIPTION:pripremanje glavne rasprave\ndostavljanje\npripremno ročište\nročište za glavnu raspravu\ndokazi\, izvođenje dokaza i ocjena dokaza\nzloupotreba procesnih prava i njeno sprječavanje\nposredovanje\n\nPredavač:Nataša Božović
URL:https://cosdt.me/seminar/ii-modul-gradanska-oblast-2/
END:VEVENT
BEGIN:VEVENT
DTSTART;VALUE=DATE:20260427
DTEND;VALUE=DATE:20260429
DTSTAMP:20260423T171649
CREATED:20260315T123008Z
LAST-MODIFIED:20260317T191436Z
UID:12119-1777248000-1777420799@cosdt.me
SUMMARY:Izrada i obrazloženje sudskih odluka
DESCRIPTION:metodologija izrade sudskih odluka\nobrazloženje činjeničnog i pravnog osnova u skladu sa standardima ESLJP\nujednačeni stil pisanja\n\nVrijeme potrebno za izvođenje programa:\nJedna dvodnevna obuka/radionica \nKorisnici:\nSudije \nPredavači:\nRadojka Nikolić\, sutkinja Vrhovnog suda CG u penziji\nSenka Danilović\, sutkinja Vrhovnog suda CG\nRadonja Radonjić\, sudija Višeg suda u Podgorici\nOgnjana Boljević\, sutkinja Apelacionog suda CG
URL:https://cosdt.me/seminar/izrada-i-obrazlozenje-sudskih-odluka/
LOCATION:Podgorica\, Montenegro
GEO:42.4304196;19.2593642
END:VEVENT
BEGIN:VEVENT
DTSTART;TZID=Europe/Podgorica:20260427T090000
DTEND;TZID=Europe/Podgorica:20260427T170000
DTSTAMP:20260423T171649
CREATED:20260317T193002Z
LAST-MODIFIED:20260317T211007Z
UID:12595-1777280400-1777309200@cosdt.me
SUMMARY:Radnje dokazivanja
DESCRIPTION:pretresanje stana\, stvari i lica\nuviđaj i rekonstrukcija\nmjere tajnog nadzora\n\nPredavač:Sanja Jovićević
URL:https://cosdt.me/seminar/iii-modul-krivicna-oblast/
END:VEVENT
BEGIN:VEVENT
DTSTART;TZID=Europe/Podgorica:20260428T090000
DTEND;TZID=Europe/Podgorica:20260428T170000
DTSTAMP:20260423T171649
CREATED:20260317T193145Z
LAST-MODIFIED:20260317T211009Z
UID:12674-1777366800-1777395600@cosdt.me
SUMMARY:Program pripravnika: Vanparnični postupak
DESCRIPTION:II GRAĐANSKOPRAVNA OBLAST \n\n	Uređenje ličnih stanja\n	Uređenje porodičnih odnosa i\n	Uređenje imovinskih odnosa\n\nPredavači:Ognjana Boljević\, sutkinja Apelacionog suda Crne GoreVojislavka Vuković Goločevac\, sutkinja Višeg suda u Podgorici
URL:https://cosdt.me/seminar/program-pripravnika-vanparnicni-postupak-3/
END:VEVENT
BEGIN:VEVENT
DTSTART;TZID=Europe/Podgorica:20260428T090000
DTEND;TZID=Europe/Podgorica:20260428T170000
DTSTAMP:20260423T171649
CREATED:20260317T211007Z
LAST-MODIFIED:20260317T211007Z
UID:12928-1777366800-1777395600@cosdt.me
SUMMARY:Radnje dokazivanja: saslušanje\, svjedoci i vještačenje
DESCRIPTION:Radnje dokazivanja\nsaslušanje osumnjičenog i okrivljenog;\nsaslušanje oštećenog sa posebnim osvrtom na vještine saslušanja žrtve;\nsvjedok;\nvještačenje; primjena Zakona o DNK registru;\nfotografije i audiovizuelni snimci\n\nPredavač:Vlado Novović
URL:https://cosdt.me/seminar/radnje-dokazivanja-saslusanje-svjedoci-i-vjestacenje/
END:VEVENT
BEGIN:VEVENT
DTSTART;VALUE=DATE:20260429
DTEND;VALUE=DATE:20260501
DTSTAMP:20260423T171649
CREATED:20260315T123008Z
LAST-MODIFIED:20260317T191436Z
UID:12114-1777420800-1777593599@cosdt.me
SUMMARY:Organizacija postupka i profesionalne vještine
DESCRIPTION:pisanje sudskih i tužilačkih akata\npravo na obrazloženu odluku\nvještine prezentacije u sudnici\n\nVrijeme potrebno za izvođenje programa:\nJedna dvodnevna radionica \nKorisnici:\nSudije i državni tužioci \nPredavači:\nZoran Šćepanović\, sudija Vrhovnog suda CG\nMiraš Radović\, sudija Vrhovnog suda CG u penziji\nSanja Jovićević\, državna tužiteljka\, Specijalno državno tužilaštvo\nAna Radović\, državna tužiteljka u Višem državnom tužilaštvu u Podgorici
URL:https://cosdt.me/seminar/organizacija-postupka-i-profesionalne-vjestine/
LOCATION:Podgorica\, Montenegro
GEO:42.4304196;19.2593642
END:VEVENT
BEGIN:VEVENT
DTSTART;TZID=Europe/Podgorica:20260429T090000
DTEND;TZID=Europe/Podgorica:20260429T170000
DTSTAMP:20260423T171649
CREATED:20260317T193014Z
LAST-MODIFIED:20260317T211007Z
UID:12598-1777453200-1777482000@cosdt.me
SUMMARY:Međunarodna pravna pomoć u krivičnim stvarima
DESCRIPTION:Zakon o međunarodnoj pravnoj pomoći u krivičnim stvarima\nbilateralni ugovori o pravnoj pomoći u krivičnim stvarima\nevropske konvencije iz oblasti MPP u krivičnim stvarima\nsadržina zamolnice i kako je pravilno sačiniti\n\nPredavač:Mira Samardžić
URL:https://cosdt.me/seminar/iv-modul-krivicna-oblast/
END:VEVENT
BEGIN:VEVENT
DTSTART;TZID=Europe/Podgorica:20260429T090000
DTEND;TZID=Europe/Podgorica:20260429T170000
DTSTAMP:20260423T171649
CREATED:20260317T193208Z
LAST-MODIFIED:20260317T193208Z
UID:12691-1777453200-1777482000@cosdt.me
SUMMARY:Program pripravnika: Pravo privrednih društava
DESCRIPTION:Modul 1: Pravo privrednih društava \nIV PRIVREDNOPRAVNA OBLAST \n\nPreduzetnik (pojam i osnovne karakteristike\, osnivanje\, organizacija\, prestanak)\nDruštvo sa ograničenom odgovornošću (pojam i osnovne karakteristike\, osnivanje\, organizacija\, prestanak)\nAkcionarsko društvo (pojam i osnovne karakteristike\, osnivanje\, organizacija\, prestanak)\nOrtačko društvo (pojam i osnovne karakteristike\, osnivanje\, organizacija\, prestanak)\nKomanditno društvo (pojam i osnovne karakteristike\, osnivanje\, organizacija\, prestanak) i\nDio stranog pravnog društva (pojam i osnovne karakteristike\, osnivanje\, organizacija\, prestanak)\n\nPredavači:\nNevenka Popović\, sutkinja Vrhovnog suda Crne GoreMarijana Pavićević\, sutkinja Vrhovnog suda Crne Gore
URL:https://cosdt.me/seminar/program-pripravnika-pravo-privrednih-drustava-3/
END:VEVENT
BEGIN:VEVENT
DTSTART;TZID=Europe/Podgorica:20260430T090000
DTEND;TZID=Europe/Podgorica:20260430T170000
DTSTAMP:20260423T171649
CREATED:20260317T193014Z
LAST-MODIFIED:20260317T211007Z
UID:12599-1777539600-1777568400@cosdt.me
SUMMARY:Vanparnični postupak
DESCRIPTION:pokretanje postupka i stranke u vanparničnom postupku\nrazlike između parničnog i vanparničnog postupka\nlišenje roditeljskog prava\n\nPredavač:Ognjana Boljević
URL:https://cosdt.me/seminar/iv-modul-gradanska-oblast/
END:VEVENT
BEGIN:VEVENT
DTSTART;TZID=Europe/Podgorica:20260430T090000
DTEND;TZID=Europe/Podgorica:20260430T170000
DTSTAMP:20260423T171649
CREATED:20260317T193220Z
LAST-MODIFIED:20260317T211009Z
UID:12693-1777539600-1777568400@cosdt.me
SUMMARY:Program pripravnika: Stečaj
DESCRIPTION:IV PRIVREDNOPRAVNA OBLAST \n\n	Načela stečajnog postupka\n	Stečajni postupak\n	Pokretanje stečajnog postupka\n	Stečajnu masu i\n	Odluke\n\nPredavači:Ivan Kovačević sudija Privrednog suda Crne GoreRadojica Grba\, stečajni upravnik
URL:https://cosdt.me/seminar/program-pripravnika-stecaj-2/
END:VEVENT
BEGIN:VEVENT
DTSTART;TZID=Europe/Podgorica:20260504T090000
DTEND;TZID=Europe/Podgorica:20260504T170000
DTSTAMP:20260423T171649
CREATED:20260317T193014Z
LAST-MODIFIED:20260317T211008Z
UID:12600-1777885200-1777914000@cosdt.me
SUMMARY:Dostavljanje pismena\, razmatranje spisa i zapisnici
DESCRIPTION:Dostavljanje pismena i razmatranje spisa\nPodnesci i zapisnici\n\nPredavač:Igor Đuričković
URL:https://cosdt.me/seminar/ii-modul-krivicna-oblast-2/
END:VEVENT
BEGIN:VEVENT
DTSTART;VALUE=DATE:20260505
DTEND;VALUE=DATE:20260506
DTSTAMP:20260423T171649
CREATED:20260315T123008Z
LAST-MODIFIED:20260317T191449Z
UID:12124-1777939200-1778025599@cosdt.me
SUMMARY:Intelektualna svojina (uključujući vještačku inteligenciju)
DESCRIPTION:autorska i srodna prava\nintelektualna svojina i vještačka inteligencija\n\nVrijeme potrebno za izvođenje programa:\nJedna jednodnevna obuka \nKorisnici:\nSudije \nPredavači:\nDijana Raičković\, sutkinja Apelacionog suda CG u penziji\nDanijela Vukčević\, sutkinja Apelacionog suda CG
URL:https://cosdt.me/seminar/intelektualna-svojina-ukljucujuci-vjestacku-inteligenciju/
LOCATION:Podgorica\, Montenegro
GEO:42.4304196;19.2593642
END:VEVENT
BEGIN:VEVENT
DTSTART;TZID=Europe/Podgorica:20260505T090000
DTEND;TZID=Europe/Podgorica:20260505T170000
DTSTAMP:20260423T171649
CREATED:20260317T193014Z
LAST-MODIFIED:20260317T211008Z
UID:12601-1777971600-1778000400@cosdt.me
SUMMARY:Nasilje u porodici\, rodno zasnovano nasilje i femicid
DESCRIPTION:Nasilje u porodici i rodno zasnovano nasilje; femicid\, primjena Istanbulske konvencije\nmeđunarodni instrumenti i sudska praksa kada je u pitanju nasilje u porodici\, sa posebnim akcentom na Istanbulsku konvenciju\n\nPredavač:Gorica Đalović
URL:https://cosdt.me/seminar/xiii-modul-krivicna-oblast/
END:VEVENT
BEGIN:VEVENT
DTSTART;VALUE=DATE:20260506
DTEND;VALUE=DATE:20260507
DTSTAMP:20260423T171649
CREATED:20260315T123007Z
LAST-MODIFIED:20260317T191436Z
UID:12112-1778025600-1778111999@cosdt.me
SUMMARY:Krivična djela protiv intelektualne svojine
DESCRIPTION:krivična odgovornost zbog neovlašćenog korišćenja autorskog djela\nmeđunarodni standardi i uporedna praksa\nintelektualna svojina u sajber prostoru\n\nVrijeme potrebno za izvođenje programa:\nJedna jednodnevna obuka \nKorisnici:\nSudije i državni tužioci\, predstavnici Uprave policije \nPredavači:\nVukas Radonjić\, državni tužilac\, Specijalno državno tužilaštvo\nIvana Becić\, sutkinja\, Osnovni sud u Podgorici
URL:https://cosdt.me/seminar/krivicna-djela-protiv-intelektualne-svojine-2/
LOCATION:Podgorica\, Montenegro
GEO:42.4304196;19.2593642
END:VEVENT
BEGIN:VEVENT
DTSTART;TZID=Europe/Podgorica:20260506T090000
DTEND;TZID=Europe/Podgorica:20260506T170000
DTSTAMP:20260423T171649
CREATED:20260317T193014Z
LAST-MODIFIED:20260317T211008Z
UID:12602-1778058000-1778086800@cosdt.me
SUMMARY:Optužnica i sporazum o priznanju krivice
DESCRIPTION:optužnica i preispitivanje optužnice\nsporazum o priznanju krivice\n\nPredavač:Vesna Kovačević
URL:https://cosdt.me/seminar/v-modul-krivicna-oblast/
END:VEVENT
BEGIN:VEVENT
DTSTART;VALUE=DATE:20260507
DTEND;VALUE=DATE:20260509
DTSTAMP:20260423T171649
CREATED:20260315T123007Z
LAST-MODIFIED:20260317T191421Z
UID:12095-1778112000-1778284799@cosdt.me
SUMMARY:Oduzimanje imovinske koristi stečene kriminalnom djelatnošću
DESCRIPTION:Postupak trajnog oduzimanja imovinske koristi stečene kriminalnom djelatnošću\nTeret dokazivanja\n\nVrijeme potrebno za izvođenje programa:\nJedna dvodnevna obuka \nKorisnici:\nSudije i državni tužioci\, predstavnici FOJ-a\, savjetnici ekonomsko-finansijske struke i\npredstavnici Uprave za državnu imovinu \nPredavači:\nVladimir Novović\, glavni specijalni tužilac\, Specijalno državno tužilaštvo\nPredrag Tabaš\, sudija Apelacionog suda CG\nJovanka Krunić\, stručna saradnica\, Specijalno državno tužilaštvo
URL:https://cosdt.me/seminar/oduzimanje-imovinske-koristi-stecene-kriminalnom-djelatnoscu/
LOCATION:Podgorica\, Montenegro
GEO:42.4304196;19.2593642
END:VEVENT
BEGIN:VEVENT
DTSTART;TZID=Europe/Podgorica:20260507T090000
DTEND;TZID=Europe/Podgorica:20260507T170000
DTSTAMP:20260423T171649
CREATED:20260317T193134Z
LAST-MODIFIED:20260317T211009Z
UID:12666-1778144400-1778173200@cosdt.me
SUMMARY:Program pripravnika: Građansko procesno pravo - Opšti dio
DESCRIPTION:II GRAĐANSKOPRAVNA OBLAST \n\n	Stvarna\, mjesna\, funkcionalna i apsolutna nadležnost suda\n	Nadležnost sudova u sporovima sa međunarodnim elementom\n	Izuzeće\n	Parničnu sposobnost stranaka\n	Računanje rokova\n	Dostavljanje pismena\n	Parnične troškove\n	Tužbu i sadržine tužbe\n	Vrste tužbi\n	Prethodno ispitivanje tužbe i mjere za otklanjanje nedostataka u tužbi\n	Odgovor na tužbu\n	Procesno pravne i materijalno pravne prigovore\n	Suparničarstvo i\n	Učešće trećih lica u parnici\n\nPredavači:Miodrag Pešić\, predsjednik Upravnog suda Crne GoreRadonja Radonjić\, sudija Višeg suda u Podgorici
URL:https://cosdt.me/seminar/program-pripravnika-gradansko-procesno-pravo-opsti-dio/
END:VEVENT
BEGIN:VEVENT
DTSTART;TZID=Europe/Podgorica:20260507T090000
DTEND;TZID=Europe/Podgorica:20260507T170000
DTSTAMP:20260423T171649
CREATED:20260317T211008Z
LAST-MODIFIED:20260317T211008Z
UID:12934-1778144400-1778173200@cosdt.me
SUMMARY:Glavni pretres
DESCRIPTION:Predavač:Milenka Seka Žižić
URL:https://cosdt.me/seminar/glavni-pretres/
END:VEVENT
BEGIN:VEVENT
DTSTART;TZID=Europe/Podgorica:20260508T090000
DTEND;TZID=Europe/Podgorica:20260508T170000
DTSTAMP:20260423T171649
CREATED:20260317T193015Z
LAST-MODIFIED:20260317T211008Z
UID:12604-1778230800-1778259600@cosdt.me
SUMMARY:Nasljedno pravo
DESCRIPTION:naslednici\ntestament\ntužbe iz nasljedno pravnih odnosa\n\nPredavač:Nataša Božović
URL:https://cosdt.me/seminar/ix-modul-gradanska-oblast/
END:VEVENT
BEGIN:VEVENT
DTSTART;TZID=Europe/Podgorica:20260508T090000
DTEND;TZID=Europe/Podgorica:20260508T170000
DTSTAMP:20260423T171649
CREATED:20260317T211009Z
LAST-MODIFIED:20260317T211009Z
UID:13000-1778230800-1778259600@cosdt.me
SUMMARY:Program pripravnika: Građansko procesno pravo - Opšti dio
DESCRIPTION:II GRAĐANSKOPRAVNA OBLAST \n\n	Stvarna\, mjesna\, funkcionalna i apsolutna nadležnost suda\n	Nadležnost sudova u sporovima sa međunarodnim elementom\n	Izuzeće\n	Parničnu sposobnost stranaka\n	Računanje rokova\n	Dostavljanje pismena\n	Parnične troškove\n	Tužbu i sadržine tužbe\n	Vrste tužbi\n	Prethodno ispitivanje tužbe i mjere za otklanjanje nedostataka u tužbi\n	Odgovor na tužbu\n	Procesno pravne i materijalno pravne prigovore\n	Suparničarstvo i\n	Učešće trećih lica u parnici\n\nPredavači:Miodrag Pešić\, predsjednik Upravnog suda Crne GoreRadonja Radonjić\, sudija Višeg suda u Podgorici
URL:https://cosdt.me/seminar/program-pripravnika-gradansko-procesno-pravo-opsti-dio-4/
END:VEVENT
BEGIN:VEVENT
DTSTART;VALUE=DATE:20260511
DTEND;VALUE=DATE:20260513
DTSTAMP:20260423T171649
CREATED:20260315T123008Z
LAST-MODIFIED:20260317T191436Z
UID:12118-1778457600-1778630399@cosdt.me
SUMMARY:Radno pravo
DESCRIPTION:zakonitost odluka o izboru\, zasnivanju i prestanku radnog odnosa\nmobing i uznemiravanje na radu\ndiskriminacija\nhibridni oblici angažmana (ugovor o djelu\, “freelance”\, digitalne platforme)\nnaknada štete zaposlenima\n\nVrijeme potrebno za izvođenje programa:\nJedna dvodnevna obuka \nKorisnici:\nSudije \nPredavači:\nRadojka Nikolić\, sutkinja Vrhovnog suda CG u penziji\nVojislavka Vuković Goločevac\, sutkinja Višeg suda u Podgorici\nTamara Brnović\, sutkinja Višeg suda u Podgorici\nGordana Nikolić\, načelnica Odjeljenja za posebne obuke u COSDT
URL:https://cosdt.me/seminar/radno-pravo-2/
LOCATION:Podgorica\, Montenegro
GEO:42.4304196;19.2593642
END:VEVENT
BEGIN:VEVENT
DTSTART;TZID=Europe/Podgorica:20260511T090000
DTEND;TZID=Europe/Podgorica:20260511T170000
DTSTAMP:20260423T171649
CREATED:20260317T193025Z
LAST-MODIFIED:20260317T211142Z
UID:12607-1778490000-1778518800@cosdt.me
SUMMARY:Presuda i pravni lijekovi
DESCRIPTION:presuda i pravni lijekovi\n\nPredavač:Zorica Milanović
URL:https://cosdt.me/seminar/vi-modul-krivicna-oblast/
END:VEVENT
BEGIN:VEVENT
DTSTART;TZID=Europe/Podgorica:20260512T090000
DTEND;TZID=Europe/Podgorica:20260512T170000
DTSTAMP:20260423T171649
CREATED:20260317T193025Z
LAST-MODIFIED:20260317T211008Z
UID:12608-1778576400-1778605200@cosdt.me
SUMMARY:Međunarodna pravna pomoć u građanskim stvarima
DESCRIPTION:Zakon o međunarodnom privatnom pravu\nNadležnost suda u sporovima sa međunarodnim elementom\nMjerodavno pravo u sporovima sa međunarodnim elementom\n\nPredavač:Marijana Pavićević
URL:https://cosdt.me/seminar/xi-modul-gradanska-oblast/
END:VEVENT
BEGIN:VEVENT
DTSTART;TZID=Europe/Podgorica:20260513T090000
DTEND;TZID=Europe/Podgorica:20260513T170000
DTSTAMP:20260423T171649
CREATED:20260317T193025Z
LAST-MODIFIED:20260317T211008Z
UID:12609-1778662800-1778691600@cosdt.me
SUMMARY:Simulacija suđenja
DESCRIPTION:Predavač:Milenka Seka Žižić
URL:https://cosdt.me/seminar/v-modul-krivicna-oblast-3/
END:VEVENT
BEGIN:VEVENT
DTSTART;TZID=Europe/Podgorica:20260513T090000
DTEND;TZID=Europe/Podgorica:20260513T170000
DTSTAMP:20260423T171649
CREATED:20260317T193156Z
LAST-MODIFIED:20260317T211009Z
UID:12677-1778662800-1778691600@cosdt.me
SUMMARY:Program pripravnika: Izvršni postupak
DESCRIPTION:II GRAĐANSKOPRAVNA OBLAST \n\n	Načela izvršnog postupka\n	Razgraničenje nadležnosti suda i javnih izvršitelja\n	Izvršenje na nepokretnostima i na pokretnim stvarima i\n	Privremene mjere\n\nPredavači:Sanja Konatar\, sutkinja Višeg suda u Bijelom PoljuVeljko Bulatović\, sudija Osnovnog suda u Kotoru
URL:https://cosdt.me/seminar/program-pripravnika-izvrsni-postupak-2/
END:VEVENT
BEGIN:VEVENT
DTSTART;VALUE=DATE:20260514
DTEND;VALUE=DATE:20260516
DTSTAMP:20260423T171649
CREATED:20260315T123007Z
LAST-MODIFIED:20260317T191421Z
UID:12096-1778716800-1778889599@cosdt.me
SUMMARY:Nasilje u porodici i rodno zasnovano nasilje
DESCRIPTION:primjena Uputstva VDT-a za postupanje državnih tužilaca u slučajevima nasilja u\n\nporodici ili porodičnoj zajednici \n\nIstanbulska konvencija\nfemicid\nzaštita žrtava (sa akcentom na primjenu Smjernica za ostvarivanje prava na\n\nnaknadu štete žrtvama u krivičnim postupcima (za krivična djela trgovine ljudima\,\nnasilja u porodici ili porodičnoj zajednici\, ratnih zločina i drugih krivičnih djela)\nupotreba IKT tehnologije u izvršenju i istraživanju krivičnog djela trgovine ljudima) \n\nprimjena Smjernica za kaznenu politiku za krivična djela rodno zasnovanog nasilja\npraksa ESLJP\n\nVrijeme potrebno za izvođenje programa:\nNajmanje jedna obuka \nKorisnici:\nSudije i državni tužioci\, predstavnici Centra za socijalni rad\, stručna služba\, predstavnici\nUprave policije – ovlašćena lica\, članovi operativnog tima\, kontakt tačke \nPredavači:\nDanka Živković\, državna tužiteljka u Vrhovnom državnom tužilaštvu\nAna Radović\, državna tužiteljka u Višem državnom tužilaštvu u Podgorici\nRade Ćetković\, sudija Osnovnog suda u Podgorici \nDijana Popović Gavranović\, načelnica Stručne službe za postupanje prema\nmaloljetnicima\, Vrhovno državno tužilaštvo Crne Gore\,
URL:https://cosdt.me/seminar/nasilje-u-porodici-i-rodno-zasnovano-nasilje/
LOCATION:Podgorica\, Montenegro
GEO:42.4304196;19.2593642
END:VEVENT
BEGIN:VEVENT
DTSTART;TZID=Europe/Podgorica:20260514T090000
DTEND;TZID=Europe/Podgorica:20260514T170000
DTSTAMP:20260423T171649
CREATED:20260317T193025Z
LAST-MODIFIED:20260317T211008Z
UID:12610-1778749200-1778778000@cosdt.me
SUMMARY:Zakon o izvršenju i obezbjeđenju
DESCRIPTION:Predavač:Nevenka Popović
URL:https://cosdt.me/seminar/v-modul-gradanska-oblast/
END:VEVENT
BEGIN:VEVENT
DTSTART;TZID=Europe/Podgorica:20260514T090000
DTEND;TZID=Europe/Podgorica:20260514T170000
DTSTAMP:20260423T171649
CREATED:20260317T193157Z
LAST-MODIFIED:20260317T211009Z
UID:12681-1778749200-1778778000@cosdt.me
SUMMARY:Program pripravnika: Stvarno pravo
DESCRIPTION:II GRAĐANSKOPRAVNA OBLAST \n\n	Svojinu i modalitete prava svojine\n	Sticanje prava svojine na pokretnim i nepokretnim stvarima\n	Državinu\n	Tužbe za zaštitu svojine i državine\n	Stvarne službenosti (zasnivanje\, vrste\, prestanak) i\n	Posebne slučajeve stvarnih službenosti – nužni prolaz\n\nPredavači:Ljiljana Šoškić\, sutkinja Vrhovnog suda Crne GoreRadojka Nikolić\, sutkinja Vrhovnog suda Crne Gore u penziji
URL:https://cosdt.me/seminar/program-pripravnika-stvarno-pravo-3/
END:VEVENT
BEGIN:VEVENT
DTSTART;TZID=Europe/Podgorica:20260515T090000
DTEND;TZID=Europe/Podgorica:20260515T170000
DTSTAMP:20260423T171649
CREATED:20260317T193025Z
LAST-MODIFIED:20260317T211008Z
UID:12611-1778835600-1778864400@cosdt.me
SUMMARY:Mjere upozorenja\, mjere bezbjednosti i uslovni otpust
DESCRIPTION:mjere upozorenja\nmjere bezbjednosti\nuslovni otpust\nrehabilitacija\nzastarjelost krivičnog gonjenja\n\nPredavač:Suzana Mugoša
URL:https://cosdt.me/seminar/x-modul-krivicna-oblast/
END:VEVENT
END:VCALENDAR