BEGIN:VCALENDAR
VERSION:2.0
PRODID:-//COSDT - ECPv6.15.17.1//NONSGML v1.0//EN
CALSCALE:GREGORIAN
METHOD:PUBLISH
X-WR-CALNAME:COSDT
X-ORIGINAL-URL:https://cosdt.me
X-WR-CALDESC:Events for COSDT
REFRESH-INTERVAL;VALUE=DURATION:PT1H
X-Robots-Tag:noindex
X-PUBLISHED-TTL:PT1H
BEGIN:VTIMEZONE
TZID:Europe/Podgorica
BEGIN:DAYLIGHT
TZOFFSETFROM:+0100
TZOFFSETTO:+0200
TZNAME:CEST
DTSTART:20240331T010000
END:DAYLIGHT
BEGIN:STANDARD
TZOFFSETFROM:+0200
TZOFFSETTO:+0100
TZNAME:CET
DTSTART:20241027T010000
END:STANDARD
BEGIN:DAYLIGHT
TZOFFSETFROM:+0100
TZOFFSETTO:+0200
TZNAME:CEST
DTSTART:20250330T010000
END:DAYLIGHT
BEGIN:STANDARD
TZOFFSETFROM:+0200
TZOFFSETTO:+0100
TZNAME:CET
DTSTART:20251026T010000
END:STANDARD
BEGIN:DAYLIGHT
TZOFFSETFROM:+0100
TZOFFSETTO:+0200
TZNAME:CEST
DTSTART:20260329T010000
END:DAYLIGHT
BEGIN:STANDARD
TZOFFSETFROM:+0200
TZOFFSETTO:+0100
TZNAME:CET
DTSTART:20261025T010000
END:STANDARD
BEGIN:DAYLIGHT
TZOFFSETFROM:+0100
TZOFFSETTO:+0200
TZNAME:CEST
DTSTART:20270328T010000
END:DAYLIGHT
BEGIN:STANDARD
TZOFFSETFROM:+0200
TZOFFSETTO:+0100
TZNAME:CET
DTSTART:20271031T010000
END:STANDARD
END:VTIMEZONE
BEGIN:VEVENT
DTSTART;VALUE=DATE:20260211
DTEND;VALUE=DATE:20260213
DTSTAMP:20260424T002809
CREATED:20260315T123007Z
LAST-MODIFIED:20260317T191421Z
UID:12105-1770768000-1770940799@cosdt.me
SUMMARY:Zakon o oružju
DESCRIPTION:klasifikacija oružja po kategorijama\, pravila prenošenja\, nošenja i držanja\ntrgovina oružjem sa akcentom na čl. 403b KZ-a\nizmjene KZ-a u vezi sa krivičnim djelima čiji je predmet izvršenja oružje\n\nVrijeme potrebno za izvođenje programa:\nJedna dvodnevna obuka \nKorisnici:\nSudije i državni tužioci\, predstavnici Uprave policije \nPredavači:
URL:https://cosdt.me/seminar/zakon-o-oruzju/
LOCATION:Podgorica\, Montenegro
GEO:42.4304196;19.2593642
END:VEVENT
BEGIN:VEVENT
DTSTART;VALUE=DATE:20251215
DTEND;VALUE=DATE:20251217
DTSTAMP:20260424T002809
CREATED:20250313T124009Z
LAST-MODIFIED:20250313T124009Z
UID:11245-1765756800-1765929599@cosdt.me
SUMMARY:Zaštita prava konkurencije;  Državna pomoć
DESCRIPTION:Vrijeme potrebno za izvodjenje programa\nNajmanje jedna obuka\nKorisnici: sudije i državni tužioci.\nPredavači:\nMaja Živaljević\, sutkinja Višeg suda za prekršaje\nLjiljana Šoškić\, sutkinja Upravnog suda CG
URL:https://cosdt.me/seminar/zastita-prava-konkurencije-drzavna-pomoc/
LOCATION:Podgorica\, Montenegro
GEO:42.4304196;19.2593642
END:VEVENT
BEGIN:VEVENT
DTSTART;VALUE=DATE:20251210
DTEND;VALUE=DATE:20251212
DTSTAMP:20260424T002809
CREATED:20250313T122629Z
LAST-MODIFIED:20250313T122629Z
UID:11227-1765324800-1765497599@cosdt.me
SUMMARY:PRAVNE PRETPOSTAVKE PROCESA PROŠIRENJA EU. PRAVNI INSTRUMENTI EU KOJI SE POSTEPENO TRANSPONUJU U CRNOGORSKI PRAVNI POREDAK
DESCRIPTION:Vrijeme potrebno za izvođenje programa:\nJedan dvodnevni seminar\nPredavači:\nMirjana Popović\, predsjednica Apelacionog suda CG\nMiloš Vukčević\, profesor na Univerzitetu Mediteran\nTatjana Ljujić\, sudija Vrhovnog suda Crne Gore\nKorisnici:\nGrupa sudija koji pohađaju program obuke o pravu EU\, eventualno advokati
URL:https://cosdt.me/seminar/pravne-pretpostavke-procesa-prosirenja-eu-pravni-instrumenti-eu-koji-se-postepeno-transponuju-u-crnogorski-pravni-poredak/
LOCATION:Podgorica\, Montenegro
GEO:42.4304196;19.2593642
END:VEVENT
BEGIN:VEVENT
DTSTART;VALUE=DATE:20251208
DTEND;VALUE=DATE:20251210
DTSTAMP:20260424T002809
CREATED:20250313T124114Z
LAST-MODIFIED:20250313T124114Z
UID:11248-1765152000-1765324799@cosdt.me
SUMMARY:IT vještine (IT sistemi i servisi u službi pravosuđa\, korišćenje vještačke inteligencije i digitalizacija pravosuđa\, pretraga iz otvorenih izvora i društvene mreže\, digitalna forenzika)
DESCRIPTION:Vrijeme potrebno za izvodjenje programa\nJedna obuka\nKorisnici: sudije\, državni tužioci.\nPredavači:\nMiloš Žižić\, sistem inžinjer\, Sekretarijat Sudskog savjeta\,\nBojan Nedović\, Stručna služba za informacione sisteme i digitalne dokaze SDT
URL:https://cosdt.me/seminar/it-vjestine-it-sistemi-i-servisi-u-sluzbi-pravosuda-koriscenje-vjestacke-inteligencije-i-digitalizacija-pravosuda-pretraga-iz-otvorenih-izvora-i-drustvene-mreze-digitalna-forenzika-2/
LOCATION:Podgorica\, Montenegro
GEO:42.4304196;19.2593642
END:VEVENT
BEGIN:VEVENT
DTSTART;VALUE=DATE:20251205
DTEND;VALUE=DATE:20251207
DTSTAMP:20260424T002809
CREATED:20250313T122954Z
LAST-MODIFIED:20250313T122954Z
UID:11231-1764892800-1765065599@cosdt.me
SUMMARY:Vještačenje u sudskim postupcima sa akcentom na ulogu vještaka
DESCRIPTION:Vrijeme potrebno za izvođenje programa:\nJedna obuka\nKorisnici: sudije\, državni tužioci i sudski vještaci.\nPredavači:\nDanijela Vukčević\, sutkinja Apelacionog suda\nAna Radović\, državna tužiteljka u Višem državnom tužilaštvu u Podgorici
URL:https://cosdt.me/seminar/vjestacenje-u-sudskim-postupcima-sa-akcentom-na-ulogu-vjestaka-2/
LOCATION:Podgorica\, Montenegro
GEO:42.4304196;19.2593642
END:VEVENT
BEGIN:VEVENT
DTSTART;VALUE=DATE:20251203
DTEND;VALUE=DATE:20251205
DTSTAMP:20260424T002809
CREATED:20250313T124325Z
LAST-MODIFIED:20250313T124325Z
UID:11253-1764720000-1764892799@cosdt.me
SUMMARY:Efikasnost suđenja
DESCRIPTION:•	Upravljanje predmetima/ case menadžment\n•	Povećanje efikasnosti postupka kroz djelotvornu sudsku raspravu\n•	Sprečavanje zloupotrebe prava   \nVrijeme potrebno za izvodjenje programa\nNajmanje jedna obuka\nKorisnici: sudije\, državni tužioci.\nPredavači:\nMiodrag Pešić\, predsjednik Upravnog suda CG\nMiraš Radović\, sudija Vrhovnog suda u penziji\nMilica Bojović\, konsultantkinja
URL:https://cosdt.me/seminar/efikasnost-sudenja/
LOCATION:Podgorica\, Montenegro
GEO:42.4304196;19.2593642
END:VEVENT
BEGIN:VEVENT
DTSTART;VALUE=DATE:20251202
DTEND;VALUE=DATE:20251203
DTSTAMP:20260424T002809
CREATED:20250313T111824Z
LAST-MODIFIED:20250313T111824Z
UID:11141-1764633600-1764719999@cosdt.me
SUMMARY:Terorizam\, borci u inostranstvu i učestvovanje u stranim oružanim formacijama
DESCRIPTION:Vrijeme potrebno za izvođenje programa:\nJedna jednodnevna obuka\nKorisnici: Sudije\, državni tužioci.\nPredavači:\nVesna Kovačević\, sutkinja Višeg suda u Podgorici\nSanja Jovićević\, državna tužiteljka\, Specijalno državno tužilaštvo\nDragica Vuković\, sutkinja Vrhovnog suda Crne Gore u penziji
URL:https://cosdt.me/seminar/terorizam-borci-u-inostranstvu-i-ucestvovanje-u-stranim-oruzanim-formacijama-4/
LOCATION:Podgorica\, Montenegro
GEO:42.4304196;19.2593642
END:VEVENT
BEGIN:VEVENT
DTSTART;VALUE=DATE:20251127
DTEND;VALUE=DATE:20251129
DTSTAMP:20260424T002809
CREATED:20250313T111527Z
LAST-MODIFIED:20250313T111527Z
UID:11137-1764201600-1764374399@cosdt.me
SUMMARY:Koruptivna krivična djela (Krivična djela protiv platnog prometa i privrednog poslovanja)
DESCRIPTION:•	Javne nabavke\n•	Izazovi u dokazivanju krivičnog djela zloupotreba službenog položaja \nVrijeme potrebno za izvođenje programa:\nJedna dvodnevna obuka\nKorisnici: Sudije\, državni tužioci\, predstavnici ASK-a\nPredavači:\nZorica Milanović\,  sutkinja Apelacionog suda Crne Gore\nTanja Čolan Deretić\, državna tužiteljka\, Specijalno državno tužilaštvo\nAmir Đokaj\, sudija Višeg suda u Podgorici
URL:https://cosdt.me/seminar/koruptivna-krivicna-djela-krivicna-djela-protiv-platnog-prometa-i-privrednog-poslovanja/
LOCATION:Podgorica\, Montenegro
GEO:42.4304196;19.2593642
END:VEVENT
BEGIN:VEVENT
DTSTART;VALUE=DATE:20251125
DTEND;VALUE=DATE:20251127
DTSTAMP:20260424T002809
CREATED:20250313T124223Z
LAST-MODIFIED:20250313T124223Z
UID:11250-1764028800-1764201599@cosdt.me
SUMMARY:Zaštita prava LGBTQI osoba sa akcentom na temu rodnih identiteta\, sa posebnim osvrtom na pitanja roda\, pola i rodnih uloga
DESCRIPTION:Vrijeme potrebno za izvodjenje programa\nJedan seminar\nKorisnici: sudije\, državni tužioci\, eventualno predstavnici NVO sektora.\nPredavači:\nAna Kalezić\, državna tužiteljka\, Više državno tužilaštvo u Podgorici\nDina Knežević\, savjetnica Zaštitnika ljudskih prava i sloboda CG
URL:https://cosdt.me/seminar/zastita-prava-lgbtqi-osoba-sa-akcentom-na-temu-rodnih-identiteta-sa-posebnim-osvrtom-na-pitanja-roda-pola-i-rodnih-uloga/
LOCATION:Podgorica\, Montenegro
GEO:42.4304196;19.2593642
END:VEVENT
BEGIN:VEVENT
DTSTART;VALUE=DATE:20251124
DTEND;VALUE=DATE:20251126
DTSTAMP:20260424T002809
CREATED:20250313T122424Z
LAST-MODIFIED:20250313T122424Z
UID:11225-1763942400-1764115199@cosdt.me
SUMMARY:SUDSKA I POLICIJSKA SARADNJA U KRIVIČNIM STVARIMA U EVROPSKOJ UNIJI
DESCRIPTION:Vrijeme potrebno za izvođenje programa:\nJedan dvodnevni seminar\nPredavači:\nMiloš Vukčević\, profesor na Univerzitetu Mediteran\nAna Radović\, državna tužiteljka u Višem državnom tužilaštvu u Podgorici
URL:https://cosdt.me/seminar/sudska-i-policijska-saradnja-u-krivicnim-stvarima-u-evropskoj-uniji/
LOCATION:Podgorica\, Montenegro
GEO:42.4304196;19.2593642
END:VEVENT
BEGIN:VEVENT
DTSTART;VALUE=DATE:20251118
DTEND;VALUE=DATE:20251120
DTSTAMP:20260424T002809
CREATED:20250313T111026Z
LAST-MODIFIED:20250313T111026Z
UID:11131-1763424000-1763596799@cosdt.me
SUMMARY:Krivična djela protiv polnih sloboda
DESCRIPTION:•	Krivično djelo silovanje\n•	Obljuba nad djetetom\n•	Seksualno zlostavljanje i iskorišćavanje djece i primjena Lanzarote konvencije \nVrijeme potrebno za izvođenje programa:\nNajmanje jedna dvodnevna  obuka\nKorisnici: sudije\, državni tužioci\nPredavači:\nMilenka Seka Žižić\, sutkinja Vrhovnog suda Crne Gore\nVeljko Rutović\, državni tužilac u Vrhovnom državnom tužilaštvu Crne Gore\nVesna Kovačević\, sutkinja Višeg suda u Podgorici\nPredrag Tabaš\, sudija Apelacionog suda Crne Gore
URL:https://cosdt.me/seminar/krivicna-djela-protiv-polnih-sloboda/
LOCATION:Podgorica\, Montenegro
GEO:42.4304196;19.2593642
END:VEVENT
BEGIN:VEVENT
DTSTART;VALUE=DATE:20251112
DTEND;VALUE=DATE:20251113
DTSTAMP:20260424T002809
CREATED:20250313T121240Z
LAST-MODIFIED:20250313T121240Z
UID:11215-1762905600-1762991999@cosdt.me
SUMMARY:Evropska konvencija za zaštitu ljudskih prava i osnovnih sloboda - EKLJP
DESCRIPTION:–	Član 13 – pravo na djelotvorni pravni lijek; \nVrijeme potrebno za izvođenje programa:\nJedan jednodnevni seminar\nPredavači:\nValentina Pavličić\, predsjednica Vrhovnog suda Crne Gore\ndr Mladen Vukčević\, profesor na Fakultetu pravnih nauka\nDesanka Lopičić\, sutkinja Ustavnog suda CG
URL:https://cosdt.me/seminar/evropska-konvencija-za-zastitu-ljudskih-prava-i-osnovnih-sloboda-ekljp-6/
LOCATION:Podgorica\, Montenegro
GEO:42.4304196;19.2593642
END:VEVENT
BEGIN:VEVENT
DTSTART;VALUE=DATE:20251111
DTEND;VALUE=DATE:20251112
DTSTAMP:20260424T002809
CREATED:20250313T120425Z
LAST-MODIFIED:20250313T120425Z
UID:11203-1762819200-1762905599@cosdt.me
SUMMARY:Prekršajno pravo - teme:
DESCRIPTION:–	Sporna pitanja u primjeni Zakona o prekršajima sa akcentom na prekršajni postupak i obrazloženje odluka;\n–	Nasilje u porodici/porodičnoj zajednici sa fokusom na zaštitu žrtve;\n–	Maloljetnici u prekršajnom postupku sa akcentom na sankcije\n–	Sporna pitanja u primjeni sledećih zakona: Zakona o javnom redu i miru\, Zakona o PDV-u\, Zakona o inspekcijskom nadzoru\, Carinskog zakona\, Zakona o zabrani diskriminacije.\n–	Primjena prakse ESLJP u prekršajnom postupku \nVrijeme potrebno za izvođenje programa:\nDvije obuke (seminar i okrugli sto). Pored toga predviđeno je  učešće sudija za prekršaje na drugim obukama iz Programa za kontinuiranu obuku na teme koje su njima od značaja. \nKorisnici:\nSudije\, predstavnici državnih organa lokalne uprave. \nPredavači: Maja Živaljević\, Larisa Begović\, Alija Beganović\, Marko Đukanović\, Krunislav Obradović\, Slađana Španjević Volkov\, Mirsad Mujević\, Milorad Popović
URL:https://cosdt.me/seminar/prekrsajno-pravo-teme-2/
LOCATION:Podgorica\, Montenegro
GEO:42.4304196;19.2593642
END:VEVENT
BEGIN:VEVENT
DTSTART;VALUE=DATE:20251107
DTEND;VALUE=DATE:20251109
DTSTAMP:20260424T002809
CREATED:20250313T120211Z
LAST-MODIFIED:20250313T120211Z
UID:11199-1762473600-1762646399@cosdt.me
SUMMARY:UPRAVNO PRAVNA OBLAST - TEME:
DESCRIPTION:–	Sporna pitanja u primjeni Zakona o upravnom postupku;\n–	Sporna pitanja u primjeni Zakona o upravnom sporu;\n–	Politika zaštite konkurencije i državna pomoć\n–	Intelektualna svojina\n–	Primjena Zakona o slobodnom pristupu informacijama\n–	Zakon o međunarodnoj i privremenoj zaštiti stanaca;\n–	Zakon o crnogorskom državljanstvu;\n–	Zakon o izgradnji objekata i planiranje prostora;\n–	Pravo na penziju;\n–	Poresko pravo (primjena Zakona o PDV-u i drugih zakona iz ove oblasti);\n–	Pravo azila\n–	Zakon o strancima\n–	Carinski zakon\n–	Javne nabavke\n–	Efikasnost suđenja – individualni case management\n–	Zakon o ANB-u  \nVrijeme potrebno za izvođenje programa:\nDvije dvodnevne obuke. Pored toga predviđeno je učešće sudija Upravnog suda na drugim obukama iz Programa za kontinuiranu obuku na teme koje su za njih relevantne.\nKorisnici: sudije\nPredavači: Vesna Vučković\, Ljiljana Šoškić\, Snežana Vukčević\, Medina Mušović\, Srđan Klikovac\, Jelena Ružičić\, Miraš Radović\, Ranko Vukić i eksperti za pojedine oblasti (npr. poresko pravo i zaštitu podataka o ličnosti) koji će se naknadno i blagovremeno odrediti.
URL:https://cosdt.me/seminar/upravno-pravna-oblast-teme-2/
LOCATION:Podgorica\, Montenegro
GEO:42.4304196;19.2593642
END:VEVENT
BEGIN:VEVENT
DTSTART;VALUE=DATE:20251105
DTEND;VALUE=DATE:20251107
DTSTAMP:20260424T002809
CREATED:20250313T123627Z
LAST-MODIFIED:20250313T123627Z
UID:11239-1762300800-1762473599@cosdt.me
SUMMARY:Alternativni načini rješavanja sporova
DESCRIPTION:•	Medijacija i\n•	Arbitraža\nVrijeme potrebno za izvođenje programa:\nNajmanje jedna obuka\nKorisnici: sudije\, eventualno advokati.\nPredavači:\nMladen Grdinić\, predsjednik Privrednog suda CG\nDanijela Vukčević\, sutkinja Apelacionog suda Crne Gore\nMaja Golović Vojinović\, izvršna direktorica Centra za alternativno rješavanje sporova.\nTamara Brnović\, sutkinja Višeg suda u Podgorici\nOgnjana Boljević\, sutkinja Višeg suda u Podgorici\nMarina Lutovac\, trener za obuku posrednika
URL:https://cosdt.me/seminar/alternativni-nacini-rjesavanja-sporova/
LOCATION:Podgorica\, Montenegro
GEO:42.4304196;19.2593642
END:VEVENT
BEGIN:VEVENT
DTSTART;VALUE=DATE:20251103
DTEND;VALUE=DATE:20251105
DTSTAMP:20260424T002809
CREATED:20250313T110230Z
LAST-MODIFIED:20250313T110230Z
UID:11123-1762128000-1762300799@cosdt.me
SUMMARY:Zakonik o krivičnom postupku - izmjene i dopune
DESCRIPTION:•	Procesni mehanizmi za efikasno vođenje krivičnog postupka\n•	Prigovor na optužnicu\n•	Sprečavanje zloupotrebe procesnih prava stranaka\n•	Razlika između žrtve i oštećenog u krivičnom postupku \nVrijeme potrebno za izvođenje programa:\nNajmanje jedna dvodnevna obuka\nKorisnici: Sudije i državni tužioci\nPredavači:\nMilenka Seka Žižić\, sutkinja Vrhovnog suda Crne Gore;\nLidija Vukčević\, državna tužiteljka u Vrhovnom državnom tužilaštvu;\nMiraš Radović\, donedavno sudija Vrhovnog suda Crne Gore.
URL:https://cosdt.me/seminar/zakonik-o-krivicnom-postupku-izmjene-i-dopune/
LOCATION:Podgorica\, Montenegro
GEO:42.4304196;19.2593642
END:VEVENT
BEGIN:VEVENT
DTSTART;VALUE=DATE:20251028
DTEND;VALUE=DATE:20251029
DTSTAMP:20260424T002809
CREATED:20250313T114610Z
LAST-MODIFIED:20250313T114610Z
UID:11181-1761609600-1761695999@cosdt.me
SUMMARY:Međunarodno privatno pravo
DESCRIPTION:Vrijeme potrebno za izvođenje programa:\nJedna jednodnevna obuka\nKorisnici: sudije\, notari\nPredavači:\nMirjana Popović\, predsjednica Apelacionog suda CG\nMarijana Pavićević\, sutkinja Vrhovnog  suda Crne Gore\nMaja Kostić – Mandić\, redovna profesorica Pravnog fakulteta Univerziteta CG
URL:https://cosdt.me/seminar/medunarodno-privatno-pravo/
LOCATION:Podgorica\, Montenegro
GEO:42.4304196;19.2593642
END:VEVENT
BEGIN:VEVENT
DTSTART;VALUE=DATE:20251024
DTEND;VALUE=DATE:20251026
DTSTAMP:20260424T002809
CREATED:20250313T121026Z
LAST-MODIFIED:20250313T121026Z
UID:11211-1761264000-1761436799@cosdt.me
SUMMARY:Evropska konvencija za zaštitu ljudskih prava i osnovnih sloboda - EKLJP
DESCRIPTION:–	Član 8 – pravo na poštovanje privatnog i porodičnog života; \nVrijeme potrebno za izvođenje programa:\nJedan dvodnodnevni seminar\nPredavači:\nValentina Pavličić\, predsjednica Vrhovnog suda Crne Gore\nSiniša Bjeković\, Zaštitnik ljudskih prava i sloboda CG\nSnežana Armenko\, predsjednica Ustavnog suda CG\nMilena Krsmanović Iković\,  savjetnica Zaštitnika ljudskih prava i sloboda
URL:https://cosdt.me/seminar/evropska-konvencija-za-zastitu-ljudskih-prava-i-osnovnih-sloboda-ekljp-4/
LOCATION:Podgorica\, Montenegro
GEO:42.4304196;19.2593642
END:VEVENT
BEGIN:VEVENT
DTSTART;VALUE=DATE:20251023
DTEND;VALUE=DATE:20251024
DTSTAMP:20260424T002809
CREATED:20250313T123729Z
LAST-MODIFIED:20250313T123729Z
UID:11241-1761177600-1761263999@cosdt.me
SUMMARY:Besplatna pravna pomoć
DESCRIPTION:Vrijeme potrebno za izvođenje programa:\nJedan okrugli sto\nKorisnici: sudije\, eventualno advokati.\nPredavači:\nŽeljka Jovović\, predsjednica Osnovnog suda u Podgorici\nMirsad Mujević\, predsjednik Osnovnog suda u Rožajama
URL:https://cosdt.me/seminar/besplatna-pravna-pomoc-4/
LOCATION:Podgorica\, Montenegro
GEO:42.4304196;19.2593642
END:VEVENT
BEGIN:VEVENT
DTSTART;VALUE=DATE:20251022
DTEND;VALUE=DATE:20251023
DTSTAMP:20260424T002809
CREATED:20250313T122243Z
LAST-MODIFIED:20250313T122243Z
UID:11223-1761091200-1761177599@cosdt.me
SUMMARY:Izvršenje presuda ESLJP – individualne i generalne mjere
DESCRIPTION:Vrijeme potrebno za izvođenje programa:\nJedan dvodnodnevni seminar\nPredavači:\nValentina Pavličić\, predsjednica Vrhovnog suda Crne Gore\nKatarina Peković\, Zastupnica Crne Gore pred Evropskim sudom za ljudska prava
URL:https://cosdt.me/seminar/izvrsenje-presuda-esljp-individualne-i-generalne-mjere/
LOCATION:Podgorica\, Montenegro
GEO:42.4304196;19.2593642
END:VEVENT
BEGIN:VEVENT
DTSTART;VALUE=DATE:20251021
DTEND;VALUE=DATE:20251022
DTSTAMP:20260424T002809
CREATED:20250313T121906Z
LAST-MODIFIED:20250313T122128Z
UID:11219-1761004800-1761091199@cosdt.me
SUMMARY:Obrazloženje odluka u skladu sa praksom ESLJP
DESCRIPTION:Vrijeme potrebno za izvođenje programa:\nJedan dvodnodnevni seminar\nPredavači:\nValentina Pavličić\, predsjednica Vrhovnog suda Crne Gore\nMiraš Radović\, sudija Vrhovnog suda u penziji
URL:https://cosdt.me/seminar/evropska-konvencija-za-zastitu-ljudskih-prava-i-osnovnih-sloboda-ekljp-8/
LOCATION:Podgorica\, Montenegro
GEO:42.4304196;19.2593642
END:VEVENT
BEGIN:VEVENT
DTSTART;VALUE=DATE:20251017
DTEND;VALUE=DATE:20251019
DTSTAMP:20260424T002809
CREATED:20250313T112610Z
LAST-MODIFIED:20250313T112610Z
UID:11153-1760659200-1760831999@cosdt.me
SUMMARY:Sporazum o priznanju krivice
DESCRIPTION:•	Smjernice za postupanje u predmetima prilikom zaključivanja SPK\n•	Uloga suda kod odlučivanja o SPK \nVrijeme potrebno za izvođenje programa:\nNajmanje jedna dvodnevna obuka\nKorisnici:\nSudije\, državni tužioci.\nPredavači:\nSeka Piletić\, sutkinja Vrhovnog suda Crne Gore\nLidija Vukčević\, državna tužiteljka u Vrhovnom državnom tužilaštvu\nMira Samardžić\, specijalna tužiteljka u penziji\nMaja Laković\, advokatica
URL:https://cosdt.me/seminar/sporazum-o-priznanju-krivice-7/
LOCATION:Podgorica\, Montenegro
GEO:42.4304196;19.2593642
END:VEVENT
BEGIN:VEVENT
DTSTART;VALUE=DATE:20251015
DTEND;VALUE=DATE:20251016
DTSTAMP:20260424T002809
CREATED:20250313T115636Z
LAST-MODIFIED:20250313T115636Z
UID:11191-1760486400-1760572799@cosdt.me
SUMMARY:Kompanijsko pravo i Zakon o privrednim društvima
DESCRIPTION:Vrijeme potrebno za izvođenje programa:\nJedna obuka\nKorisnici: sudije\, eventualno notari.\nPredavači:\nKatarina Đurđić\, sutkinja Vrhovnog suda CG\nDijana Raičković\, ranija sutkinja Apelacionog suda CG.\nNevenka Popović\, sutkinja Vrhovnog suda CG
URL:https://cosdt.me/seminar/kompanijsko-pravo-i-zakon-o-privrednim-drustvima-2/
LOCATION:Podgorica\, Montenegro
GEO:42.4304196;19.2593642
END:VEVENT
BEGIN:VEVENT
DTSTART;VALUE=DATE:20251013
DTEND;VALUE=DATE:20251015
DTSTAMP:20260424T002809
CREATED:20250313T123836Z
LAST-MODIFIED:20250313T123836Z
UID:11243-1760313600-1760486399@cosdt.me
SUMMARY:Rodna ravnopravnost sa posebnim osvrtom na CEDAW konvenciju
DESCRIPTION:Vrijeme potrebno za izvođenje programa:\nJedna dvodnevna obuka\nKorisnici: sudije\, državni tužioci.\nPredavači:\nTamara Brnović\, sutkinja Višeg suda u Podgorici\nMaja Živaljević\, sutkinja Višeg suda za prekršaje\nMarijana Laković\, advokatica
URL:https://cosdt.me/seminar/rodna-ravnopravnost-sa-posebnim-osvrtom-na-cedaw-konvenciju-5/
LOCATION:Podgorica\, Montenegro
GEO:42.4304196;19.2593642
END:VEVENT
BEGIN:VEVENT
DTSTART;VALUE=DATE:20251009
DTEND;VALUE=DATE:20251012
DTSTAMP:20260424T002809
CREATED:20250313T111942Z
LAST-MODIFIED:20250313T111942Z
UID:11143-1759968000-1760227199@cosdt.me
SUMMARY:Trgovina ljudima sa akcentom na zaštitu žrtava i imovinsko pravni zahtjev
DESCRIPTION:•	Nedozvoljeni prelaz državne granice i krijumčarenje ljudi\n•	Postupanje sa žrtvama u skladu sa izmjenama ZKP-a\n•	Dječiji brakovi\n•	Prosjačenje\n•	Razlika između trgovine ljudima i posredovanje u vršenju prostitucije \nVrijeme potrebno za izvođenje programa:\nNajmanje jedna trodnevna  obuka\nKorisnici: Sudije\, državni tužioci\, predstavnici MUP-a.\nPredavači:\nMilenka Seka Žižić\, sutkinja Vrhovnog suda Crne Gore\nŽeljka Jovović\, predsjednica Osnovnog suda u Podgorici\nArmin Selmanović\, državni tužilac u Vrhovnom državnom tužilaštvu\nSnežana Šišević\, državna tužiteljka u Višem državnom tužilaštvu\n Sanja Jovićević\, državna tužiteljka\, Specijalno državno tužilaštvo
URL:https://cosdt.me/seminar/trgovina-ljudima-sa-akcentom-na-zastitu-zrtava-i-imovinsko-pravni-zahtjev/
LOCATION:Podgorica\, Montenegro
GEO:42.4304196;19.2593642
END:VEVENT
BEGIN:VEVENT
DTSTART;VALUE=DATE:20251006
DTEND;VALUE=DATE:20251008
DTSTAMP:20260424T002809
CREATED:20250313T105426Z
LAST-MODIFIED:20250313T105749Z
UID:11117-1759708800-1759881599@cosdt.me
SUMMARY:Krivični zakonik - izmjene i dopune sa osvrtom na nove inkriminacije
DESCRIPTION:•	Nedozvoljeno držanje oružja i eksplozivnog materijala\n•	Kaznena politika – Visina zakonom zaprijećene kazne sa akcentom na olakšavajuće i otežavajuće okolnosti prilikom odmjeravanja iste\n•	Primjena član 121 Krivičnog zakonika CG  \nVrijeme potrebno za izvođenje programa:\nJedna dvodnevna obuka\nKorisnici: Sudije i državni tužioci\nPredavači:\nSeka Piletić\, sutkinja Vrhovnog suda Crne Gore;\nArmin Selmanović\, državni tužilac u Vrhovnom državnom tužilaštvu;\nDuško Milanović\, rukovodilac Osnovnog državnog tužilaštva u Podgorici
URL:https://cosdt.me/seminar/krivicni-zakonik-izmjene-i-dopune-sa-osvrtom-na-nove-inkriminacije/
LOCATION:Podgorica\, Montenegro
CATEGORIES:Seminari
GEO:42.4304196;19.2593642
END:VEVENT
BEGIN:VEVENT
DTSTART;VALUE=DATE:20251002
DTEND;VALUE=DATE:20251004
DTSTAMP:20260424T002809
CREATED:20250313T115415Z
LAST-MODIFIED:20250313T115415Z
UID:11187-1759363200-1759535999@cosdt.me
SUMMARY:Postupak izvršenja i obezbjeđenja
DESCRIPTION:•	Zakon o izvršenju i obezbjeđenju – praksa i sporna pitanja;\n•	Izvršenje na nepokretnostima;\n•	Predaja djeteta \nVrijeme potrebno za izvođenje programa:\nNajmanje jedna jednodnevna obuka\nKorisnici: sudije\, javni izvršitelji \nPredavači:\nIvana Becić\, sutkinja Osnovnog suda u Podgorici\nVeljko Bulatović\, sudija Osnovnog suda u Kotoru\nDijana Popović Gavranović\, načelnica Stručne službe za postupanje prema maloljetnicima\, Vrhovno državno tužilaštvo Crne Gore
URL:https://cosdt.me/seminar/postupak-izvrsenja-i-obezbjedenja/
LOCATION:Podgorica\, Montenegro
GEO:42.4304196;19.2593642
END:VEVENT
BEGIN:VEVENT
DTSTART;VALUE=DATE:20250925
DTEND;VALUE=DATE:20250927
DTSTAMP:20260424T002809
CREATED:20250313T111315Z
LAST-MODIFIED:20250313T111315Z
UID:11135-1758758400-1758931199@cosdt.me
SUMMARY:Mjere tajnog nadzora sa osvrtom na pravno nevaljane dokaze i korišćenje dokaza dobijenih putem sky i drugih kriptovanih komunikacija
DESCRIPTION:•	Međunarodna pravna pomoć i saradnja u vezi sa dokazima dobijenim putem MNT-a i kriptovanih komunikacija \nVrijeme potrebno za izvođenje programa:\nNajmanje jedna dvodnevna obuka\nKorisnici: Sudije\, državni tužioci.\nPredavači:\nVladimir Novović\, glavni specijalni tužilac\, Specijalno državno tužilaštvo\nVeljko Rutović\, državni tužilac u Vrhovnom državnom tužilaštvu Crne Gore
URL:https://cosdt.me/seminar/mjere-tajnog-nadzora-sa-osvrtom-na-pravno-nevaljane-dokaze-i-koriscenje-dokaza-dobijenih-putem-sky-i-drugih-kriptovanih-komunikacija/
LOCATION:Podgorica\, Montenegro
GEO:42.4304196;19.2593642
END:VEVENT
BEGIN:VEVENT
DTSTART;VALUE=DATE:20250922
DTEND;VALUE=DATE:20250924
DTSTAMP:20260424T002809
CREATED:20250313T123257Z
LAST-MODIFIED:20250313T123257Z
UID:11235-1758499200-1758671999@cosdt.me
SUMMARY:Obuke na temu odnosa sa javnošću
DESCRIPTION:Vrijeme potrebno za izvođenje programa:\nNajmanje jedna dvodnevna obuka\nKorisnici: sudije portparoli sudova\, državni tužioci portparoli državnih tužilaštava\, savjetnici u sudovima i državnim tužilaštvima i predstavnici medija.\nPredavači:\nMiodrag Strugar\, komunikolog\nDragana Maljević\, načelnica PR službe Vrhovnog državnog tužilaštva\nRadoje Cerović\, dipl. psiholog\nMiodrag Bole Bošković\, savj. u Službi za odnose sa javnošću Vrhovnog suda\nDanka Ćetković\, internacionalna NLP trenerica
URL:https://cosdt.me/seminar/obuke-na-temu-odnosa-sa-javnoscu-2/
LOCATION:Podgorica\, Montenegro
GEO:42.4304196;19.2593642
END:VEVENT
BEGIN:VEVENT
DTSTART;VALUE=DATE:20250918
DTEND;VALUE=DATE:20250920
DTSTAMP:20260424T002809
CREATED:20250313T110025Z
LAST-MODIFIED:20250313T110025Z
UID:11121-1758153600-1758326399@cosdt.me
SUMMARY:Procesni mehanizmi zaštite žrtava
DESCRIPTION:•	Uloga Službe za podršku žrtvama i lica od povjerenja\n•	Besplatna pravna pomoć\n•	Ostvarivanje imovinsko pravnog zahtjeva u krivičnom postupku i prevencija sekundarne viktimizacije \nVrijeme potrebno za izvođenje programa:\nJedna dvodnevna obuka\nKorisnici: Sudije i državni tužioci\nPredavači:\nŽeljka Jovović\, predsjednica Osnovnog suda u Podgorici;\nTanja Čolan Deretić\, državna tužiteljka u Specijalnom državnom tužilaštvu;\nDijana Popović Gavranović\, načelnica Stručne službe za postupanje prema maloljetnicima\, Vrhovo državno tužilaštvo Crne Gore\,\nDatum održavanja: 18-19. septembar 2025.
URL:https://cosdt.me/seminar/procesni-mehanizmi-zastite-zrtava/
LOCATION:Podgorica\, Montenegro
GEO:42.4304196;19.2593642
END:VEVENT
END:VCALENDAR