BEGIN:VCALENDAR
VERSION:2.0
PRODID:-//COSDT - ECPv6.15.17.1//NONSGML v1.0//EN
CALSCALE:GREGORIAN
METHOD:PUBLISH
X-WR-CALNAME:COSDT
X-ORIGINAL-URL:https://cosdt.me
X-WR-CALDESC:Events for COSDT
REFRESH-INTERVAL;VALUE=DURATION:PT1H
X-Robots-Tag:noindex
X-PUBLISHED-TTL:PT1H
BEGIN:VTIMEZONE
TZID:Europe/Podgorica
BEGIN:DAYLIGHT
TZOFFSETFROM:+0100
TZOFFSETTO:+0200
TZNAME:CEST
DTSTART:20230326T010000
END:DAYLIGHT
BEGIN:STANDARD
TZOFFSETFROM:+0200
TZOFFSETTO:+0100
TZNAME:CET
DTSTART:20231029T010000
END:STANDARD
BEGIN:DAYLIGHT
TZOFFSETFROM:+0100
TZOFFSETTO:+0200
TZNAME:CEST
DTSTART:20240331T010000
END:DAYLIGHT
BEGIN:STANDARD
TZOFFSETFROM:+0200
TZOFFSETTO:+0100
TZNAME:CET
DTSTART:20241027T010000
END:STANDARD
BEGIN:DAYLIGHT
TZOFFSETFROM:+0100
TZOFFSETTO:+0200
TZNAME:CEST
DTSTART:20250330T010000
END:DAYLIGHT
BEGIN:STANDARD
TZOFFSETFROM:+0200
TZOFFSETTO:+0100
TZNAME:CET
DTSTART:20251026T010000
END:STANDARD
BEGIN:DAYLIGHT
TZOFFSETFROM:+0100
TZOFFSETTO:+0200
TZNAME:CEST
DTSTART:20260329T010000
END:DAYLIGHT
BEGIN:STANDARD
TZOFFSETFROM:+0200
TZOFFSETTO:+0100
TZNAME:CET
DTSTART:20261025T010000
END:STANDARD
END:VTIMEZONE
BEGIN:VEVENT
DTSTART;VALUE=DATE:20250317
DTEND;VALUE=DATE:20250319
DTSTAMP:20260424T175451
CREATED:20250313T110648Z
LAST-MODIFIED:20250313T110648Z
UID:11127-1742169600-1742342399@cosdt.me
SUMMARY:Pranje novca sa posebnim osvrtom na stand alone (samostalno krivično djelo)
DESCRIPTION:•	Pravni i ekonomski aspekti kriminalne djelatnosti\n•	Teret dokazivanja krivičng djela pranje novca sa osvrtom na praksu ESLJP i zemalja EU\n•	Praćenje tokova novca\, of šor (off shore) računi i stvarni vlasnici\n•	Kripto valute\, novi trendovi i tehnologije (Block chain tehnologije i Dark web) \nVrijeme potrebno za izvođenje programa:\nNajmanje jedna dvodnevna  obuka\nKorisnici: sudije\, državni tužioci i predstavnici državnih organa i predstavnici ASK-a\nPredavači:\n        Vesna Pean\, sutkinja Apelacionog suda Crne Gore\n        Vesna Kovačević\, sutkinja Višeg suda u Podgorici\n        Lidija Vukčević\, državna tužiteljka u Vrhovnom državnom tužilaštvu
URL:https://cosdt.me/seminar/pranje-novca-sa-posebnim-osvrtom-na-stand-alone-samostalno-krivicno-djelo/
LOCATION:Podgorica\, Montenegro
GEO:42.4304196;19.2593642
END:VEVENT
BEGIN:VEVENT
DTSTART;VALUE=DATE:20250206
DTEND;VALUE=DATE:20250207
DTSTAMP:20260424T175451
CREATED:20250313T112929Z
LAST-MODIFIED:20250313T112929Z
UID:11159-1738800000-1738886399@cosdt.me
SUMMARY:Krivičnopravni odgovor na ilegalnu trgovinu vatrenim oružjem sa akcentom na Zakon o oružju
DESCRIPTION:•	Primjena odredaba ”novog” Zakona o oružju \nVrijeme potrebno za izvođenje programa:\nNajmanje jedna obuka\nKorisnici:\nPredstavnici MUP-a\, predstavnici Ministarstva pravde\, sudije\, državni tužioci i drugi.
URL:https://cosdt.me/seminar/krivicnopravni-odgovor-na-ilegalnu-trgovinu-vatrenim-oruzjem-sa-akcentom-na-zakon-o-oruzju/
LOCATION:Podgorica\, Montenegro
GEO:42.4304196;19.2593642
END:VEVENT
BEGIN:VEVENT
DTSTART;TZID=Europe/Podgorica:20241212T080000
DTEND;TZID=Europe/Podgorica:20241213T170000
DTSTAMP:20260424T175451
CREATED:20240305T115133Z
LAST-MODIFIED:20240305T115133Z
UID:10393-1733990400-1734109200@cosdt.me
SUMMARY:IT vještine (IT sistemi i servisi u službi pravosuđa\, korišćenje vještačke inteligencije i digitalizacija pravosuđa\, pretraga iz otvorenih izvora i društvene mreže\, digitalna forenzika)
DESCRIPTION:
URL:https://cosdt.me/seminar/it-vjestine-it-sistemi-i-servisi-u-sluzbi-pravosuda-koriscenje-vjestacke-inteligencije-i-digitalizacija-pravosuda-pretraga-iz-otvorenih-izvora-i-drustvene-mreze-digitalna-forenzika/
LOCATION:Podgorica\, Podgorica\, Montenegro
END:VEVENT
BEGIN:VEVENT
DTSTART;TZID=Europe/Podgorica:20241210T080000
DTEND;TZID=Europe/Podgorica:20241211T170000
DTSTAMP:20260424T175451
CREATED:20240305T115000Z
LAST-MODIFIED:20240305T115000Z
UID:10385-1733817600-1733936400@cosdt.me
SUMMARY:Alternativni načini rješavanja sporova sa akcentom na medijaciju
DESCRIPTION:
URL:https://cosdt.me/seminar/alternativni-nacini-rjesavanja-sporova-sa-akcentom-na-medijaciju/
LOCATION:Podgorica\, Podgorica\, Montenegro
END:VEVENT
BEGIN:VEVENT
DTSTART;TZID=Europe/Podgorica:20241205T080000
DTEND;TZID=Europe/Podgorica:20241206T170000
DTSTAMP:20260424T175451
CREATED:20240305T112412Z
LAST-MODIFIED:20240305T112412Z
UID:10356-1733385600-1733504400@cosdt.me
SUMMARY:Član 6 - pravo na pravično suđenje sa akcentom na suđenje u razumnom roku
DESCRIPTION:
URL:https://cosdt.me/seminar/clan-6-pravo-na-pravicno-sudenje-sa-akcentom-na-sudenje-u-razumnom-roku/
LOCATION:Podgorica\, Podgorica\, Montenegro
END:VEVENT
BEGIN:VEVENT
DTSTART;TZID=Europe/Podgorica:20241202T080000
DTEND;TZID=Europe/Podgorica:20241202T170000
DTSTAMP:20260424T175451
CREATED:20240305T102600Z
LAST-MODIFIED:20240305T102600Z
UID:10307-1733126400-1733158800@cosdt.me
SUMMARY:Terorizam\, borci u inostranstvu i  učestvovanje u stranim oružanim formacijama
DESCRIPTION:
URL:https://cosdt.me/seminar/terorizam-borci-u-inostranstvu-i-ucestvovanje-u-stranim-oruzanim-formacijama-3/
LOCATION:Podgorica\, Podgorica\, Montenegro
END:VEVENT
BEGIN:VEVENT
DTSTART;TZID=Europe/Podgorica:20241128T080000
DTEND;TZID=Europe/Podgorica:20241129T170000
DTSTAMP:20260424T175451
CREATED:20240305T114637Z
LAST-MODIFIED:20240305T114637Z
UID:10379-1732780800-1732899600@cosdt.me
SUMMARY:Vještačenje u sudskim postupcima sa akcentom na ulogu vještaka
DESCRIPTION:
URL:https://cosdt.me/seminar/vjestacenje-u-sudskim-postupcima-sa-akcentom-na-ulogu-vjestaka/
LOCATION:Podgorica\, Podgorica\, Montenegro
END:VEVENT
BEGIN:VEVENT
DTSTART;TZID=Europe/Podgorica:20241125T080000
DTEND;TZID=Europe/Podgorica:20241126T170000
DTSTAMP:20260424T175451
CREATED:20240305T102800Z
LAST-MODIFIED:20240305T102800Z
UID:10316-1732521600-1732640400@cosdt.me
SUMMARY:Pranje novca
DESCRIPTION:
URL:https://cosdt.me/seminar/pranje-novca-3/
LOCATION:Podgorica\, Podgorica\, Montenegro
END:VEVENT
BEGIN:VEVENT
DTSTART;TZID=Europe/Podgorica:20241120T080000
DTEND;TZID=Europe/Podgorica:20241121T170000
DTSTAMP:20260424T175451
CREATED:20240305T114520Z
LAST-MODIFIED:20240305T114520Z
UID:10373-1732089600-1732208400@cosdt.me
SUMMARY:PROGRAM OBUKE NOSILACA PRAVOSUDNE FUNKCIJE O PRAVU EU/EVROPSKE UNIJE
DESCRIPTION:MODUL VII – PRAVNE PRETPOSTAVKE PROCESA PROŠIRENJA EU. PRAVNI INSTRUMENTI EU KOJI SE POSTEPENO TRANSPONUJU U CRNOGORSKI PRAVNI POREDAK
URL:https://cosdt.me/seminar/program-obuke-nosilaca-pravosudne-funkcije-o-pravu-eu-evropske-unije-2/
LOCATION:Podgorica\, Podgorica\, Montenegro
END:VEVENT
BEGIN:VEVENT
DTSTART;TZID=Europe/Podgorica:20241118T080000
DTEND;TZID=Europe/Podgorica:20241119T170000
DTSTAMP:20260424T175451
CREATED:20240305T102729Z
LAST-MODIFIED:20240305T102729Z
UID:10314-1731916800-1732035600@cosdt.me
SUMMARY:Korupcija na visokom nivou i u javnom sektoru
DESCRIPTION:
URL:https://cosdt.me/seminar/korupcija-na-visokom-nivou-i-u-javnom-sektoru/
LOCATION:Podgorica\, Podgorica\, Montenegro
END:VEVENT
BEGIN:VEVENT
DTSTART;TZID=Europe/Podgorica:20241112T080000
DTEND;TZID=Europe/Podgorica:20241112T170000
DTSTAMP:20260424T175451
CREATED:20240305T114054Z
LAST-MODIFIED:20240305T114054Z
UID:10363-1731398400-1731430800@cosdt.me
SUMMARY:Član 13 - pravo na djelotvorni pravni lijek
DESCRIPTION:
URL:https://cosdt.me/seminar/clan-13-pravo-na-djelotvorni-pravni-lijek-2/
LOCATION:Podgorica\, Podgorica\, Montenegro
END:VEVENT
BEGIN:VEVENT
DTSTART;TZID=Europe/Podgorica:20241107T080000
DTEND;TZID=Europe/Podgorica:20241108T170000
DTSTAMP:20260424T175451
CREATED:20240305T112030Z
LAST-MODIFIED:20240305T112030Z
UID:10346-1730966400-1731085200@cosdt.me
SUMMARY:Upravno-pravna oblast
DESCRIPTION:Sporna pitanja u primjeni Zakona o upravnom postupku;\nSporna pitanja u primjeni Zakona o upravnom sporu;\nPrimjena Zakona o slobodnom pristupu informacijama\nZabrana zloupotrebe prava;\nZakon o međunarodnoj i privremenoj zaštiti stanaca;\nZakon o crnogorskom državljanstvu;\nZakon o povraćaju oduzetih imovinskih prava i obeštećenju\nZakon o izgradnji objekata i planiranju prostora;\nPrava na penziju;\nPoresko pravo (primjena Zakona o PDV-u i drugih zakona iz ove oblasti);\nPrava azilanata
URL:https://cosdt.me/seminar/upravno-pravna-oblast-2/
LOCATION:Podgorica\, Podgorica\, Montenegro
END:VEVENT
BEGIN:VEVENT
DTSTART;TZID=Europe/Podgorica:20241104T080000
DTEND;TZID=Europe/Podgorica:20241105T170000
DTSTAMP:20260424T175451
CREATED:20240305T094904Z
LAST-MODIFIED:20240305T094904Z
UID:10279-1730707200-1730826000@cosdt.me
SUMMARY:Zakonik o krivičnom postupku - izmjene i dopune i sporna pitanja u primjeni sa posebnim osvrtom na ostvarivanje imovinsko pravnog zahtjeva u krivičnom postupku
DESCRIPTION:
URL:https://cosdt.me/seminar/zakonik-o-krivicnom-postupku-izmjene-i-dopune-i-sporna-pitanja-u-primjeni-sa-posebnim-osvrtom-na-ostvarivanje-imovinsko-pravnog-zahtjeva-u-krivicnom-postupku/
LOCATION:Podgorica\, Montenegro
GEO:42.4304196;19.2593642
END:VEVENT
BEGIN:VEVENT
DTSTART;TZID=Europe/Podgorica:20241031T080000
DTEND;TZID=Europe/Podgorica:20241031T170000
DTSTAMP:20260424T175451
CREATED:20240305T114656Z
LAST-MODIFIED:20240305T114656Z
UID:10381-1730361600-1730394000@cosdt.me
SUMMARY:Zabrana zloupotrebe prava
DESCRIPTION:
URL:https://cosdt.me/seminar/zabrana-zloupotrebe-prava/
LOCATION:Podgorica\, Podgorica\, Montenegro
END:VEVENT
BEGIN:VEVENT
DTSTART;TZID=Europe/Podgorica:20241028T080000
DTEND;TZID=Europe/Podgorica:20241028T170000
DTSTAMP:20260424T175451
CREATED:20240305T111322Z
LAST-MODIFIED:20240305T111322Z
UID:10338-1730102400-1730134800@cosdt.me
SUMMARY:Međunarodno privatno pravo i mjerodavno parvo
DESCRIPTION:
URL:https://cosdt.me/seminar/medunarodno-privatno-pravo-i-mjerodavno-parvo/
LOCATION:Podgorica\, Podgorica\, Montenegro
END:VEVENT
BEGIN:VEVENT
DTSTART;TZID=Europe/Podgorica:20241024T080000
DTEND;TZID=Europe/Podgorica:20241025T170000
DTSTAMP:20260424T175451
CREATED:20240305T112447Z
LAST-MODIFIED:20240305T112447Z
UID:10358-1729756800-1729875600@cosdt.me
SUMMARY:Član 8 - pravo na poštovanje privatnog i porodičnog života
DESCRIPTION:
URL:https://cosdt.me/seminar/clan-8-pravo-na-postovanje-privatnog-i-porodicnog-zivota-2/
LOCATION:Podgorica\, Podgorica\, Montenegro
END:VEVENT
BEGIN:VEVENT
DTSTART;TZID=Europe/Podgorica:20241022T080000
DTEND;TZID=Europe/Podgorica:20241022T170000
DTSTAMP:20260424T175451
CREATED:20240305T115022Z
LAST-MODIFIED:20240305T115022Z
UID:10387-1729584000-1729616400@cosdt.me
SUMMARY:Besplatna pravna pomoć
DESCRIPTION:
URL:https://cosdt.me/seminar/besplatna-pravna-pomoc-3/
LOCATION:Podgorica\, Podgorica\, Montenegro
END:VEVENT
BEGIN:VEVENT
DTSTART;TZID=Europe/Podgorica:20241017T080000
DTEND;TZID=Europe/Podgorica:20241018T170000
DTSTAMP:20260424T175451
CREATED:20240305T102209Z
LAST-MODIFIED:20240305T102209Z
UID:10291-1729152000-1729270800@cosdt.me
SUMMARY:Sporazum o priznanju krivice
DESCRIPTION:
URL:https://cosdt.me/seminar/sporazum-o-priznanju-krivice-6/
LOCATION:Podgorica\, Podgorica\, Montenegro
END:VEVENT
BEGIN:VEVENT
DTSTART;TZID=Europe/Podgorica:20241015T080000
DTEND;TZID=Europe/Podgorica:20241015T170000
DTSTAMP:20260424T175451
CREATED:20240305T111351Z
LAST-MODIFIED:20240305T111351Z
UID:10340-1728979200-1729011600@cosdt.me
SUMMARY:Kompanijsko pravo i Zakon o privrednim društvima
DESCRIPTION:
URL:https://cosdt.me/seminar/kompanijsko-pravo-i-zakon-o-privrednim-drustvima/
LOCATION:Podgorica\, Podgorica\, Montenegro
END:VEVENT
BEGIN:VEVENT
DTSTART;TZID=Europe/Podgorica:20241009T080000
DTEND;TZID=Europe/Podgorica:20241011T170000
DTSTAMP:20260424T175451
CREATED:20240305T102531Z
LAST-MODIFIED:20240305T102531Z
UID:10305-1728460800-1728666000@cosdt.me
SUMMARY:Krivičnopravni odgovor na trgovina ljudima sa akcentom na zaštitu žrtava
DESCRIPTION:
URL:https://cosdt.me/seminar/krivicnopravni-odgovor-na-trgovina-ljudima-sa-akcentom-na-zastitu-zrtava/
LOCATION:Podgorica\, Podgorica\, Montenegro
END:VEVENT
BEGIN:VEVENT
DTSTART;TZID=Europe/Podgorica:20241004T080000
DTEND;TZID=Europe/Podgorica:20241004T170000
DTSTAMP:20260424T175451
CREATED:20240305T102703Z
LAST-MODIFIED:20240305T102703Z
UID:10312-1728028800-1728061200@cosdt.me
SUMMARY:Krivična djela iz oblasti zaštite životne sredine
DESCRIPTION:
URL:https://cosdt.me/seminar/krivicna-djela-iz-oblasti-zastite-zivotne-sredine-3/
LOCATION:Podgorica\, Podgorica\, Montenegro
END:VEVENT
BEGIN:VEVENT
DTSTART;TZID=Europe/Podgorica:20240930T080000
DTEND;TZID=Europe/Podgorica:20241001T170000
DTSTAMP:20260424T175451
CREATED:20240305T103203Z
LAST-MODIFIED:20240305T103203Z
UID:10324-1727683200-1727802000@cosdt.me
SUMMARY:Zakon o izvršenju I obezbjeđenju sa akcentom sa probleme primjene u praksi
DESCRIPTION:
URL:https://cosdt.me/seminar/zakon-o-izvrsenju-i-obezbjedenju-sa-akcentom-sa-probleme-primjene-u-praksi/
LOCATION:Podgorica\, Podgorica\, Montenegro
END:VEVENT
BEGIN:VEVENT
DTSTART;TZID=Europe/Podgorica:20240925T080000
DTEND;TZID=Europe/Podgorica:20240926T170000
DTSTAMP:20260424T175451
CREATED:20240305T103417Z
LAST-MODIFIED:20240305T103417Z
UID:10332-1727251200-1727370000@cosdt.me
SUMMARY:Porodični odnosi sa akcentom na najbolji interes djeteta
DESCRIPTION:
URL:https://cosdt.me/seminar/porodicni-odnosi-sa-akcentom-na-najbolji-interes-djeteta/
LOCATION:Podgorica\, Podgorica\, Montenegro
END:VEVENT
BEGIN:VEVENT
DTSTART;TZID=Europe/Podgorica:20240919T090000
DTEND;TZID=Europe/Podgorica:20240920T170000
DTSTAMP:20260424T175451
CREATED:20240305T101946Z
LAST-MODIFIED:20240305T101946Z
UID:10285-1726736400-1726851600@cosdt.me
SUMMARY:Mjere tajnog nadzora i pravno nevaljani dokazi
DESCRIPTION:
URL:https://cosdt.me/seminar/mjere-tajnog-nadzora-i-pravno-nevaljani-dokazi/
LOCATION:Podgorica\, Podgorica\, Montenegro
END:VEVENT
BEGIN:VEVENT
DTSTART;TZID=Europe/Podgorica:20240917T080000
DTEND;TZID=Europe/Podgorica:20240917T170000
DTSTAMP:20260424T175451
CREATED:20240305T111259Z
LAST-MODIFIED:20240305T111259Z
UID:10336-1726560000-1726592400@cosdt.me
SUMMARY:Zakon o zabrani zlostavljanja na radu - sporna pitanja i sudska praksa u vezi sa mobingom
DESCRIPTION:
URL:https://cosdt.me/seminar/zakon-o-zabrani-zlostavljanja-na-radu-sporna-pitanja-i-sudska-praksa-u-vezi-sa-mobingom/
LOCATION:Podgorica\, Podgorica\, Montenegro
END:VEVENT
BEGIN:VEVENT
DTSTART;TZID=Europe/Podgorica:20240912T080000
DTEND;TZID=Europe/Podgorica:20240913T170000
DTSTAMP:20260424T175451
CREATED:20240305T102854Z
LAST-MODIFIED:20240305T102854Z
UID:10318-1726128000-1726246800@cosdt.me
SUMMARY:Postupanje prema maloljetnicima u krivičnom postupku sa akcentom na izmjene i dopune Zakona o postupanju prema maloljetnicima u krivičnom postupku i zaštita djece žrtava nasilja u skladu sa pravosuđem po mjeri djeteta
DESCRIPTION:
URL:https://cosdt.me/seminar/postupanje-prema-maloljetnicima-u-krivicnom-postupku-sa-akcentom-na-izmjene-i-dopune-zakona-o-postupanju-prema-maloljetnicima-u-krivicnom-postupku-i-zastita-djece-zrtava-nasilja-u-skladu-sa-pravosudem/
LOCATION:Podgorica\, Podgorica\, Montenegro
END:VEVENT
BEGIN:VEVENT
DTSTART;TZID=Europe/Podgorica:20240718T090000
DTEND;TZID=Europe/Podgorica:20240719T170000
DTSTAMP:20260424T175451
CREATED:20240305T101901Z
LAST-MODIFIED:20240305T101901Z
UID:10283-1721293200-1721408400@cosdt.me
SUMMARY:Primjena forenzike u otkrivanju učinilaca krivičnih djela (uviđaj\, DNK vještačenje\, PEH i balistika)
DESCRIPTION:
URL:https://cosdt.me/seminar/primjena-forenzike-u-otkrivanju-ucinilaca-krivicnih-djela-uvidaj-dnk-vjestacenje-peh-i-balistika/
LOCATION:Podgorica\, Podgorica\, Montenegro
END:VEVENT
BEGIN:VEVENT
DTSTART;TZID=Europe/Podgorica:20240716T080000
DTEND;TZID=Europe/Podgorica:20240717T170000
DTSTAMP:20260424T175451
CREATED:20240305T115203Z
LAST-MODIFIED:20240305T115203Z
UID:10395-1721116800-1721235600@cosdt.me
SUMMARY:Zaštita prava LGBTQI osoba
DESCRIPTION:
URL:https://cosdt.me/seminar/zastita-prava-lgbtqi-osoba/
LOCATION:Podgorica\, Podgorica\, Montenegro
END:VEVENT
BEGIN:VEVENT
DTSTART;TZID=Europe/Podgorica:20240711T080000
DTEND;TZID=Europe/Podgorica:20240712T170000
DTSTAMP:20260424T175451
CREATED:20240305T112318Z
LAST-MODIFIED:20240305T112318Z
UID:10352-1720684800-1720803600@cosdt.me
SUMMARY:Član 3 - zabrana mučenja
DESCRIPTION:
URL:https://cosdt.me/seminar/clan-3-zabrana-mucenja-2/
LOCATION:Podgorica\, Podgorica\, Montenegro
END:VEVENT
BEGIN:VEVENT
DTSTART;TZID=Europe/Podgorica:20240708T080000
DTEND;TZID=Europe/Podgorica:20240709T170000
DTSTAMP:20260424T175451
CREATED:20240305T114449Z
LAST-MODIFIED:20240305T114449Z
UID:10371-1720425600-1720544400@cosdt.me
SUMMARY:PROGRAM OBUKE NOSILACA PRAVOSUDNE FUNKCIJE O PRAVU EU/EVROPSKE UNIJE
DESCRIPTION:MODUL VI – SUDSKA I POLICIJSKA SARADNJA U KRIVIČNIM STVARIMA U EVROPSKOJ UNIJI
URL:https://cosdt.me/seminar/program-obuke-nosilaca-pravosudne-funkcije-o-pravu-eu-evropske-unije/
LOCATION:Podgorica\, Podgorica\, Montenegro
END:VEVENT
END:VCALENDAR