BEGIN:VCALENDAR
VERSION:2.0
PRODID:-//COSDT - ECPv6.15.17.1//NONSGML v1.0//EN
CALSCALE:GREGORIAN
METHOD:PUBLISH
X-WR-CALNAME:COSDT
X-ORIGINAL-URL:https://cosdt.me
X-WR-CALDESC:Events for COSDT
REFRESH-INTERVAL;VALUE=DURATION:PT1H
X-Robots-Tag:noindex
X-PUBLISHED-TTL:PT1H
BEGIN:VTIMEZONE
TZID:Europe/Podgorica
BEGIN:DAYLIGHT
TZOFFSETFROM:+0100
TZOFFSETTO:+0200
TZNAME:CEST
DTSTART:20210328T010000
END:DAYLIGHT
BEGIN:STANDARD
TZOFFSETFROM:+0200
TZOFFSETTO:+0100
TZNAME:CET
DTSTART:20211031T010000
END:STANDARD
BEGIN:DAYLIGHT
TZOFFSETFROM:+0100
TZOFFSETTO:+0200
TZNAME:CEST
DTSTART:20220327T010000
END:DAYLIGHT
BEGIN:STANDARD
TZOFFSETFROM:+0200
TZOFFSETTO:+0100
TZNAME:CET
DTSTART:20221030T010000
END:STANDARD
BEGIN:DAYLIGHT
TZOFFSETFROM:+0100
TZOFFSETTO:+0200
TZNAME:CEST
DTSTART:20230326T010000
END:DAYLIGHT
BEGIN:STANDARD
TZOFFSETFROM:+0200
TZOFFSETTO:+0100
TZNAME:CET
DTSTART:20231029T010000
END:STANDARD
END:VTIMEZONE
BEGIN:VEVENT
DTSTART;TZID=Europe/Podgorica:20220224T080000
DTEND;TZID=Europe/Podgorica:20220224T170000
DTSTAMP:20260425T022811
CREATED:20220222T124147Z
LAST-MODIFIED:20220224T125926Z
UID:8331-1645689600-1645722000@cosdt.me
SUMMARY:Prezentacija i pokretanje onlajn HELP kursa na temu „Zaštita životne sredine i ljudska prava”
DESCRIPTION:– 21. februar 2022. godine – Centar za obuku u sudstvu i državnom tužilaštvu\, u saradnji sa HELP Programom Savjeta Evrope za Zapadni Balkan i Tursku (Evropski program za obrazovanje pravnika u oblasti ljudskih prava)\, u okviru regionalnog projekta koji je dio zajedničkog programa Evropske unije i Savjeta Evrope\, pod nazivom „Horizontalni mehanizam za Zapadni Balkan i Tursku 2019-2022” i u cilju dalje obuke nosilaca pravosudne funkcije u oblasti ljudskih prava\, organizovao je u onlajn formatu prezentaciju novog HELP onlajn kursa na temu „Zaštita životne sredine i ljudska prava”. Centar za obuku u sudstvu i državnom tužilaštvu od 2014. godine koristi HELP program Savjeta Evrope za Zapadni Balkan i Tursku\, u okviru kojih pravni profesionalci mogu naći ažurirane materijale za obuku i to na nacionalnim jezicima\, a da pritom ne pohađaju klasična predavanja\, već direktno ostvaruju komunikaciju sa mentorima i drugim polaznicima kursa. Sadržajima modula polaznici obuka pristupaju elektronskim putem\, koristeći računar i Internet. Na početku sastanka\, prisutne je\, u ime Centra za obuku u sudstvu i državnom tužilaštvu\, pozdravila predsjednica Upravnog odbora Centra\, gđa Ljiljana Lakić\, nakon čega se prisutnima obratila i gđa Jasminka Peruničić Allen\, koordinatorka projekta HELP na Zapadnom Balkanu\, Generalnog direktorata za ljudska prava i vladavinu prava (DGI) Savjeta Evrope\, kao i gđa Ana Medarska Lazova\, zamjenica šefice Odeljenja za obuke u oblasti pravde i ljudskih prava\, Generalnog direktorata za ljudska prava i vladavinu prava (DGI) Savjeta Evrope. Gđa Medarska Lazova je predstavila metodologiju učenja na daljinu\, kao i predstojeći kurs. Prisutnima su se obratili i HELP nacionalni tutori koji će voditi kurs\, gđa Sanja Jovićević\, specijalna tužiteljka u Specijalnom državnom tužilaštvu i gđa Brankica Cmiljanović\, rukovoditeljka Direkcije za horizontalno zakonodavstvo u Direktoratu za ekologiju\, fokal tačka i kontakt tačka za Espoo Konvenciju i SEA Protokol u Ministarstvu za ekologiju\, prostorno planiranje i urbanizam Crne Gore i informisale učesnike o strukturi kursa i dinamici njegove primjene tokom dvomjesečnog perioda. U okviru ovog HELP kursa ispitivaće se obaveze države u pogledu ljudskih prava u kontekstu zaštite životne sredine; davaće se praktična uputstva o tome kako se pristup zasnovan na ljudskim pravima može primijeniti na zaštitu životne sredine; analiziraće se ozelenjavanje ljudskih prava u regionalnim sistemima i nuditi uvod u obavezu ekološki odgovornog poslovanja. Obrađene teme istraživaće se na praktičan način\, korišćenjem prezentacija\, interaktivnih ekrana\, testova znanja i reflektivnih vježbi. Za pohađanje ovog kursa prijavilo se 36 kandidata\, i to: 11 sudija\, 2 kandidata za sudiju\, 11 savjetnika iz sudova\, 3 savjetnika iz tužilaštava\, 2 pripravnika iz sudova\, 3 savjetnika iz Ministarstva pravde\, ljudskih i manjinskih prava i 4 advokata. \n 
URL:https://cosdt.me/seminar/prezentacija-i-pokretanje-onlajn-help-kursa-na-temu-zastita-zivotne-sredine-i-ljudska-prava/
LOCATION:Podgorica\, Montenegro
CATEGORIES:Prezentacija onlajn kursa
ATTACH;FMTTYPE=image/png:https://cosdt.me/wp-content/uploads/2022/02/HELP-Zastita-zivotne-sredine.png
GEO:42.4304196;19.2593642
END:VEVENT
END:VCALENDAR