BEGIN:VCALENDAR
VERSION:2.0
PRODID:-//COSDT - ECPv6.15.17.1//NONSGML v1.0//EN
CALSCALE:GREGORIAN
METHOD:PUBLISH
X-WR-CALNAME:COSDT
X-ORIGINAL-URL:https://cosdt.me
X-WR-CALDESC:Events for COSDT
REFRESH-INTERVAL;VALUE=DURATION:PT1H
X-Robots-Tag:noindex
X-PUBLISHED-TTL:PT1H
BEGIN:VTIMEZONE
TZID:Europe/Podgorica
BEGIN:DAYLIGHT
TZOFFSETFROM:+0100
TZOFFSETTO:+0200
TZNAME:CEST
DTSTART:20220327T010000
END:DAYLIGHT
BEGIN:STANDARD
TZOFFSETFROM:+0200
TZOFFSETTO:+0100
TZNAME:CET
DTSTART:20221030T010000
END:STANDARD
BEGIN:DAYLIGHT
TZOFFSETFROM:+0100
TZOFFSETTO:+0200
TZNAME:CEST
DTSTART:20230326T010000
END:DAYLIGHT
BEGIN:STANDARD
TZOFFSETFROM:+0200
TZOFFSETTO:+0100
TZNAME:CET
DTSTART:20231029T010000
END:STANDARD
BEGIN:DAYLIGHT
TZOFFSETFROM:+0100
TZOFFSETTO:+0200
TZNAME:CEST
DTSTART:20240331T010000
END:DAYLIGHT
BEGIN:STANDARD
TZOFFSETFROM:+0200
TZOFFSETTO:+0100
TZNAME:CET
DTSTART:20241027T010000
END:STANDARD
END:VTIMEZONE
BEGIN:VEVENT
DTSTART;VALUE=DATE:20230918
DTEND;VALUE=DATE:20230921
DTSTAMP:20260426T040348
CREATED:20230115T211513Z
LAST-MODIFIED:20230119T123744Z
UID:9407-1694995200-1695254399@cosdt.me
SUMMARY:Obuka za predavače - vještine prenošenja znanja
DESCRIPTION:– Obuke za predavače – vještine prenošenja znanja. \nVrijeme potrebno za izvodjenje programa Najmanje jedan trening za trenere (ToT – tri modula)\nKorisnici: Sudije\, državni tužioci. \nPredavači: \nDatum održavanja: I modul – 18-19-20. septembar 2023.g.\n		          II modul – 23-24-25. oktobar 2023.g.\n		          III modul – 27-28-29. novembar 2023.g.
URL:https://cosdt.me/seminar/ix-modul-zajednicke-teme-za-nosioce-pravosudne-funkcije-obuke-za-predavace-vjestine-prenosenja-znanja/
LOCATION:Podgorica\, Montenegro
CATEGORIES:Obuke
GEO:42.4304196;19.2593642
END:VEVENT
BEGIN:VEVENT
DTSTART;VALUE=DATE:20230922
DTEND;VALUE=DATE:20230923
DTSTAMP:20260426T040348
CREATED:20230115T184520Z
LAST-MODIFIED:20231005T105845Z
UID:9291-1695340800-1695427199@cosdt.me
SUMMARY:MTN i korišćenje dokaza pribavljenih njihovom primjenom (trajanje\, produženje\, itd) i zaštita podataka o ličnosti i tajnih podataka
DESCRIPTION:Vrijeme potrebno za izvođenje programa: Jedan dvodnevni seminar\nKorisnici: Sudije\, državni tužioci\, eventualno advokati. \nPredavači:  \nDatum održavanja: 21-22. septembar 2023.g.
URL:https://cosdt.me/seminar/i-modul-krivicno-pravna-oblast-mtn-i-koriscenje-dokaza-pribavljenih-njihovom-primjenom-trajanje-produzenje-itd-i-zastita-podataka-o-licnosti-i-tajnih-podataka/
LOCATION:Podgorica\, Montenegro
CATEGORIES:Obuke
GEO:42.4304196;19.2593642
END:VEVENT
END:VCALENDAR