BEGIN:VCALENDAR
VERSION:2.0
PRODID:-//COSDT - ECPv6.15.17.1//NONSGML v1.0//EN
CALSCALE:GREGORIAN
METHOD:PUBLISH
X-WR-CALNAME:COSDT
X-ORIGINAL-URL:https://cosdt.me
X-WR-CALDESC:Events for COSDT
REFRESH-INTERVAL;VALUE=DURATION:PT1H
X-Robots-Tag:noindex
X-PUBLISHED-TTL:PT1H
BEGIN:VTIMEZONE
TZID:Europe/Podgorica
BEGIN:DAYLIGHT
TZOFFSETFROM:+0100
TZOFFSETTO:+0200
TZNAME:CEST
DTSTART:20220327T010000
END:DAYLIGHT
BEGIN:STANDARD
TZOFFSETFROM:+0200
TZOFFSETTO:+0100
TZNAME:CET
DTSTART:20221030T010000
END:STANDARD
BEGIN:DAYLIGHT
TZOFFSETFROM:+0100
TZOFFSETTO:+0200
TZNAME:CEST
DTSTART:20230326T010000
END:DAYLIGHT
BEGIN:STANDARD
TZOFFSETFROM:+0200
TZOFFSETTO:+0100
TZNAME:CET
DTSTART:20231029T010000
END:STANDARD
BEGIN:DAYLIGHT
TZOFFSETFROM:+0100
TZOFFSETTO:+0200
TZNAME:CEST
DTSTART:20240331T010000
END:DAYLIGHT
BEGIN:STANDARD
TZOFFSETFROM:+0200
TZOFFSETTO:+0100
TZNAME:CET
DTSTART:20241027T010000
END:STANDARD
END:VTIMEZONE
BEGIN:VEVENT
DTSTART;VALUE=DATE:20231109
DTEND;VALUE=DATE:20231111
DTSTAMP:20260426T060217
CREATED:20230115T203033Z
LAST-MODIFIED:20231013T110354Z
UID:9368-1699488000-1699660799@cosdt.me
SUMMARY:- Sporna pitanja u primjeni Zakona o upravnom postupku (sa akcentom na upravne ugovore);    - Sporna pitanja u primjeni Zakona o upravnom sporu;    - Primjena Zakona o slobodnom pristupu informacijama;    - Poresko pravo (primjena Zakona o PDV-u i drugih zakona iz ove oblasti);    - Zakon o izgradnji objekata i planiranje prostora;   - Zaštita podataka o ličnosti;   - Prava azilanata
DESCRIPTION:Vrijeme potrebno za izvođenje programa: Jedna konferencija/obuka nacionalnog/regionalnog karaktera u trajanju od najmanje dva dana ili 2 obuke. Pored toga predviđeno je učešće sudija Upravnog suda na drugim obukama iz Programa za kontinuiranu obuku na teme koje su im relevantne.  \nKorisnici: Sudije. \nPredavači: \nDatum održavanja: 8-9-10. novembar 2023.g.
URL:https://cosdt.me/seminar/iv-modul-upravno-pravna-oblast-sporna-pitanja-u-primjeni-zakona-o-upravnom-postupku-sa-akcentom-na-upravne-ugovore-sporna-pitanja-u-primjeni-zakona-o-upravnom-sporu-primjena-zakona-o/
LOCATION:Podgorica\, Montenegro
CATEGORIES:Obuke
GEO:42.4304196;19.2593642
END:VEVENT
BEGIN:VEVENT
DTSTART;VALUE=DATE:20231115
DTEND;VALUE=DATE:20231116
DTSTAMP:20260426T060217
CREATED:20230115T192112Z
LAST-MODIFIED:20231013T110427Z
UID:9326-1700006400-1700092799@cosdt.me
SUMMARY:Pranje novca
DESCRIPTION:Vrijeme potrebno za izvođenje programa: Jedan seminar\nKorisnici: Sudije\, državni tužioci. \nPredavači:  \nDatum održavanja: 14-15. novembar 2023.g.
URL:https://cosdt.me/seminar/i-modul-krivicno-pravna-oblast-pranje-novca/
LOCATION:Podgorica\, Montenegro
CATEGORIES:Obuke
GEO:42.4304196;19.2593642
END:VEVENT
BEGIN:VEVENT
DTSTART;VALUE=DATE:20231116
DTEND;VALUE=DATE:20231118
DTSTAMP:20260426T060217
CREATED:20230115T185440Z
LAST-MODIFIED:20231005T110037Z
UID:9300-1700092800-1700265599@cosdt.me
SUMMARY:Sporazum o priznanju krivice
DESCRIPTION:Vrijeme potrebno za izvođenje programa: Jedan jednodnevni seminar\nKorisnici: Sudije\, državni tužioci\, eventualno advokati. \nPredavači: \nDatum održavanja: 19-20. oktobar 2023.g.
URL:https://cosdt.me/seminar/i-modul-krivicno-pravna-oblast-sporazum-o-priznanju-krivice/
LOCATION:Podgorica\, Montenegro
CATEGORIES:Obuke
GEO:42.4304196;19.2593642
END:VEVENT
BEGIN:VEVENT
DTSTART;VALUE=DATE:20231124
DTEND;VALUE=DATE:20231125
DTSTAMP:20260426T060217
CREATED:20230115T191931Z
LAST-MODIFIED:20231120T121505Z
UID:9324-1700784000-1700870399@cosdt.me
SUMMARY:Korupcija u javnom sektoru sa osvrtom na Krivična djela protiv platnog prometa i privrednog poslovanja
DESCRIPTION:Vrijeme potrebno za izvođenje programa: Jedan seminar\nKorisnici: Sudije\, državni tužioci. \nPredavači: \nDatum održavanja: 23-24. novembar 2023.g.
URL:https://cosdt.me/seminar/i-modul-krivicno-pravna-oblast-korupcija-u-javnom-sektoru-sa-osvrtom-na-krivicna-djela-protiv-platnog-prometa-i-privrednog-poslovanja/
LOCATION:Podgorica\, Montenegro
CATEGORIES:Obuke
GEO:42.4304196;19.2593642
END:VEVENT
BEGIN:VEVENT
DTSTART;VALUE=DATE:20231127
DTEND;VALUE=DATE:20231130
DTSTAMP:20260426T060217
CREATED:20230115T211744Z
LAST-MODIFIED:20230119T122841Z
UID:9411-1701043200-1701302399@cosdt.me
SUMMARY:Obuka za predavače - vještine prenošenja znanja
DESCRIPTION:Vrijeme potrebno za izvodjenje programa Najmanje jedan trening za trenere (ToT – tri modula)\nKorisnici: Sudije\, državni tužioci. \nPredavači: \nDatum održavanja: I modul – 18-19-20. septembar 2023.g.\n		          II modul – 23-24-25. oktobar 2023.g.\n		          III modul – 27-28-29. novembar 2023.g.
URL:https://cosdt.me/seminar/ix-modul-zajednicke-teme-za-nosioce-pravosudne-funkcije-obuke-za-predavace-vjestine-prenosenja-znanja-3/
LOCATION:Podgorica\, Montenegro
CATEGORIES:Obuke
GEO:42.4304196;19.2593642
END:VEVENT
BEGIN:VEVENT
DTSTART;VALUE=DATE:20231201
DTEND;VALUE=DATE:20231202
DTSTAMP:20260426T060217
CREATED:20230115T191429Z
LAST-MODIFIED:20230119T122817Z
UID:9318-1701388800-1701475199@cosdt.me
SUMMARY:Terorizam\, borci u inostranstvu i  učestvovanje u stranim oružanim formacijama
DESCRIPTION:Vrijeme potrebno za izvođenje programa: Jedan jednodnevni seminar\nKorisnici: Sudije\, državni tužioci. \nPredavači: \nDatum održavanja: 1. decembar 2023.g.
URL:https://cosdt.me/seminar/i-modul-krivicno-pravna-oblast-terorizam-borci-u-inostranstvu-i-ucestvovanje-u-stranim-oruzanim-formacijama/
LOCATION:Podgorica\, Montenegro
CATEGORIES:Obuke
GEO:42.4304196;19.2593642
END:VEVENT
BEGIN:VEVENT
DTSTART;VALUE=DATE:20231205
DTEND;VALUE=DATE:20231206
DTSTAMP:20260426T060217
CREATED:20230115T201609Z
LAST-MODIFIED:20230119T122758Z
UID:9354-1701734400-1701820799@cosdt.me
SUMMARY:Nasljedno pravo – nasljednička tužba i sudska praksa
DESCRIPTION:Vrijeme potrebno za izvođenje programa: Jedan seminar\nKorisnici: Sudije  \nPredavači: \nDatum održavanja: 5. decembar 2023.g.
URL:https://cosdt.me/seminar/ii-modul-gradansko-pravna-oblast-nasljedno-pravo-nasljednicka-tuzba-i-sudska-praksa/
LOCATION:Podgorica\, Montenegro
CATEGORIES:Obuke
GEO:42.4304196;19.2593642
END:VEVENT
END:VCALENDAR