BEGIN:VCALENDAR
VERSION:2.0
PRODID:-//COSDT - ECPv6.15.17.1//NONSGML v1.0//EN
CALSCALE:GREGORIAN
METHOD:PUBLISH
X-WR-CALNAME:COSDT
X-ORIGINAL-URL:https://cosdt.me
X-WR-CALDESC:Events for COSDT
REFRESH-INTERVAL;VALUE=DURATION:PT1H
X-Robots-Tag:noindex
X-PUBLISHED-TTL:PT1H
BEGIN:VTIMEZONE
TZID:Europe/Podgorica
BEGIN:DAYLIGHT
TZOFFSETFROM:+0100
TZOFFSETTO:+0200
TZNAME:CEST
DTSTART:20170326T010000
END:DAYLIGHT
BEGIN:STANDARD
TZOFFSETFROM:+0200
TZOFFSETTO:+0100
TZNAME:CET
DTSTART:20171029T010000
END:STANDARD
BEGIN:DAYLIGHT
TZOFFSETFROM:+0100
TZOFFSETTO:+0200
TZNAME:CEST
DTSTART:20180325T010000
END:DAYLIGHT
BEGIN:STANDARD
TZOFFSETFROM:+0200
TZOFFSETTO:+0100
TZNAME:CET
DTSTART:20181028T010000
END:STANDARD
BEGIN:DAYLIGHT
TZOFFSETFROM:+0100
TZOFFSETTO:+0200
TZNAME:CEST
DTSTART:20190331T010000
END:DAYLIGHT
BEGIN:STANDARD
TZOFFSETFROM:+0200
TZOFFSETTO:+0100
TZNAME:CET
DTSTART:20191027T010000
END:STANDARD
BEGIN:DAYLIGHT
TZOFFSETFROM:+0100
TZOFFSETTO:+0200
TZNAME:CEST
DTSTART:20200329T010000
END:DAYLIGHT
BEGIN:STANDARD
TZOFFSETFROM:+0200
TZOFFSETTO:+0100
TZNAME:CET
DTSTART:20201025T010000
END:STANDARD
BEGIN:DAYLIGHT
TZOFFSETFROM:+0100
TZOFFSETTO:+0200
TZNAME:CEST
DTSTART:20210328T010000
END:DAYLIGHT
BEGIN:STANDARD
TZOFFSETFROM:+0200
TZOFFSETTO:+0100
TZNAME:CET
DTSTART:20211031T010000
END:STANDARD
END:VTIMEZONE
BEGIN:VEVENT
DTSTART;TZID=Europe/Podgorica:20201030T080000
DTEND;TZID=Europe/Podgorica:20201030T170000
DTSTAMP:20260424T205719
CREATED:20201030T130657Z
LAST-MODIFIED:20201030T130657Z
UID:6307-1604044800-1604077200@cosdt.me
SUMMARY:Inicijalna obuka: realizovan petodnevni modul iz stvarnog prava
DESCRIPTION:– 30. oktobar 2020. godine\, u Podgorici\, u organizaciji Centra za obuku u sudstvu i državnom tužilastvu\, a u okviru realizacije teorijskog dijela Programa inicijalne obuke za kadidate/tkinje za sudije\, održana predavanja u okviru petog dana obuke na modulu V  iz građanskopravne oblasti\, čije teme su: „Svojina i modaliteti prava svojine sa više subjekata; sticanje prava svojine na nepokretnostima; državina; tužbe za zaštitu svojine i državine; Zakon o državnom premjeru i katastru nepokretnosti“. Predavač je g.din Moidrag Pešić\, sudija Višeg suda u Podgorici\, a modulu je prisustvovalo devet kandidata/tkinja za sudiju.
URL:https://cosdt.me/seminar/inicijalna-obuka-realizovan-petodnevni-modul-iz-stvarnog-prava/
LOCATION:Podgorica\, Montenegro
CATEGORIES:Obuke
ATTACH;FMTTYPE=image/jpeg:https://cosdt.me/wp-content/uploads/2020/10/sajt.jpg
END:VEVENT
BEGIN:VEVENT
DTSTART;VALUE=DATE:20201026
DTEND;VALUE=DATE:20201028
DTSTAMP:20260424T205719
CREATED:20201012T094014Z
LAST-MODIFIED:20201019T074419Z
UID:6148-1603670400-1603843199@cosdt.me
SUMMARY:Obuka na temu: Komunikacija u kriznim situacijama
DESCRIPTION:Obuka na temu: Komunikacija u kriznim situacijama
URL:https://cosdt.me/seminar/obuka-na-temu-komunikacija-u-kriznim-situacijama/
LOCATION:Podgorica\, Montenegro
CATEGORIES:Obuke
END:VEVENT
BEGIN:VEVENT
DTSTART;VALUE=DATE:20200909
DTEND;VALUE=DATE:20200912
DTSTAMP:20260424T205719
CREATED:20200127T084905Z
LAST-MODIFIED:20200127T084905Z
UID:5412-1599609600-1599868799@cosdt.me
SUMMARY:Obuke za predavače (ToT) - vještine prenošenja znanja
DESCRIPTION:Obuke za predavače (ToT) – vještine prenošenja znanja
URL:https://cosdt.me/seminar/obuke-za-predavace-tot-vjestine-prenosenja-znanja-3/
LOCATION:Podgorica\, Montenegro
CATEGORIES:Obuke
END:VEVENT
BEGIN:VEVENT
DTSTART;VALUE=DATE:20200721
DTEND;VALUE=DATE:20200723
DTSTAMP:20260424T205719
CREATED:20200610T060311Z
LAST-MODIFIED:20200610T060311Z
UID:5703-1595289600-1595462399@cosdt.me
SUMMARY:Obuka savjetnika
DESCRIPTION:Obuka savjetnika
URL:https://cosdt.me/seminar/obuka-savjetnika-2/
LOCATION:Podgorica\, Montenegro
CATEGORIES:Obuke
END:VEVENT
BEGIN:VEVENT
DTSTART;VALUE=DATE:20200716
DTEND;VALUE=DATE:20200718
DTSTAMP:20260424T205719
CREATED:20200610T060239Z
LAST-MODIFIED:20200610T060239Z
UID:5700-1594857600-1595030399@cosdt.me
SUMMARY:Obuka savjetnika
DESCRIPTION:Obuka savjetnika
URL:https://cosdt.me/seminar/obuka-savjetnika/
LOCATION:Podgorica\, Montenegro
CATEGORIES:Obuke
END:VEVENT
BEGIN:VEVENT
DTSTART;VALUE=DATE:20200608
DTEND;VALUE=DATE:20200611
DTSTAMP:20260424T205719
CREATED:20200127T084742Z
LAST-MODIFIED:20200608T124911Z
UID:5409-1591574400-1591833599@cosdt.me
SUMMARY:Trening za predavače
DESCRIPTION:Trening za predavače
URL:https://cosdt.me/seminar/obuke-za-predavace-tot-vjestine-prenosenja-znanja-2/
LOCATION:Podgorica\, Montenegro
CATEGORIES:Obuke
END:VEVENT
BEGIN:VEVENT
DTSTART;VALUE=DATE:20200422
DTEND;VALUE=DATE:20200425
DTSTAMP:20260424T205719
CREATED:20200127T084659Z
LAST-MODIFIED:20200127T084659Z
UID:5406-1587513600-1587772799@cosdt.me
SUMMARY:Obuke za predavače (ToT) - vještine prenošenja znanja
DESCRIPTION:Obuke za predavače (ToT) – vještine prenošenja znanja
URL:https://cosdt.me/seminar/obuke-za-predavace-tot-vjestine-prenosenja-znanja/
LOCATION:Podgorica\, Montenegro
CATEGORIES:Obuke
END:VEVENT
BEGIN:VEVENT
DTSTART;VALUE=DATE:20191024
DTEND;VALUE=DATE:20191026
DTSTAMP:20260424T205719
CREATED:20191008T115340Z
LAST-MODIFIED:20191008T115340Z
UID:4910-1571875200-1572047999@cosdt.me
SUMMARY:Radionica o izvršenju medjunarodnih prodajnih ugovora
DESCRIPTION:Radionica o izvršenju medjunarodnih prodajnih ugovora
URL:https://cosdt.me/seminar/radionica-o-izvrsenju-medjunarodnih-prodajnih-ugovora/
LOCATION:Podgorica\, Montenegro
CATEGORIES:Obuke
END:VEVENT
BEGIN:VEVENT
DTSTART;TZID=Europe/Podgorica:20191016T080000
DTEND;TZID=Europe/Podgorica:20191016T170000
DTSTAMP:20260424T205719
CREATED:20191016T134612Z
LAST-MODIFIED:20191016T134612Z
UID:4961-1571212800-1571245200@cosdt.me
SUMMARY:Realizovan modul o postupanju prema maloljetnicima u prekršajnom postupku
DESCRIPTION:– 16. oktobar 2019. godine\, u Podgorici\, u organizaciji Centra za obuku u sudstvu i državnom tužilastvu\, a u okviru realizacije teorijskog dijela Programa inicijalne obuke za kandidate za sudije za prekršaje\, održan četvrti dan obuke iz modula (VI)\, a teme obuke su: »Postupak prema maloljetnicima: posebni izazovi i razvijanje vještina za djelotvoran rad sa maloljetnim licima kao učesnicima u prekršajnom postupku; forenzčki intervju». Predavač na modulu je Danka Ivanović Đerić\, državna tužiteljka u Višem državnom tužilaštvu u Podgorici\, a modulu je prisustvovalo četiri kandidata/tkinje za sudiju za prekršaje.
URL:https://cosdt.me/seminar/realizovan-modul-o-postupanju-prema-maloljetnicima-u-prekrsajnom-postupku/
LOCATION:Podgorica\, Montenegro
CATEGORIES:Obuke
ATTACH;FMTTYPE=image/jpeg:https://cosdt.me/wp-content/uploads/2019/10/for.jpg
END:VEVENT
BEGIN:VEVENT
DTSTART;TZID=Europe/Podgorica:20191016T080000
DTEND;TZID=Europe/Podgorica:20191016T170000
DTSTAMP:20260424T205719
CREATED:20191016T134110Z
LAST-MODIFIED:20191016T134110Z
UID:4958-1571212800-1571245200@cosdt.me
SUMMARY:Inicijalna obuka: realizovan modul o postupanju sa maloljetnicima u prekršajnom postupku
DESCRIPTION:– 16. oktobar 2019. godine\, u Podgorici\, u organizaciji Centra za obuku u sudstvu i državnom tužilastvu\, a u okviru realizacije teorijskog dijela Programa inicijalne obuke za kandidate za sudije za prekršaje\, održan četvrti dan obuke iz modula (VI)\, a teme obuke su: »Postupak prema maloljetnicima: posebni izazovi i razvijanje vještina za djelotvoran rad sa maloljetnim licima kao učesnicima u prekršajnom postupku; forenzčki intervju». Predavač na modulu je Danka Ivanović Đerić\, državna tužiteljka u Višem državnom tužilaštvu u Podgorici\, a modulu je prisustvovalo četiri kandidata/tkinje za sudiju za prekršaje.
URL:https://cosdt.me/seminar/inicijalna-obuka-realizovan-modul-o-postupanju-sa-maloljetnicima-u-prekrsajnom-postupku/
LOCATION:Podgorica\, Montenegro
CATEGORIES:Obuke
ATTACH;FMTTYPE=image/jpeg:https://cosdt.me/wp-content/uploads/2019/10/for.jpg
END:VEVENT
BEGIN:VEVENT
DTSTART;VALUE=DATE:20190702
DTEND;VALUE=DATE:20190705
DTSTAMP:20260424T205719
CREATED:20190531T074218Z
LAST-MODIFIED:20190531T074218Z
UID:4378-1562025600-1562284799@cosdt.me
SUMMARY:Obuka pripravnika
DESCRIPTION:Obuka pripravnika \nPodgorica\, hotel Verde
URL:https://cosdt.me/seminar/obuka-pripravnika/
LOCATION:Podgorica\, Podgorica\, Montenegro
CATEGORIES:Obuke
END:VEVENT
BEGIN:VEVENT
DTSTART;VALUE=DATE:20190626
DTEND;VALUE=DATE:20190628
DTSTAMP:20260424T205719
CREATED:20190531T072923Z
LAST-MODIFIED:20190531T072923Z
UID:4360-1561507200-1561679999@cosdt.me
SUMMARY:Obuka na temu: "Unapređenje i jačanje institucionalnog i pravnog okvira u oblasti javnih nabavki i državne pomoći"
DESCRIPTION:Obuka na temu: “Unapređenje i jačanje institucionalnog i pravnog okvira u oblasti javnih nabavki i državne pomoći”
URL:https://cosdt.me/seminar/obuka-na-temu-unapredenje-i-jacanje-institucionalnog-i-pravnog-okvira-u-oblasti-javnih-nabavki-i-drzavne-pomoci/
LOCATION:Kolasin\, Kolasin\, Montenegro
CATEGORIES:Obuke
END:VEVENT
BEGIN:VEVENT
DTSTART;VALUE=DATE:20190625
DTEND;VALUE=DATE:20190627
DTSTAMP:20260424T205719
CREATED:20190531T072808Z
LAST-MODIFIED:20190531T081109Z
UID:4358-1561420800-1561593599@cosdt.me
SUMMARY:Obuka u okviru Programa obuke o međunarodnoj pravosudnoj saradnji na temu Konvencije o gradjansko-pravnim aspektima medjunarodne otmice djece
DESCRIPTION:Obuka u okviru Programa obuke o međunarodnoj pravosudnoj saradnji na temu Konvencije o gradjansko-pravnim aspektima medjunarodne otmice djece
URL:https://cosdt.me/seminar/obuka-u-okviru-programa-obuke-o-medunarodnoj-pravosudnoj-saradnji-posvecena-gradjansko-pravnom-aspektu-na-temu-otmica-djece/
LOCATION:Podgorica\, Podgorica\, Montenegro
CATEGORIES:Obuke
END:VEVENT
BEGIN:VEVENT
DTSTART;VALUE=DATE:20190624
DTEND;VALUE=DATE:20190627
DTSTAMP:20260424T205719
CREATED:20190531T080928Z
LAST-MODIFIED:20190531T080928Z
UID:4386-1561334400-1561593599@cosdt.me
SUMMARY:Obuka pripravnika
DESCRIPTION:Obuka pripravnika \nPodgorica\, hotel Verde
URL:https://cosdt.me/seminar/obuka-pripravnika-5/
LOCATION:Podgorica\, Montenegro
CATEGORIES:Obuke
END:VEVENT
BEGIN:VEVENT
DTSTART;VALUE=DATE:20190613
DTEND;VALUE=DATE:20190615
DTSTAMP:20260424T205719
CREATED:20190531T072457Z
LAST-MODIFIED:20190531T072457Z
UID:4354-1560384000-1560556799@cosdt.me
SUMMARY:Regionalna obuka na temu: ''Zahtijevanje i izvršavanje stranih sudskih odluka u krivičnim predmetima u Bosni i Hercegovini\, Republici Srbiji i Crnoj Gori“
DESCRIPTION:Regionalna obuka na temu: “Zahtijevanje i izvršavanje stranih sudskih odluka u krivičnim predmetima u Bosni i Hercegovini\, Republici Srbiji i Crnoj Gori”
URL:https://cosdt.me/seminar/regionalna-obuka-na-temu-zahtijevanje-i-izvrsavanje-stranih-sudskih-odluka-u-krivicnim-predmetima-u-bosni-i-hercegovini-republici-srbiji-i-crnoj-gori/
LOCATION:Budva\, Budva\, Montenegro
CATEGORIES:Obuke
END:VEVENT
BEGIN:VEVENT
DTSTART;VALUE=DATE:20190612
DTEND;VALUE=DATE:20190615
DTSTAMP:20260424T205719
CREATED:20190531T080739Z
LAST-MODIFIED:20190531T080739Z
UID:4384-1560297600-1560556799@cosdt.me
SUMMARY:Obuka pripravnika
DESCRIPTION:Obuka pripravnika \nPodgorica\, hotel Verde
URL:https://cosdt.me/seminar/obuka-pripravnika-4/
LOCATION:Podgorica\, Podgorica\, Montenegro
CATEGORIES:Obuke
END:VEVENT
BEGIN:VEVENT
DTSTART;VALUE=DATE:20190610
DTEND;VALUE=DATE:20190613
DTSTAMP:20260424T205719
CREATED:20190531T072100Z
LAST-MODIFIED:20190531T072100Z
UID:4349-1560124800-1560383999@cosdt.me
SUMMARY:III Modul obuke za predavače
DESCRIPTION:Petrovac \nIII Modul obuke za predavače
URL:https://cosdt.me/seminar/iii-modul-obuke-za-predavace/
LOCATION:Petrovac\, Montenegro\, Petrovac\, Montenegro
CATEGORIES:Obuke
END:VEVENT
BEGIN:VEVENT
DTSTART;VALUE=DATE:20190610
DTEND;VALUE=DATE:20190612
DTSTAMP:20260424T205719
CREATED:20190531T071742Z
LAST-MODIFIED:20190531T071742Z
UID:4346-1560124800-1560297599@cosdt.me
SUMMARY:Obuka na temu '' Zaštita od nasilja u porodici sa akcentom na Istanbulsku konvenciju“
DESCRIPTION:Podgorica \nObuka na temu ” Zaštita od nasilja u porodici sa akcentom na Istanbulsku konvenciju“
URL:https://cosdt.me/seminar/obuka-na-temu-zastita-od-nasilja-u-porodici-sa-akcentom-na-istanbulsku-konvenciju/
LOCATION:Podgorica\, Montenegro
CATEGORIES:Obuke
END:VEVENT
BEGIN:VEVENT
DTSTART;VALUE=DATE:20190604
DTEND;VALUE=DATE:20190607
DTSTAMP:20260424T205719
CREATED:20190531T080626Z
LAST-MODIFIED:20190531T080626Z
UID:4382-1559606400-1559865599@cosdt.me
SUMMARY:Obuka pripravnika
DESCRIPTION:Obuka pripravnika \nPodgorica\, hotel Verde
URL:https://cosdt.me/seminar/obuka-pripravnika-3/
LOCATION:Podgorica\, Podgorica\, Montenegro
CATEGORIES:Obuke
END:VEVENT
BEGIN:VEVENT
DTSTART;VALUE=DATE:20190228
DTEND;VALUE=DATE:20190302
DTSTAMP:20260424T205719
CREATED:20190206T071307Z
LAST-MODIFIED:20190206T071307Z
UID:3774-1551312000-1551484799@cosdt.me
SUMMARY:Obezbjeđenje dokaza i forenzička vještačenja (uviđaj\, DNK vještačenja\, PEH)
DESCRIPTION:Obezbjeđenje dokaza i forenzička vještačenja \n(uviđaj\, DNK vještačenja\, PEH) \nHotel Ramada\, Podgorica
URL:https://cosdt.me/seminar/obezbjedenje-dokaza-i-forenzicka-vjestacenja-uvidaj-dnk-vjestacenja-peh/
LOCATION:Podgorica\, Montenegro
CATEGORIES:Obuke
END:VEVENT
BEGIN:VEVENT
DTSTART;VALUE=DATE:20190225
DTEND;VALUE=DATE:20190226
DTSTAMP:20260424T205719
CREATED:20190204T124335Z
LAST-MODIFIED:20190204T124335Z
UID:3767-1551052800-1551139199@cosdt.me
SUMMARY:Prethodno ispitivanje tužbe\, preinačenje tužbe i kumulacija tužbenih zahtjeva
DESCRIPTION:Prethodno ispitivanje tužbe\, preinačenje tužbe i kumulacija tužbenih zahtjeva\, Podgorica\, hotel Ramada
URL:https://cosdt.me/seminar/prethodno-ispitivanje-tuzbe-preinacenje-tuzbe-i-kumulacija-tuzbenih-zahtjeva/
LOCATION:Podgorica\, Montenegro
CATEGORIES:Obuke
END:VEVENT
BEGIN:VEVENT
DTSTART;VALUE=DATE:20190220
DTEND;VALUE=DATE:20190221
DTSTAMP:20260424T205719
CREATED:20190204T124233Z
LAST-MODIFIED:20190204T124233Z
UID:3764-1550620800-1550707199@cosdt.me
SUMMARY:Pritvor sa aspekta EKLJP i prakse ESLJP
DESCRIPTION:Pritvor sa aspekta EKLJP i prakse ESLJP – Podgorica\, hotel Ramada
URL:https://cosdt.me/seminar/pritvor-sa-aspekta-ekljp-i-prakse-esljp/
LOCATION:Podgorica Hotel ramada\, Podgorica\, Montenegro
CATEGORIES:Obuke
END:VEVENT
BEGIN:VEVENT
DTSTART;VALUE=DATE:20181217
DTEND;VALUE=DATE:20181220
DTSTAMP:20260424T205719
CREATED:20180711T110014Z
LAST-MODIFIED:20180727T082105Z
UID:2867-1545004800-1545263999@cosdt.me
SUMMARY:Program obuke za pripravnike u sudovima i državnim tužilaštvima - Krivično pravna oblast
DESCRIPTION:Program obuke za pripravnike u sudovima i državnim tužilaštvima – Krivično pravna oblast
URL:https://cosdt.me/seminar/program-obuke-za-pripravnike-u-sudovima-i-drzavnim-tuzilastvima-krivicno-pravna-oblast-4/
LOCATION:podgorica\, Podgorica\, Montenegro
CATEGORIES:Obuke
END:VEVENT
BEGIN:VEVENT
DTSTART;VALUE=DATE:20181210
DTEND;VALUE=DATE:20181213
DTSTAMP:20260424T205719
CREATED:20180711T105930Z
LAST-MODIFIED:20180711T105930Z
UID:2864-1544400000-1544659199@cosdt.me
SUMMARY:Program obuke za pripravnike u sudovima i državnim tužilaštvima - Krivično pravna oblast
DESCRIPTION:Program obuke za pripravnike u sudovima i državnim tužilaštvima – Krivično pravna oblast
URL:https://cosdt.me/seminar/program-obuke-za-pripravnike-u-sudovima-i-drzavnim-tuzilastvima-krivicno-pravna-oblast-3/
LOCATION:Podgorica\, Montenegro
CATEGORIES:Obuke
END:VEVENT
BEGIN:VEVENT
DTSTART;VALUE=DATE:20181122
DTEND;VALUE=DATE:20181124
DTSTAMP:20260424T205719
CREATED:20181026T100017Z
LAST-MODIFIED:20181026T100017Z
UID:3448-1542844800-1543017599@cosdt.me
SUMMARY:Obuka mentora
DESCRIPTION:Obuka mentora
URL:https://cosdt.me/seminar/obuka-mentora/
LOCATION:Podgorica\, Montenegro
CATEGORIES:Obuke
END:VEVENT
BEGIN:VEVENT
DTSTART;TZID=Europe/Podgorica:20181026T080000
DTEND;TZID=Europe/Podgorica:20181026T170000
DTSTAMP:20260424T205719
CREATED:20181026T123637Z
LAST-MODIFIED:20181026T123637Z
UID:3459-1540540800-1540573200@cosdt.me
SUMMARY:Kontinuirana obuka: Pravna regulative i politika zaštite konkurencije
DESCRIPTION:– 24.\, 25. i 26. oktobar 2018. godine – Podgorica\, Centar za obuku u sudstvu i Državnom tužilaštvu\,  u saradnji sa IDLO\, međunarodnom organizacijom iz Rima\, organizovao je seminar na temu „Pravna regulative i politika zaštite konkurencije”. Cilj seminara je bio unapredjenje znanja i razmjena iskustva sudija kada je u pitanju oblast zaštite konkurencije. U ime organizatora prisutne učesnike su pozdravile gđa Senka Danilović\, predsjednica Upravnog odbora Centra za obuku u sudstvu i državnom tužilaštvu\, gđa Nina Bukilić iz IDLO i Lepa Aleksić\, v.d.direktora Agencije za zaštitu konkurencije pozdravila učesnike konkurencije. Predavači na seminaru su bili stručnjaci kada je ova oblast u pitanju\, i to: Gianluca Sepe\, italijanski ekspert\, Miloš Andrović\, ekspert u oblasti politike konkurencije i Maja Živaljević\, sutkinja Suda za prekršaje Podgorica. Predavači su govorili na sledeće konkretne teme: Politika konkurencije u kontekstu Crne Gore; Institucije\, regulativa\, politika; Pojam sporazuma; Studija slučaja – horizontalni sporazumi; Studija slučaja – vertikalni sporazumi; Definicija tržišta i tržišna moć;Dominacija i zloupotreba; Eksploatatorske zloupotrebe; Zloupotreba isključivanjem konkurenata sa tržišta: studija slučaja\, Član 8 Zakona o zaštiti konkurencije; studije slučaja horizontalnih sporazuma; Kvantifikovanje novčanih kazni za zloupotrebu dominantnog položaja (antitrust) u Evropi; Sudsko razmatranje novčanih kazni za zloupotrebu dominantnog položaja (antitrust);Obezbjeđivanje prava na odbranu. \nSeminaru je prisustvovalo 12 učesnika\, od čega 3 sudije i 9 savjetnika iz sudova.
URL:https://cosdt.me/seminar/kontinuirana-obuka-pravna-regulative-i-politika-zastite-konkurencije/
LOCATION:Podgorica\, Montenegro
CATEGORIES:Obuke
ATTACH;FMTTYPE=image/jpeg:https://cosdt.me/wp-content/uploads/2018/10/IMG-8072919ea42acf187fa06d05a8a9eea5-V.jpg
END:VEVENT
BEGIN:VEVENT
DTSTART;VALUE=DATE:20181023
DTEND;VALUE=DATE:20181024
DTSTAMP:20260424T205719
CREATED:20180711T105213Z
LAST-MODIFIED:20180711T105213Z
UID:2843-1540252800-1540339199@cosdt.me
SUMMARY:Obuka na temu:  Zločini iz mržnje
DESCRIPTION:Obuka na temu:  Zločini iz mržnje
URL:https://cosdt.me/seminar/obuka-na-temu-zlocini-iz-mrznje-2/
LOCATION:Podgorica\, Montenegro
CATEGORIES:Obuke
END:VEVENT
BEGIN:VEVENT
DTSTART;VALUE=DATE:20181016
DTEND;VALUE=DATE:20181019
DTSTAMP:20260424T205719
CREATED:20180711T104924Z
LAST-MODIFIED:20180711T104924Z
UID:2834-1539648000-1539907199@cosdt.me
SUMMARY:Program obuke za pripravnike u sudovima i državnim tužilaštvima - Gradjansko pravna oblast  - Procesno pravne teme
DESCRIPTION:Program obuke za pripravnike u sudovima i državnim tužilaštvima – Gradjansko pravna oblast  – Procesno pravne teme
URL:https://cosdt.me/seminar/program-obuke-za-pripravnike-u-sudovima-i-drzavnim-tuzilastvima-gradjansko-pravna-oblast-procesno-pravne-teme-4/
LOCATION:Podgorica\, Montenegro
CATEGORIES:Obuke
END:VEVENT
BEGIN:VEVENT
DTSTART;VALUE=DATE:20181009
DTEND;VALUE=DATE:20181012
DTSTAMP:20260424T205719
CREATED:20180711T104247Z
LAST-MODIFIED:20180711T104247Z
UID:2825-1539043200-1539302399@cosdt.me
SUMMARY:Program obuke za pripravnike u sudovima i državnim tužilaštvima - Gradjansko pravna oblast  - Procesno pravne teme
DESCRIPTION:Program obuke za pripravnike u sudovima i državnim tužilaštvima – Gradjansko pravna oblast  – Procesno pravne teme
URL:https://cosdt.me/seminar/program-obuke-za-pripravnike-u-sudovima-i-drzavnim-tuzilastvima-gradjansko-pravna-oblast-procesno-pravne-teme-3/
LOCATION:Podgorica\, Montenegro
CATEGORIES:Obuke
END:VEVENT
BEGIN:VEVENT
DTSTART;VALUE=DATE:20180918
DTEND;VALUE=DATE:20180919
DTSTAMP:20260424T205719
CREATED:20180711T103510Z
LAST-MODIFIED:20180711T103510Z
UID:2801-1537228800-1537315199@cosdt.me
SUMMARY:Obuka na temu:  Zločini iz mržnje
DESCRIPTION:Obuka na temu:  Zločini iz mržnje
URL:https://cosdt.me/seminar/obuka-na-temu-zlocini-iz-mrznje/
LOCATION:Podgorica\, Montenegro
CATEGORIES:Obuke
END:VEVENT
END:VCALENDAR