BEGIN:VCALENDAR
VERSION:2.0
PRODID:-//COSDT - ECPv6.15.17.1//NONSGML v1.0//EN
CALSCALE:GREGORIAN
METHOD:PUBLISH
X-ORIGINAL-URL:https://cosdt.me
X-WR-CALDESC:Events for COSDT
REFRESH-INTERVAL;VALUE=DURATION:PT1H
X-Robots-Tag:noindex
X-PUBLISHED-TTL:PT1H
BEGIN:VTIMEZONE
TZID:Europe/Podgorica
BEGIN:DAYLIGHT
TZOFFSETFROM:+0100
TZOFFSETTO:+0200
TZNAME:CEST
DTSTART:20220327T010000
END:DAYLIGHT
BEGIN:STANDARD
TZOFFSETFROM:+0200
TZOFFSETTO:+0100
TZNAME:CET
DTSTART:20221030T010000
END:STANDARD
BEGIN:DAYLIGHT
TZOFFSETFROM:+0100
TZOFFSETTO:+0200
TZNAME:CEST
DTSTART:20230326T010000
END:DAYLIGHT
BEGIN:STANDARD
TZOFFSETFROM:+0200
TZOFFSETTO:+0100
TZNAME:CET
DTSTART:20231029T010000
END:STANDARD
BEGIN:DAYLIGHT
TZOFFSETFROM:+0100
TZOFFSETTO:+0200
TZNAME:CEST
DTSTART:20240331T010000
END:DAYLIGHT
BEGIN:STANDARD
TZOFFSETFROM:+0200
TZOFFSETTO:+0100
TZNAME:CET
DTSTART:20241027T010000
END:STANDARD
END:VTIMEZONE
BEGIN:VEVENT
DTSTART;VALUE=DATE:20230601
DTEND;VALUE=DATE:20230603
DTSTAMP:20260426T053922
CREATED:20230115T200153Z
LAST-MODIFIED:20230119T124642Z
UID:9338-1685577600-1685750399@cosdt.me
SUMMARY:-  Zakon o parničnom postupku i aktuelna pitanja i dileme koje se javljaju pri njegovoj praktičnoj primjeni (primjena načela dispozicije stranaka nasuprot načela utvrđivanja materijalne istine; Prethodno ispitivanje tužbe; Sporna pitanja u vezi suparničara; Objektivna kumulacija tužbenih zahtjeva)
DESCRIPTION:Vrijeme potrebno za izvođenje programa: Najmanje dva seminara;\nKorisnici: Sudije\, eventualno advokati\, notari i javni izvržitelji. \nPredavači: \nDatum održavanja: 1-2. jun 2023.g.
URL:https://cosdt.me/seminar/ii-modul-gradansko-pravna-oblast-zakon-o-parnicnom-postupku-i-aktuelna-pitanja-i-dileme-koje-se-javljaju-pri-njegovoj-prakticnoj-primjeni-primjena-nacela-dispozicije-stranaka-nasuprot-nacela-utvr/
LOCATION:Podgorica\, Montenegro
CATEGORIES:Obuke
GEO:42.4304196;19.2593642
END:VEVENT
BEGIN:VEVENT
DTSTART;VALUE=DATE:20230606
DTEND;VALUE=DATE:20230608
DTSTAMP:20260426T053922
CREATED:20230115T185137Z
LAST-MODIFIED:20230119T124605Z
UID:9295-1686009600-1686182399@cosdt.me
SUMMARY:- Finansijska istraga i forenzičko računovodstvo;   - Oduzimanje imovinske koristi stečene kriminalnom djelatnošću (Zakon o oduzimanju imovinske koristi stečene kriminalnom djelatnošću)
DESCRIPTION:Vrijeme potrebno za izvođenje programa: Najmanje dva dvodnevna seminara\nKorisnici: Sudije\, državni tužioci\, predstavnici državnih organa. \nPredavači: \nDatumi održavanja: 6-7. jun 2023.g.\n			3-4. oktobar 2023.g.
URL:https://cosdt.me/seminar/i-modul-krivicno-pravna-oblast-finansijska-istraga-i-forenzicko-racunovodstvo-oduzimanje-imovinske-koristi-stecene-kriminalnom-djelatnoscu-zakon-o-oduzimanju-imovinske-koristi-stecene-krimina/
LOCATION:Podgorica\, Montenegro
CATEGORIES:Obuke
GEO:42.4304196;19.2593642
END:VEVENT
BEGIN:VEVENT
DTSTART;VALUE=DATE:20230612
DTEND;VALUE=DATE:20230614
DTSTAMP:20260426T053922
CREATED:20230115T184125Z
LAST-MODIFIED:20230119T124536Z
UID:9287-1686528000-1686700799@cosdt.me
SUMMARY:Forenzička vještačenja i Zakon o DNK registru
DESCRIPTION:Vrijeme potrebno za izvođenje programa: Jedan dvodnevni seminar\nKorisnici: Sudije\, državni tužioci. \nPredavači: \nDatum održavanja: 12-13. jun 2023.g.
URL:https://cosdt.me/seminar/i-modul-krivicno-pravna-oblast-forenzicka-vjestacenja-i-zakon-o-dnk-registru/
LOCATION:Podgorica\, Montenegro
CATEGORIES:Obuke
GEO:42.4304196;19.2593642
END:VEVENT
END:VCALENDAR