BEGIN:VCALENDAR
VERSION:2.0
PRODID:-//COSDT - ECPv6.15.17.1//NONSGML v1.0//EN
CALSCALE:GREGORIAN
METHOD:PUBLISH
X-ORIGINAL-URL:https://cosdt.me
X-WR-CALDESC:Events for COSDT
REFRESH-INTERVAL;VALUE=DURATION:PT1H
X-Robots-Tag:noindex
X-PUBLISHED-TTL:PT1H
BEGIN:VTIMEZONE
TZID:Europe/Podgorica
BEGIN:DAYLIGHT
TZOFFSETFROM:+0100
TZOFFSETTO:+0200
TZNAME:CEST
DTSTART:20240331T010000
END:DAYLIGHT
BEGIN:STANDARD
TZOFFSETFROM:+0200
TZOFFSETTO:+0100
TZNAME:CET
DTSTART:20241027T010000
END:STANDARD
BEGIN:DAYLIGHT
TZOFFSETFROM:+0100
TZOFFSETTO:+0200
TZNAME:CEST
DTSTART:20250330T010000
END:DAYLIGHT
BEGIN:STANDARD
TZOFFSETFROM:+0200
TZOFFSETTO:+0100
TZNAME:CET
DTSTART:20251026T010000
END:STANDARD
BEGIN:DAYLIGHT
TZOFFSETFROM:+0100
TZOFFSETTO:+0200
TZNAME:CEST
DTSTART:20260329T010000
END:DAYLIGHT
BEGIN:STANDARD
TZOFFSETFROM:+0200
TZOFFSETTO:+0100
TZNAME:CET
DTSTART:20261025T010000
END:STANDARD
END:VTIMEZONE
BEGIN:VEVENT
DTSTART;VALUE=DATE:20250627
DTEND;VALUE=DATE:20250629
DTSTAMP:20260424T093657
CREATED:20250313T114454Z
LAST-MODIFIED:20250313T114454Z
UID:11179-1750982400-1751155199@cosdt.me
SUMMARY:Zakon o obligacionim odnosima (ZOO)
DESCRIPTION:•	Posljedice neizvršenja ugovora sa akcentom na naknadu štete zbog neizvršenja ugovora\n•	Ugovor o građenju\n•	Ugovor o doživotnom izdržavanju\n•	Naknada štete sa akcentom na nematerijalnu štetu zbog povrede prava ličnosti\n•	Rokovi zastarjelosti\n•	Kamata \nVrijeme potrebno za izvođenje programa:\nNajmanje jedna jednodnevna obuka\nKorisnici: sudije\, notari\nPredavači:\nRadojka Nikolić\, sutkinja Vrhovnog suda CG\nMladen Grdinić\, predsjednik Privrednog suda CG\nKatarina Đurđić\, sutkinja Vrhovnog suda CG\nBiljana Krgović\, sutkinja Višeg suda u Podgorici\nNađa Todorović\, sutkinja Višeg suda u Podgorici
URL:https://cosdt.me/seminar/zakon-o-obligacionim-odnosima-zoo/
LOCATION:Podgorica\, Montenegro
GEO:42.4304196;19.2593642
END:VEVENT
END:VCALENDAR