BEGIN:VCALENDAR
VERSION:2.0
PRODID:-//COSDT - ECPv6.15.17.1//NONSGML v1.0//EN
CALSCALE:GREGORIAN
METHOD:PUBLISH
X-ORIGINAL-URL:https://cosdt.me
X-WR-CALDESC:Events for COSDT
REFRESH-INTERVAL;VALUE=DURATION:PT1H
X-Robots-Tag:noindex
X-PUBLISHED-TTL:PT1H
BEGIN:VTIMEZONE
TZID:Europe/Podgorica
BEGIN:DAYLIGHT
TZOFFSETFROM:+0100
TZOFFSETTO:+0200
TZNAME:CEST
DTSTART:20240331T010000
END:DAYLIGHT
BEGIN:STANDARD
TZOFFSETFROM:+0200
TZOFFSETTO:+0100
TZNAME:CET
DTSTART:20241027T010000
END:STANDARD
BEGIN:DAYLIGHT
TZOFFSETFROM:+0100
TZOFFSETTO:+0200
TZNAME:CEST
DTSTART:20250330T010000
END:DAYLIGHT
BEGIN:STANDARD
TZOFFSETFROM:+0200
TZOFFSETTO:+0100
TZNAME:CET
DTSTART:20251026T010000
END:STANDARD
BEGIN:DAYLIGHT
TZOFFSETFROM:+0100
TZOFFSETTO:+0200
TZNAME:CEST
DTSTART:20260329T010000
END:DAYLIGHT
BEGIN:STANDARD
TZOFFSETFROM:+0200
TZOFFSETTO:+0100
TZNAME:CET
DTSTART:20261025T010000
END:STANDARD
END:VTIMEZONE
BEGIN:VEVENT
DTSTART;VALUE=DATE:20250613
DTEND;VALUE=DATE:20250615
DTSTAMP:20260424T093708
CREATED:20250313T112708Z
LAST-MODIFIED:20250313T112708Z
UID:11155-1749772800-1749945599@cosdt.me
SUMMARY:Pritvor i mjere obezbjeđenja
DESCRIPTION:•	Pisanje predloga za određivanje i produženje pritvora\n•	Praksa ESLJP u vezi sa pritvorskim osnovima\n•	Izuzeće sudije koji je odlučivao o pritvoru i mjerama bezbjednosti \nVrijeme potrebno za izvođenje programa:\nJedna dvodnevna obuka\nKorisnici: Sudije\, državni tužioci.\nPredavači:\nMiraš Radović\, sudija Vrhovnog suda Crne Gore u penziji\nMilenka Seka Žižić\, sutkinja Vrhovnog suda Crne Gore\nVesna Kovačević\, sutkinja Višeg suda u Podgorica
URL:https://cosdt.me/seminar/pritvor-i-mjere-obezbjedenja/
LOCATION:Podgorica\, Montenegro
GEO:42.4304196;19.2593642
END:VEVENT
BEGIN:VEVENT
DTSTART;VALUE=DATE:20250613
DTEND;VALUE=DATE:20250615
DTSTAMP:20260424T093708
CREATED:20250313T120809Z
LAST-MODIFIED:20250313T120809Z
UID:11207-1749772800-1749945599@cosdt.me
SUMMARY:Evropska konvencija za zaštitu ljudskih prava i osnovnih sloboda - EKLJP
DESCRIPTION:Član 5 – pravo na slobodu i bezbjednost ličnosti sa akcentom na praksu ESLJP u odnosu na lišenje slobode i pritvor; \nVrijeme potrebno za izvođenje programa:\nJedan dvodnodnevni seminar\nPredavači:\nValentina Pavličić\, predsjednica Vrhovnog suda Crne Gore\nMiraš Radović\, sudija Vrhovnog suda CG u penziji\nMiloš Šoškić\, državni tužilac\,  Specijalno državno tužilaštvo
URL:https://cosdt.me/seminar/evropska-konvencija-za-zastitu-ljudskih-prava-i-osnovnih-sloboda-ekljp-2/
LOCATION:Podgorica\, Montenegro
GEO:42.4304196;19.2593642
END:VEVENT
END:VCALENDAR