BEGIN:VCALENDAR
VERSION:2.0
PRODID:-//COSDT - ECPv6.15.17.1//NONSGML v1.0//EN
CALSCALE:GREGORIAN
METHOD:PUBLISH
X-WR-CALNAME:COSDT
X-ORIGINAL-URL:https://cosdt.me
X-WR-CALDESC:Events for COSDT
REFRESH-INTERVAL;VALUE=DURATION:PT1H
X-Robots-Tag:noindex
X-PUBLISHED-TTL:PT1H
BEGIN:VTIMEZONE
TZID:Europe/Podgorica
BEGIN:DAYLIGHT
TZOFFSETFROM:+0100
TZOFFSETTO:+0200
TZNAME:CEST
DTSTART:20240331T010000
END:DAYLIGHT
BEGIN:STANDARD
TZOFFSETFROM:+0200
TZOFFSETTO:+0100
TZNAME:CET
DTSTART:20241027T010000
END:STANDARD
BEGIN:DAYLIGHT
TZOFFSETFROM:+0100
TZOFFSETTO:+0200
TZNAME:CEST
DTSTART:20250330T010000
END:DAYLIGHT
BEGIN:STANDARD
TZOFFSETFROM:+0200
TZOFFSETTO:+0100
TZNAME:CET
DTSTART:20251026T010000
END:STANDARD
BEGIN:DAYLIGHT
TZOFFSETFROM:+0100
TZOFFSETTO:+0200
TZNAME:CEST
DTSTART:20260329T010000
END:DAYLIGHT
BEGIN:STANDARD
TZOFFSETFROM:+0200
TZOFFSETTO:+0100
TZNAME:CET
DTSTART:20261025T010000
END:STANDARD
END:VTIMEZONE
BEGIN:VEVENT
DTSTART;VALUE=DATE:20250609
DTEND;VALUE=DATE:20250611
DTSTAMP:20260424T094104
CREATED:20250313T114236Z
LAST-MODIFIED:20250313T114236Z
UID:11175-1749427200-1749599999@cosdt.me
SUMMARY:Procesno pravo – ZPP
DESCRIPTION:•	dokazivanje i teret dokazivanja\n•	zloupotreba procesnih prava\n•	rasprava pred drugostepenim sudom sa izradom odlukaizrada i vrste sudskih odluka \nVrijeme potrebno za izvođenje programa:\nJedna dvodnevna obuka\nKorisnici: sudije\nPredavači:\nSrđan Vujović\, sudija Apelacionog suda Crne Gore\nNataša Božović\, sutkinja Vrhovnog suda CG\nRadojka Nikolić\, sutkinja Vrhovnog suda CG\nSanja Konatar\, sutkinja Višeg suda u Bijelom Polju
URL:https://cosdt.me/seminar/procesno-pravo-zpp/
LOCATION:Podgorica\, Montenegro
GEO:42.4304196;19.2593642
END:VEVENT
END:VCALENDAR