BEGIN:VCALENDAR
VERSION:2.0
PRODID:-//COSDT - ECPv6.15.17.1//NONSGML v1.0//EN
CALSCALE:GREGORIAN
METHOD:PUBLISH
X-ORIGINAL-URL:https://cosdt.me
X-WR-CALDESC:Events for COSDT
REFRESH-INTERVAL;VALUE=DURATION:PT1H
X-Robots-Tag:noindex
X-PUBLISHED-TTL:PT1H
BEGIN:VTIMEZONE
TZID:Europe/Podgorica
BEGIN:DAYLIGHT
TZOFFSETFROM:+0100
TZOFFSETTO:+0200
TZNAME:CEST
DTSTART:20240331T010000
END:DAYLIGHT
BEGIN:STANDARD
TZOFFSETFROM:+0200
TZOFFSETTO:+0100
TZNAME:CET
DTSTART:20241027T010000
END:STANDARD
BEGIN:DAYLIGHT
TZOFFSETFROM:+0100
TZOFFSETTO:+0200
TZNAME:CEST
DTSTART:20250330T010000
END:DAYLIGHT
BEGIN:STANDARD
TZOFFSETFROM:+0200
TZOFFSETTO:+0100
TZNAME:CET
DTSTART:20251026T010000
END:STANDARD
BEGIN:DAYLIGHT
TZOFFSETFROM:+0100
TZOFFSETTO:+0200
TZNAME:CEST
DTSTART:20260329T010000
END:DAYLIGHT
BEGIN:STANDARD
TZOFFSETFROM:+0200
TZOFFSETTO:+0100
TZNAME:CET
DTSTART:20261025T010000
END:STANDARD
END:VTIMEZONE
BEGIN:VEVENT
DTSTART;VALUE=DATE:20250506
DTEND;VALUE=DATE:20250508
DTSTAMP:20260424T110501
CREATED:20250313T111651Z
LAST-MODIFIED:20250313T111651Z
UID:11139-1746489600-1746662399@cosdt.me
SUMMARY:Krivični aspekt prava intelektualne svojine
DESCRIPTION:•	Zakonodavni okvir za zaštitu intelektualne svojine\n•	Prekršajne odredbe Zakona o autorskom i srodnim pravima i drugih zakona\n•	Krivična djela protiv intelektualne svojine – pravni izazovi zaštite intelektualne svojine \nVrijeme potrebno za izvođenje programa:\nJedna dvodnevna obuka\nKorisnici: sudije za prekršaje\, sudije redovnih sudova\, državni tužioci i policijski službenici\nPredavači:\nRadovan Đurišić\, rukovodilac Osnovnog državnog tužilaštva u Baru\nMaja Živaljević\, sutkinja Višeg suda za prekršaje
URL:https://cosdt.me/seminar/krivicni-aspekt-prava-intelektualne-svojine/
LOCATION:Podgorica\, Montenegro
GEO:42.4304196;19.2593642
END:VEVENT
END:VCALENDAR