BEGIN:VCALENDAR
VERSION:2.0
PRODID:-//COSDT - ECPv6.15.17.1//NONSGML v1.0//EN
CALSCALE:GREGORIAN
METHOD:PUBLISH
X-ORIGINAL-URL:https://cosdt.me
X-WR-CALDESC:Events for COSDT
REFRESH-INTERVAL;VALUE=DURATION:PT1H
X-Robots-Tag:noindex
X-PUBLISHED-TTL:PT1H
BEGIN:VTIMEZONE
TZID:Europe/Podgorica
BEGIN:DAYLIGHT
TZOFFSETFROM:+0100
TZOFFSETTO:+0200
TZNAME:CEST
DTSTART:20230326T010000
END:DAYLIGHT
BEGIN:STANDARD
TZOFFSETFROM:+0200
TZOFFSETTO:+0100
TZNAME:CET
DTSTART:20231029T010000
END:STANDARD
BEGIN:DAYLIGHT
TZOFFSETFROM:+0100
TZOFFSETTO:+0200
TZNAME:CEST
DTSTART:20240331T010000
END:DAYLIGHT
BEGIN:STANDARD
TZOFFSETFROM:+0200
TZOFFSETTO:+0100
TZNAME:CET
DTSTART:20241027T010000
END:STANDARD
BEGIN:DAYLIGHT
TZOFFSETFROM:+0100
TZOFFSETTO:+0200
TZNAME:CEST
DTSTART:20250330T010000
END:DAYLIGHT
BEGIN:STANDARD
TZOFFSETFROM:+0200
TZOFFSETTO:+0100
TZNAME:CET
DTSTART:20251026T010000
END:STANDARD
END:VTIMEZONE
BEGIN:VEVENT
DTSTART;TZID=Europe/Podgorica:20240627T080000
DTEND;TZID=Europe/Podgorica:20240628T170000
DTSTAMP:20260425T035345
CREATED:20240305T112216Z
LAST-MODIFIED:20240305T112216Z
UID:10348-1719475200-1719594000@cosdt.me
SUMMARY:Prekršajno pravo
DESCRIPTION:TEME:\nprocesno pravne teme:\nOpšti instituti i sporna pitanja u primjeni Zakona o prekršajima (ispitivanje zahtjeva za sudsko odlučivanje i ispitivanje uslova za vođenje prekršajnog postupka);\nShodna primjena Zakonika o krivičnom postupku;\nNasilje u porodici/porodičnoj zajednici (zaštita žrtve);\nPisanje i izrada odluka u prekršajnom postupku; \nb) Materijalno prave teme:\nSporna pitanja u primjeni sljedećih zakona:\nZakona o zaštiti od nasilja u porodici\,\nZakona o javnom redu i miru\,\nZakona o PDV-u;\nZakona o inspekcijskom nadzoru;\nCarinskog zakona;\nZakona o zabrani diskriminacije;\nZakon o radnom vremenu i pauzama u toku radnog vremena mobilnih radnika i uređajima za evidentiranje u drumskom prevozu;\n-Praksa Ustavnog suda po ustavnoj žalbu u prekršajnim predmetima
URL:https://cosdt.me/seminar/prekrsajno-pravo/
LOCATION:Podgorica\, Podgorica\, Montenegro
END:VEVENT
END:VCALENDAR