BEGIN:VCALENDAR
VERSION:2.0
PRODID:-//COSDT - ECPv6.15.17.1//NONSGML v1.0//EN
CALSCALE:GREGORIAN
METHOD:PUBLISH
X-ORIGINAL-URL:https://cosdt.me
X-WR-CALDESC:Events for COSDT
REFRESH-INTERVAL;VALUE=DURATION:PT1H
X-Robots-Tag:noindex
X-PUBLISHED-TTL:PT1H
BEGIN:VTIMEZONE
TZID:Europe/Podgorica
BEGIN:DAYLIGHT
TZOFFSETFROM:+0100
TZOFFSETTO:+0200
TZNAME:CEST
DTSTART:20230326T010000
END:DAYLIGHT
BEGIN:STANDARD
TZOFFSETFROM:+0200
TZOFFSETTO:+0100
TZNAME:CET
DTSTART:20231029T010000
END:STANDARD
BEGIN:DAYLIGHT
TZOFFSETFROM:+0100
TZOFFSETTO:+0200
TZNAME:CEST
DTSTART:20240331T010000
END:DAYLIGHT
BEGIN:STANDARD
TZOFFSETFROM:+0200
TZOFFSETTO:+0100
TZNAME:CET
DTSTART:20241027T010000
END:STANDARD
BEGIN:DAYLIGHT
TZOFFSETFROM:+0100
TZOFFSETTO:+0200
TZNAME:CEST
DTSTART:20250330T010000
END:DAYLIGHT
BEGIN:STANDARD
TZOFFSETFROM:+0200
TZOFFSETTO:+0100
TZNAME:CET
DTSTART:20251026T010000
END:STANDARD
END:VTIMEZONE
BEGIN:VEVENT
DTSTART;TZID=Europe/Podgorica:20240604T080000
DTEND;TZID=Europe/Podgorica:20240604T170000
DTSTAMP:20260425T035346
CREATED:20240305T114201Z
LAST-MODIFIED:20240305T114201Z
UID:10369-1717488000-1717520400@cosdt.me
SUMMARY:Poštovanje i ograničenje ljudskih prava u vanrednim okolnostima
DESCRIPTION:
URL:https://cosdt.me/seminar/postovanje-i-ogranicenje-ljudskih-prava-u-vanrednim-okolnostima/
LOCATION:Podgorica\, Podgorica\, Montenegro
END:VEVENT
END:VCALENDAR