BEGIN:VCALENDAR
VERSION:2.0
PRODID:-//COSDT - ECPv6.15.17.1//NONSGML v1.0//EN
CALSCALE:GREGORIAN
METHOD:PUBLISH
X-WR-CALNAME:COSDT
X-ORIGINAL-URL:https://cosdt.me
X-WR-CALDESC:Events for COSDT
REFRESH-INTERVAL;VALUE=DURATION:PT1H
X-Robots-Tag:noindex
X-PUBLISHED-TTL:PT1H
BEGIN:VTIMEZONE
TZID:Europe/Podgorica
BEGIN:DAYLIGHT
TZOFFSETFROM:+0100
TZOFFSETTO:+0200
TZNAME:CEST
DTSTART:20220327T010000
END:DAYLIGHT
BEGIN:STANDARD
TZOFFSETFROM:+0200
TZOFFSETTO:+0100
TZNAME:CET
DTSTART:20221030T010000
END:STANDARD
BEGIN:DAYLIGHT
TZOFFSETFROM:+0100
TZOFFSETTO:+0200
TZNAME:CEST
DTSTART:20230326T010000
END:DAYLIGHT
BEGIN:STANDARD
TZOFFSETFROM:+0200
TZOFFSETTO:+0100
TZNAME:CET
DTSTART:20231029T010000
END:STANDARD
BEGIN:DAYLIGHT
TZOFFSETFROM:+0100
TZOFFSETTO:+0200
TZNAME:CEST
DTSTART:20240331T010000
END:DAYLIGHT
BEGIN:STANDARD
TZOFFSETFROM:+0200
TZOFFSETTO:+0100
TZNAME:CET
DTSTART:20241027T010000
END:STANDARD
END:VTIMEZONE
BEGIN:VEVENT
DTSTART;VALUE=DATE:20230706
DTEND;VALUE=DATE:20230708
DTSTAMP:20260425T215225
CREATED:20230115T205118Z
LAST-MODIFIED:20230119T124004Z
UID:9384-1688601600-1688774399@cosdt.me
SUMMARY:Član 10 – Sloboda izražavanja
DESCRIPTION:Vrijeme potrebno za izvođenje programa:\nNajmanje jedan seminar koji će se sprovesti u okviru zajedničkog projekta Evropske unije i Saveta Evrope pod nazivom “Jačanje pravosudne ekpertize o slobodi izražavanja i medija u Jugoistočnoj Evropi” – JUFREX koji je dio zajedničkog programa EU i Savjeta Evrope. \nPredavači: Treneri koji su obučeni kroz JUFREX projekat.  \nDatum održavanja: 6-7. jul 2023.g.
URL:https://cosdt.me/seminar/vi-modul-konvencijsko-pravo-evropska-konvencija-za-zastitu-ljudskih-prava-i-osnovnih-sloboda-ekljp-clan-10-sloboda-izrazavanja/
LOCATION:Podgorica\, Montenegro
CATEGORIES:Seminari
GEO:42.4304196;19.2593642
END:VEVENT
END:VCALENDAR