BEGIN:VCALENDAR
VERSION:2.0
PRODID:-//COSDT - ECPv6.15.17.1//NONSGML v1.0//EN
CALSCALE:GREGORIAN
METHOD:PUBLISH
X-ORIGINAL-URL:https://cosdt.me
X-WR-CALDESC:Events for COSDT
REFRESH-INTERVAL;VALUE=DURATION:PT1H
X-Robots-Tag:noindex
X-PUBLISHED-TTL:PT1H
BEGIN:VTIMEZONE
TZID:Europe/Podgorica
BEGIN:DAYLIGHT
TZOFFSETFROM:+0100
TZOFFSETTO:+0200
TZNAME:CEST
DTSTART:20220327T010000
END:DAYLIGHT
BEGIN:STANDARD
TZOFFSETFROM:+0200
TZOFFSETTO:+0100
TZNAME:CET
DTSTART:20221030T010000
END:STANDARD
BEGIN:DAYLIGHT
TZOFFSETFROM:+0100
TZOFFSETTO:+0200
TZNAME:CEST
DTSTART:20230326T010000
END:DAYLIGHT
BEGIN:STANDARD
TZOFFSETFROM:+0200
TZOFFSETTO:+0100
TZNAME:CET
DTSTART:20231029T010000
END:STANDARD
BEGIN:DAYLIGHT
TZOFFSETFROM:+0100
TZOFFSETTO:+0200
TZNAME:CEST
DTSTART:20240331T010000
END:DAYLIGHT
BEGIN:STANDARD
TZOFFSETFROM:+0200
TZOFFSETTO:+0100
TZNAME:CET
DTSTART:20241027T010000
END:STANDARD
END:VTIMEZONE
BEGIN:VEVENT
DTSTART;VALUE=DATE:20230626
DTEND;VALUE=DATE:20230628
DTSTAMP:20260425T214947
CREATED:20230115T203523Z
LAST-MODIFIED:20230622T074927Z
UID:9371-1687737600-1687910399@cosdt.me
SUMMARY:Konferencija sudija za prekršaje
DESCRIPTION:TEME:\n Procesno pravne teme:\n–	Opšti instituti i sporna pitanja u primjeni Zakona o prekršajima;\n–	Shodna primjena Zakona o krivičnom postupku;\n–	Troškovi prekršajnog postupka;\n–	Nasilje u porodici/porodičnoj zajednici (zaštita žrtve);\n–    Dokazna sredstva;\n–    Pisanje i izrada odluka u prekršajnom postupku \nMaterijalno pravne teme:\n–	Sporna pitanja u primjeni sljedećih zakona:\n–	Zakona o zaštiti od nasilja u porodici\,\n–	Zakona o javnom redu i miru\,\n–	Zakona o PDV-u;\n–	Zakona o inspekcijskom nadzoru;\n–	Carinskog zakona;\n–	Zakona o zabrani diskriminacije;\n–	Praksa Ustavnog suda po ustavnoj žalbu u prekršajnim predmetima; \nVrijeme potrebno za izvođenje programa\nDva seminara ili 3-dnevna Konferencija na predložene teme. Pored toga predviđeno je  učešće sudija za prekršaje na drugim obukama iz Programa za kontinuiranu obuku na teme koje su njima od značaja. \nKorisnici: Sudije\, predstavnici državnih organa. \nPredavači: \nDatum održavanja: 26-27. jun 2023.g.
URL:https://cosdt.me/seminar/v-modul-prekrsajno-pravo-teme-procesno-pravne-teme-i-materijalno-prave-teme/
LOCATION:Podgorica\, Montenegro
CATEGORIES:Seminari
GEO:42.4304196;19.2593642
END:VEVENT
END:VCALENDAR