BEGIN:VCALENDAR
VERSION:2.0
PRODID:-//COSDT - ECPv6.15.17.1//NONSGML v1.0//EN
CALSCALE:GREGORIAN
METHOD:PUBLISH
X-WR-CALNAME:COSDT
X-ORIGINAL-URL:https://cosdt.me
X-WR-CALDESC:Events for COSDT
REFRESH-INTERVAL;VALUE=DURATION:PT1H
X-Robots-Tag:noindex
X-PUBLISHED-TTL:PT1H
BEGIN:VTIMEZONE
TZID:Europe/Podgorica
BEGIN:DAYLIGHT
TZOFFSETFROM:+0100
TZOFFSETTO:+0200
TZNAME:CEST
DTSTART:20220327T010000
END:DAYLIGHT
BEGIN:STANDARD
TZOFFSETFROM:+0200
TZOFFSETTO:+0100
TZNAME:CET
DTSTART:20221030T010000
END:STANDARD
BEGIN:DAYLIGHT
TZOFFSETFROM:+0100
TZOFFSETTO:+0200
TZNAME:CEST
DTSTART:20230326T010000
END:DAYLIGHT
BEGIN:STANDARD
TZOFFSETFROM:+0200
TZOFFSETTO:+0100
TZNAME:CET
DTSTART:20231029T010000
END:STANDARD
BEGIN:DAYLIGHT
TZOFFSETFROM:+0100
TZOFFSETTO:+0200
TZNAME:CEST
DTSTART:20240331T010000
END:DAYLIGHT
BEGIN:STANDARD
TZOFFSETFROM:+0200
TZOFFSETTO:+0100
TZNAME:CET
DTSTART:20241027T010000
END:STANDARD
END:VTIMEZONE
BEGIN:VEVENT
DTSTART;VALUE=DATE:20230526
DTEND;VALUE=DATE:20230527
DTSTAMP:20260426T010736
CREATED:20230115T184324Z
LAST-MODIFIED:20230119T124826Z
UID:9289-1685059200-1685145599@cosdt.me
SUMMARY:Pritvor i alternative pritvoru u smislu člana 5 EKLJP
DESCRIPTION:Vrijeme potrebno za izvođenje programa: Jedan jednodnevni seminar\nKorisnici: Sudije\, državni tužioci. \nPredavači: \nDatum održavanja: 26. maj 2023.g.
URL:https://cosdt.me/seminar/i-modul-krivicno-pravna-oblast-pritvor-i-alternative-pritvoru-u-smislu-clana-5-ekljp/
LOCATION:Podgorica\, Montenegro
CATEGORIES:Obuke
GEO:42.4304196;19.2593642
END:VEVENT
BEGIN:VEVENT
DTSTART;VALUE=DATE:20230526
DTEND;VALUE=DATE:20230527
DTSTAMP:20260426T010736
CREATED:20230115T204457Z
LAST-MODIFIED:20230119T124747Z
UID:9378-1685059200-1685145599@cosdt.me
SUMMARY:Član 5 – pravo na slobodu i bezbjednost ličnosti
DESCRIPTION:Vrijeme potrebno za izvođenje programa: Jedan dvodnodnevni seminar \nPredavači: \nDatum održavanja: (26. maj -spojen sa seminarom o pritvoru i alternativama pritvoru)
URL:https://cosdt.me/seminar/vi-modul-konvencijsko-pravo-evropska-konvencija-za-zastitu-ljudskih-prava-i-osnovnih-sloboda-ekljp-clan-5-pravo-na-slobodu-i-bezbjednost-licnosti/
LOCATION:Podgorica\, Montenegro
CATEGORIES:Seminari
GEO:42.4304196;19.2593642
END:VEVENT
END:VCALENDAR