BEGIN:VCALENDAR
VERSION:2.0
PRODID:-//COSDT - ECPv6.15.17.1//NONSGML v1.0//EN
CALSCALE:GREGORIAN
METHOD:PUBLISH
X-ORIGINAL-URL:https://cosdt.me
X-WR-CALDESC:Events for COSDT
REFRESH-INTERVAL;VALUE=DURATION:PT1H
X-Robots-Tag:noindex
X-PUBLISHED-TTL:PT1H
BEGIN:VTIMEZONE
TZID:Europe/Podgorica
BEGIN:DAYLIGHT
TZOFFSETFROM:+0100
TZOFFSETTO:+0200
TZNAME:CEST
DTSTART:20220327T010000
END:DAYLIGHT
BEGIN:STANDARD
TZOFFSETFROM:+0200
TZOFFSETTO:+0100
TZNAME:CET
DTSTART:20221030T010000
END:STANDARD
BEGIN:DAYLIGHT
TZOFFSETFROM:+0100
TZOFFSETTO:+0200
TZNAME:CEST
DTSTART:20230326T010000
END:DAYLIGHT
BEGIN:STANDARD
TZOFFSETFROM:+0200
TZOFFSETTO:+0100
TZNAME:CET
DTSTART:20231029T010000
END:STANDARD
BEGIN:DAYLIGHT
TZOFFSETFROM:+0100
TZOFFSETTO:+0200
TZNAME:CEST
DTSTART:20240331T010000
END:DAYLIGHT
BEGIN:STANDARD
TZOFFSETFROM:+0200
TZOFFSETTO:+0100
TZNAME:CET
DTSTART:20241027T010000
END:STANDARD
END:VTIMEZONE
BEGIN:VEVENT
DTSTART;VALUE=DATE:20230516
DTEND;VALUE=DATE:20230518
DTSTAMP:20260426T010555
CREATED:20230115T210330Z
LAST-MODIFIED:20230119T124931Z
UID:9396-1684195200-1684367999@cosdt.me
SUMMARY:- Obuke o sistemu disciplinske odgovornosti sudija i državnih tužilaca u skladu sa novinama u Zakonu o Sudskom savjetu i sudijama i Zakonu o državnom tužilaštvu;    - Jačanje integriteta i etički kodeksi sudija i tužilaca kao i članova Sudskog i Tužilačkog savjeta;
DESCRIPTION:Vrijeme potrebno za izvođenje programa: Dva jednodnevna seminara\nKorisnici: Sudije i državni tužioci. \nPredavači: \nDatum održavanja: 16-17. maj 2023.g.
URL:https://cosdt.me/seminar/ix-modul-zajednicke-teme-za-nosioce-pravosudne-funkcije-obuke-o-sistemu-disciplinske-odgovornosti-sudija-i-drzavnih-tuzilaca-u-skladu-sa-novinama-u-zakonu-o-sudskom-savjetu-i-sudijama-i-zakonu/
LOCATION:Podgorica\, Montenegro
CATEGORIES:Seminari
GEO:42.4304196;19.2593642
END:VEVENT
END:VCALENDAR